From mboxrd@z Thu Jan 1 00:00:00 1970 Return-Path: Received: from mails.dpdk.org (mails.dpdk.org [217.70.189.124]) by inbox.dpdk.org (Postfix) with ESMTP id 6371646269 for ; Wed, 19 Feb 2025 17:36:49 +0100 (CET) Received: from mails.dpdk.org (localhost [127.0.0.1]) by mails.dpdk.org (Postfix) with ESMTP id 5D8EB42788; Wed, 19 Feb 2025 17:36:49 +0100 (CET) Received: from mail-io1-f99.google.com (mail-io1-f99.google.com [209.85.166.99]) by mails.dpdk.org (Postfix) with ESMTP id 91A6B4270A for ; Wed, 19 Feb 2025 17:36:48 +0100 (CET) Received: by mail-io1-f99.google.com with SMTP id ca18e2360f4ac-8559461c2c2so87351839f.0 for ; Wed, 19 Feb 2025 08:36:48 -0800 (PST) DKIM-Signature: v=1; a=rsa-sha256; c=relaxed/relaxed; d=iol.unh.edu; s=unh-iol; t=1739983008; x=1740587808; darn=dpdk.org; h=references:in-reply-to:cc:to:from:subject:message-id:date:from:to :cc:subject:date:message-id:reply-to; bh=gJl81oKq0nnM2JOIsFcHpprHyYE1tNIXEsVrovQgwfU=; b=NBE5hgCxCThxNGbzqTP+hBDGJsXZFSo3VIB5cYmocAbvcU9zTuEpkPLM7paQ8cn3Vi 54kY+Dwu+9b/U0gq4qZJVc1yHGVDV/Aosi+VvR1sEC51cOi1XHHq18ZEXyqR0PtzzExE wSTHTTbhJgSNl4EZZt5nZ7TkXBqYIae4Oo6bE= X-Google-DKIM-Signature: v=1; a=rsa-sha256; c=relaxed/relaxed; d=1e100.net; s=20230601; t=1739983008; x=1740587808; h=references:in-reply-to:cc:to:from:subject:message-id:date :x-gm-message-state:from:to:cc:subject:date:message-id:reply-to; bh=gJl81oKq0nnM2JOIsFcHpprHyYE1tNIXEsVrovQgwfU=; b=HS8YCyZN9YLczncr9lu4jFOYRBis9yqlYXOw9tNS10GReqXWEitmU33QNtF9/0bnCK AttjO06b+3csWMVeO969FARPGpHMaNL0bXCHBg65FO1eUaBfJ7NQ6SaVCNwAf8RtQI53 kxtrVBo5vSrqKqZHc7IVg9ozeVkMSW7hjhnBlHLOXfU5i8Q1p17Wvt/VXRQrsKxC21xj zcj4x1IA5l/OCz6YNXHZsAHB1J+/jxiTrPkc/7cJAz/j6JZcRWdcDZHDOYIqJSPCjykn cBe2eWkFzo9YlX+vJJle5wtL2aCsg4bV3DcmWQ9XoosMjpjAtJBO+jp8fseYEiC7qMqq KB1A== X-Gm-Message-State: AOJu0YwgK1f7KdHlivPbcTBK5Fo9wMz3UInnP0mwQ2dl4qhXCiVByCuM wunObnVgiUpawIAMMzH2934d8vXxZfBgRBEz1FhNvL9564nKin2vCybHWZywB6a8D42Vn39hW7D YeiH9bItU5E4dT6xkfYibWNO4UqQi/JRtUjzUASMw X-Gm-Gg: ASbGncuM3etLDW0MtmyQDKUQIEaT4p4eT1iAlSM1T3agfXOTxce7qFaIQnijMhXibjQ orXAUWNcdNM52mcdGwdutIryAnBx0w6/es4dySmFSP0U35kCL6n+scdkwcXjNDBIolu6HHR4t49 upWGfCosBB7TMRuWcfqbo5pQ5E2mKuL9dDCYMLZ20J0lyxikBVWQ9BK+aZIwBtc1I1+AsCcf6AK i2IMrCY7ALilF4eU1ElA34kYABeBprmsrFBLrYk+r+D+jCAhXwVLQtzn3ateI/AmKKLAv2038Mm aIxMvPbFiCBRaWQvPHI/ComaNRjbCQ== X-Google-Smtp-Source: AGHT+IE7+7L1ZVg5f0jF7QMG5r/UFIMhx0tOQmseu1BPkURSTRG/43MCPqTc7ldg8948mnBMD1DGX3aSXl8p X-Received: by 2002:a05:6e02:156b:b0:3d0:1633:3138 with SMTP id e9e14a558f8ab-3d2b52a0dacmr39400195ab.1.1739983007861; Wed, 19 Feb 2025 08:36:47 -0800 (PST) Received: from postal.iol.unh.edu (postal.iol.unh.edu. [132.177.123.84]) by smtp-relay.gmail.com with ESMTPS id e9e14a558f8ab-3d2853163c2sm6018895ab.25.2025.02.19.08.36.47 (version=TLS1_2 cipher=ECDHE-ECDSA-AES128-GCM-SHA256 bits=128/128); Wed, 19 Feb 2025 08:36:47 -0800 (PST) X-Relaying-Domain: iol.unh.edu Date: Wed, 19 Feb 2025 08:36:47 -0800 (PST) Message-ID: <67b6089f.050a0220.9aa80.cddeSMTPIN_ADDED_MISSING@mx.google.com> Received: from [172.21.0.5] (unknown [172.18.0.240]) by postal.iol.unh.edu (Postfix) with ESMTP id 4DBC76052471; Wed, 19 Feb 2025 11:36:47 -0500 (EST) Subject: |SUCCESS| pw151648-151650 [PATCH] [v4,3/3] app/test: add SM4 GCM tes From: dpdklab@iol.unh.edu To: Test Report Cc: dpdk-test-reports@iol.unh.edu In-Reply-To: <20250219115001.1047145-3-brian.dooley@intel.com> References: <20250219115001.1047145-3-brian.dooley@intel.com> Content-Type: text/plain X-BeenThere: test-report@dpdk.org X-Mailman-Version: 2.1.29 Precedence: list List-Id: automatic DPDK test reports List-Unsubscribe: , List-Archive: List-Post: List-Help: List-Subscribe: , Errors-To: test-report-bounces@dpdk.org Test-Label: iol-unit-amd64-testing Test-Status: SUCCESS http://dpdk.org/patch/151650 _Testing PASS_ Submitter: Brian Dooley Date: Wednesday, February 19 2025 11:50:01 DPDK git baseline: Repo:dpdk Branch: master CommitID:fd233ad17e5ffa42d50f1625165a7fce3f1cbc5f 151648-151650 --> testing pass Upstream job id: Generic-Unit-Test-DPDK#316264 Test environment and result as below: +---------------------+----------------+ | Environment | dpdk_unit_test | +=====================+================+ | CentOS Stream 10 | PASS | +---------------------+----------------+ | Debian Bullseye | PASS | +---------------------+----------------+ | CentOS Stream 9 | PASS | +---------------------+----------------+ | Debian 12 | PASS | +---------------------+----------------+ | RHEL8 | PASS | +---------------------+----------------+ | Fedora 41 | PASS | +---------------------+----------------+ | Ubuntu 20.04 | PASS | +---------------------+----------------+ | Fedora 40 (Clang) | PASS | +---------------------+----------------+ | Fedora 41 (Clang) | PASS | +---------------------+----------------+ | Fedora 40 | PASS | +---------------------+----------------+ | Ubuntu 22.04 | PASS | +---------------------+----------------+ | RHEL9 | PASS | +---------------------+----------------+ | Ubuntu 24.04 | PASS | +---------------------+----------------+ | Windows Server 2022 | PASS | +---------------------+----------------+ CentOS Stream 10 Kernel: Depends on container host Compiler: gcc 14.2.1 20241104 (Red Hat 14.2.1-6) Debian Bullseye Kernel: Depends on container host Compiler: gcc (Debian 10.2.1-6) 10.2.1 20210110 CentOS Stream 9 Kernel: Depends on container host Compiler: gcc 11.5.0 20240719 (Red Hat 11.5.0-2) Debian 12 Kernel: Depends on container host Compiler: gcc (Debian 12.2.0-14) 12.2.0 RHEL8 Kernel: Depends on container host Compiler: gcc 8.5.0 20210514 (Red Hat 8.5.0-22) Fedora 41 Kernel: Depends on container host Compiler: gcc 14.2.1 20240912 (Red Hat 14.2.1-3) Ubuntu 20.04 Kernel: Depends on container host Compiler: gcc (Ubuntu 9.4.0-1ubuntu1~20.04.2) 9.4.0 Fedora 40 (Clang) Kernel: Depends on container host Compiler: clang 18.1.8 (Fedora 18.1.8-1.fc40) Fedora 41 (Clang) Kernel: Depends on container host Compiler: clang 19.1.5 (Fedora 19.1.5-1.fc41) Fedora 40 Kernel: Depends on container host Compiler: gcc 14.2.1 20240912 (Red Hat 14.2.1-3) Ubuntu 22.04 Kernel: Depends on container host Compiler: gcc (Ubuntu 11.4.0-1ubuntu1~22.04) 11.4.0 RHEL9 Kernel: Depends on container host Compiler: gcc 11.5.0 20240719 (Red Hat 11.5.0-2) Ubuntu 24.04 Kernel: Depends on container host Compiler: gcc (Ubuntu 13.3.0-6ubuntu2~24.04) 13.3.0 Windows Server 2022 Kernel: 10.0.20348.2031 Compiler: clang 15.0.7, gcc 14.1.0 (MinGW), and MSVC VS 19.39.33521 To view detailed results, visit: https://lab.dpdk.org/results/dashboard/patchsets/32611/ UNH-IOL DPDK Community Lab To manage your email subscriptions, visit: https://lab.dpdk.org/results/dashboard/preferences/subscriptions/