From mboxrd@z Thu Jan 1 00:00:00 1970 Return-Path: Received: from mails.dpdk.org (mails.dpdk.org [217.70.189.124]) by inbox.dpdk.org (Postfix) with ESMTP id 38C2D46269 for ; Wed, 19 Feb 2025 17:52:21 +0100 (CET) Received: from mails.dpdk.org (localhost [127.0.0.1]) by mails.dpdk.org (Postfix) with ESMTP id 22FF542798; Wed, 19 Feb 2025 17:52:21 +0100 (CET) Received: from mail-qv1-f99.google.com (mail-qv1-f99.google.com [209.85.219.99]) by mails.dpdk.org (Postfix) with ESMTP id E2FE74028B for ; Wed, 19 Feb 2025 17:52:19 +0100 (CET) Received: by mail-qv1-f99.google.com with SMTP id 6a1803df08f44-6e65d6e1f12so90865776d6.0 for ; Wed, 19 Feb 2025 08:52:19 -0800 (PST) DKIM-Signature: v=1; a=rsa-sha256; c=relaxed/relaxed; d=iol.unh.edu; s=unh-iol; t=1739983939; x=1740588739; darn=dpdk.org; h=references:in-reply-to:cc:to:from:subject:message-id:date:from:to :cc:subject:date:message-id:reply-to; bh=7EogZUyJf3PEY3+y9ebVHsd+Z4RJcBWXWgCiPhHfA0Q=; b=hFgtYq42FID696rzs9EZpLjPJNiquUinD6y7DZ2J1r/ep5Zsw1O3PfcFDe7BWrv4K0 6cihP+lqRQHL4XhZ35EB/N0oTR+bcU/obypefzgewHSYz+nJpWh35drrkylvuBFlCNyQ IvA7iixz/r64Mk4phIkFLbFI64SsVSapVhr9A= X-Google-DKIM-Signature: v=1; a=rsa-sha256; c=relaxed/relaxed; d=1e100.net; s=20230601; t=1739983939; x=1740588739; h=references:in-reply-to:cc:to:from:subject:message-id:date :x-gm-message-state:from:to:cc:subject:date:message-id:reply-to; bh=7EogZUyJf3PEY3+y9ebVHsd+Z4RJcBWXWgCiPhHfA0Q=; b=SjIc+E8rZHjfgxNKYAhCc4Qnajl9bFedKxV7ltLe31cIE2ayV8pfb680ykXjayRZjg EtQ5WyqsJlZSLUCy9XXoj49AvOdmBQfekTPFTtig/klhmBxOX6sJLpu0W5Qyd9r2D2gb FPcwS/+knpc8Jjd7zLQQZbl5MBx769EzOVLmUjGCWzV4i135qUIOHjQYS1x6zcq521bh xiZ8DXvFB/pqf45G1jh6loDtEfg+7VjTI3iH+rlKzJn3O3+Tpfvb9jNaxUQ3u0k9qRTp nfgc4/GXLuiOT8HrAwMci0Y5OsILg/JDmii2nDN9pt1teDN48gLx9uYEtHxSjQXP0K/K ERdQ== X-Gm-Message-State: AOJu0YyBL9JEtLGmiWqt0e6ngt73Du7pEFuL4p7nb8A+/0hEjm0tcMMv FrxHoWWPWGPdor/BqyK4AgGRM3+4w4Vb96D400qbPs4bhdr7q11uA9Q+XPk1PYeP8MnNoTtmuaV Rxyzt27AGXV94zmP8CP3SdTbPAIRYgIBNtoCGRkbs X-Gm-Gg: ASbGncvTqXXPIFUgG3CX1Ut8Mh3VrVpXMWb5W/HgY6/UHvd/on9K3KQIHkFZSZ25GBw OnGDus/FTJAc6sQLAU9xB+H4jjBQjrAMZ0rG6D7rw01m7GpLhk9nC8mu6IZCcGznaMAvE2mll2Q Nn+jd1GEUDSBD0+1jlMMwq5eCUHG8Ax8cf30TaXPKW/PJSmrFNKnvyYE+chMVPUYAMZfnr7W8fl hgkPxbQHWEFwk3vTPe7oqjcFP3Bn6Vxk1/XbvfkLubXUbZYe8nUP50tmjoLOFS8LchyEKX99VNt bpQ9StxdmVwleLwKYMRZm0mMZW1Nrg== X-Google-Smtp-Source: AGHT+IEXCjwL7ctHQvM/uNLT+t1VRqOB0hN+pxQg1Y6j3etBE3sd0BFwuYNamSUuCglBLjIZy9v7/ZONoE8G X-Received: by 2002:a05:6214:e81:b0:6d3:b636:eccc with SMTP id 6a1803df08f44-6e66ccdc74fmr268672536d6.21.1739983939199; Wed, 19 Feb 2025 08:52:19 -0800 (PST) Received: from postal.iol.unh.edu (postal.iol.unh.edu. [132.177.123.84]) by smtp-relay.gmail.com with ESMTPS id 6a1803df08f44-6e65d7421c0sm5653386d6.36.2025.02.19.08.52.19 (version=TLS1_2 cipher=ECDHE-ECDSA-AES128-GCM-SHA256 bits=128/128); Wed, 19 Feb 2025 08:52:19 -0800 (PST) X-Relaying-Domain: iol.unh.edu Date: Wed, 19 Feb 2025 08:52:19 -0800 (PST) Message-ID: <67b60c43.050a0220.1036b8.bd4bSMTPIN_ADDED_MISSING@mx.google.com> Received: from [172.17.0.3] (unknown [172.18.0.217]) by postal.iol.unh.edu (Postfix) with ESMTP id E22766052471; Wed, 19 Feb 2025 11:52:18 -0500 (EST) Subject: |SUCCESS| pw151648-151650 [PATCH] [v4,3/3] app/test: add SM4 GCM tes From: dpdklab@iol.unh.edu To: Test Report Cc: dpdk-test-reports@iol.unh.edu In-Reply-To: <20250219115001.1047145-3-brian.dooley@intel.com> References: <20250219115001.1047145-3-brian.dooley@intel.com> Content-Type: text/plain X-BeenThere: test-report@dpdk.org X-Mailman-Version: 2.1.29 Precedence: list List-Id: automatic DPDK test reports List-Unsubscribe: , List-Archive: List-Post: List-Help: List-Subscribe: , Errors-To: test-report-bounces@dpdk.org Test-Label: iol-abi-testing Test-Status: SUCCESS http://dpdk.org/patch/151650 _Testing PASS_ Submitter: Brian Dooley Date: Wednesday, February 19 2025 11:50:01 DPDK git baseline: Repo:dpdk Branch: master CommitID:fd233ad17e5ffa42d50f1625165a7fce3f1cbc5f 151648-151650 --> testing pass Upstream job id: Generic-DPDK-Compile-ABI#116765 Test environment and result as below: +-------------------+----------+ | Environment | abi_test | +===================+==========+ | CentOS Stream 9 | PASS | +-------------------+----------+ | Fedora 40 | PASS | +-------------------+----------+ | Fedora 40 (Clang) | PASS | +-------------------+----------+ | CentOS Stream 10 | PASS | +-------------------+----------+ | Debian 12 | PASS | +-------------------+----------+ | Debian Bullseye | PASS | +-------------------+----------+ | Fedora 41 (Clang) | PASS | +-------------------+----------+ | RHEL8 | PASS | +-------------------+----------+ | openSUSE Leap 15 | PASS | +-------------------+----------+ | Fedora 41 | PASS | +-------------------+----------+ | RHEL9 | PASS | +-------------------+----------+ | Ubuntu 24.04 | PASS | +-------------------+----------+ | Ubuntu 22.04 | PASS | +-------------------+----------+ CentOS Stream 9 Kernel: Depends on container host Compiler: gcc 11.5.0 20240719 (Red Hat 11.5.0-2) Fedora 40 Kernel: Depends on container host Compiler: gcc 14.2.1 20240912 (Red Hat 14.2.1-3) Fedora 40 (Clang) Kernel: Depends on container host Compiler: clang 18.1.8 (Fedora 18.1.8-1.fc40) CentOS Stream 10 Kernel: Depends on container host Compiler: gcc 14.2.1 20241104 (Red Hat 14.2.1-6) Debian 12 Kernel: Depends on container host Compiler: gcc (Debian 12.2.0-14) 12.2.0 Debian Bullseye Kernel: Depends on container host Compiler: gcc (Debian 10.2.1-6) 10.2.1 20210110 Fedora 41 (Clang) Kernel: Depends on container host Compiler: clang 19.1.5 (Fedora 19.1.5-1.fc41) RHEL8 Kernel: Depends on container host Compiler: gcc 8.5.0 20210514 (Red Hat 8.5.0-22) openSUSE Leap 15 Kernel: Depends on container host Compiler: gcc (SUSE Linux) 7.5.0 Fedora 41 Kernel: Depends on container host Compiler: gcc 14.2.1 20240912 (Red Hat 14.2.1-3) RHEL9 Kernel: Depends on container host Compiler: gcc 11.5.0 20240719 (Red Hat 11.5.0-2) Ubuntu 24.04 Kernel: Depends on container host Compiler: gcc (Ubuntu 13.3.0-6ubuntu2~24.04) 13.3.0 Ubuntu 22.04 Kernel: Depends on container host Compiler: gcc (Ubuntu 11.4.0-1ubuntu1~22.04) 11.4.0 To view detailed results, visit: https://lab.dpdk.org/results/dashboard/patchsets/32611/ UNH-IOL DPDK Community Lab To manage your email subscriptions, visit: https://lab.dpdk.org/results/dashboard/preferences/subscriptions/