From mboxrd@z Thu Jan 1 00:00:00 1970 Return-Path: Received: from mails.dpdk.org (mails.dpdk.org [217.70.189.124]) by inbox.dpdk.org (Postfix) with ESMTP id 799874626B for ; Wed, 19 Feb 2025 18:11:03 +0100 (CET) Received: from mails.dpdk.org (localhost [127.0.0.1]) by mails.dpdk.org (Postfix) with ESMTP id 73BE3427A7; Wed, 19 Feb 2025 18:11:03 +0100 (CET) Received: from mail-il1-f225.google.com (mail-il1-f225.google.com [209.85.166.225]) by mails.dpdk.org (Postfix) with ESMTP id CDC724028B for ; Wed, 19 Feb 2025 18:11:01 +0100 (CET) Received: by mail-il1-f225.google.com with SMTP id e9e14a558f8ab-3d2a869d016so6553335ab.0 for ; Wed, 19 Feb 2025 09:11:01 -0800 (PST) DKIM-Signature: v=1; a=rsa-sha256; c=relaxed/relaxed; d=iol.unh.edu; s=unh-iol; t=1739985061; x=1740589861; darn=dpdk.org; h=references:in-reply-to:cc:to:from:subject:message-id:date:from:to :cc:subject:date:message-id:reply-to; bh=V1U+rcATr60552A9qbYnfM5rb1XAU2PNYeKm0809puY=; b=cvEVSGHfk8kT5rVKJ4+6b9mtOCdBybVEHNCbutaME6hWmbxxxTYHlQeKLY1mRdRwSE 5MS+2r0yV9DrRYjWS/2CS1qhtq+8iIwpw3n60v2v6ymTX42uiznyjZvJ+IJfBV05yoZC nzDy8oCv6NvuBq6XBWJEiNgPvOZRWhkpi7FgA= X-Google-DKIM-Signature: v=1; a=rsa-sha256; c=relaxed/relaxed; d=1e100.net; s=20230601; t=1739985061; x=1740589861; h=references:in-reply-to:cc:to:from:subject:message-id:date :x-gm-message-state:from:to:cc:subject:date:message-id:reply-to; bh=V1U+rcATr60552A9qbYnfM5rb1XAU2PNYeKm0809puY=; b=X+4Yx5WKuduNH2a0WHk6qIaJezAAxOpU5ugyldP/FTCnWTE9UCf3rInaI7uiEmsXYS H2qp4uRqEuAU+nDCFOeFPtAMFOJP7wvadXCRDf5W5mXWire3B6sbpCi3dT3lZ0QSnD9s jVRcSz38L3tl56rhBXZ0wHXbt6WeWzYEKE8NNT/tC9sA0e4rtyMO4fh4lC/HZjWeoQVP O6jplBObjnG+ElzhYEmrsrM2I53Ij8Ykie2fyQ59wRqkYGvgUVJ7VSW/ov2sPBm6RODD z7nd+cCZ1QplDAVXHe/0U7aBCVR8+rwnuxB1Pje7GKDp0em/w1qhR20BcBrGTMsplegM FWSA== X-Gm-Message-State: AOJu0Yzv9ywDWcqpxiZbwBFy58YML2PWnBkFh89EHF7yNZWugsVD+M8A 7zbDezi8ifLiPn0LG0b65wx0P856LdftRUIWYvbaTJilw6d7bpCO9osQt4teTKzL/cURxiZFThg MDpcBCQh/6VXm+i1r1kIoBTDqCcvMcq7o5euhjToVabX2o3LU6pkdLvAE X-Gm-Gg: ASbGnculqigYzhL0Tqz628UGCdGzcXUbkKIo3lehsWtyqSEKKsXWNTIaQgoAwz4nlfH ng8WJf3K4OXNQX7vZnvgNbrpnvnn3b0Co1Z58zz4w5YrGYS10Q9GUBXrmQv16ji7WWXdmVf6FX2 yzkot7enUH5uDXDs6HwwkXu/jwghWebCFefSgbDC7/Zo73L3W8aTwNNP+BtqDJpD5pL1l4Pbboj mm0M32+sKH3Y/tqVBRQDWQy9EFXE9P3iKfO1gC3uON866/BGPqntbRUOSs1rgTU+O9AXuJjTdPx Hs66PqKBXHNZ1wnS8/onrb7blM3ggCBAIooplijTTg== X-Google-Smtp-Source: AGHT+IFgTYx+gBWyhT/iFJH+4RBiN9rZMlebgmmM6LSGEUPlGZxrY5J62Zouj5ba2Pnffk2+OgxBBuV4LdL+ X-Received: by 2002:a05:6e02:2405:b0:3cf:bb11:a3a7 with SMTP id e9e14a558f8ab-3d2b536e1damr42626835ab.17.1739985061177; Wed, 19 Feb 2025 09:11:01 -0800 (PST) Received: from postal.iol.unh.edu (postal.iol.unh.edu. [2606:4100:3880:1234::84]) by smtp-relay.gmail.com with ESMTPS id 8926c6da1cb9f-4eeae589eb7sm257047173.5.2025.02.19.09.11.01 (version=TLS1_2 cipher=ECDHE-ECDSA-AES128-GCM-SHA256 bits=128/128); Wed, 19 Feb 2025 09:11:01 -0800 (PST) X-Relaying-Domain: iol.unh.edu Date: Wed, 19 Feb 2025 09:11:01 -0800 (PST) Message-ID: <67b610a5.050a0220.132b9d.c8e6SMTPIN_ADDED_MISSING@mx.google.com> Received: from [172.17.0.4] (unknown [172.18.0.217]) by postal.iol.unh.edu (Postfix) with ESMTP id 9B3E16052471; Wed, 19 Feb 2025 12:11:00 -0500 (EST) Subject: |SUCCESS| pw151648-151650 [PATCH] [v4,3/3] app/test: add SM4 GCM tes From: dpdklab@iol.unh.edu To: Test Report Cc: dpdk-test-reports@iol.unh.edu In-Reply-To: <20250219115001.1047145-3-brian.dooley@intel.com> References: <20250219115001.1047145-3-brian.dooley@intel.com> Content-Type: text/plain X-BeenThere: test-report@dpdk.org X-Mailman-Version: 2.1.29 Precedence: list List-Id: automatic DPDK test reports List-Unsubscribe: , List-Archive: List-Post: List-Help: List-Subscribe: , Errors-To: test-report-bounces@dpdk.org Test-Label: iol-compile-amd64-testing Test-Status: SUCCESS http://dpdk.org/patch/151650 _Testing PASS_ Submitter: Brian Dooley Date: Wednesday, February 19 2025 11:50:01 DPDK git baseline: Repo:dpdk Branch: master CommitID:fd233ad17e5ffa42d50f1625165a7fce3f1cbc5f 151648-151650 --> testing pass Upstream job id: Generic-DPDK-Compile-Meson#363056 Test environment and result as below: +---------------------+--------------------+-------------------+------------------+-------------------------+-------------------+----------------------+ | Environment | dpdk_meson_compile | dpdk_compile_spdk | dpdk_compile_ovs | dpdk_llvm_clang_compile | dpdk_msvc_compile | dpdk_mingw64_compile | +=====================+====================+===================+==================+=========================+===================+======================+ | CentOS Stream 10 | PASS | SKIPPED | SKIPPED | SKIPPED | SKIPPED | SKIPPED | +---------------------+--------------------+-------------------+------------------+-------------------------+-------------------+----------------------+ | Debian Bullseye | PASS | PASS | SKIPPED | SKIPPED | SKIPPED | SKIPPED | +---------------------+--------------------+-------------------+------------------+-------------------------+-------------------+----------------------+ | Fedora 40 (Clang) | PASS | PASS | SKIPPED | SKIPPED | SKIPPED | SKIPPED | +---------------------+--------------------+-------------------+------------------+-------------------------+-------------------+----------------------+ | Debian 12 | PASS | PASS | SKIPPED | SKIPPED | SKIPPED | SKIPPED | +---------------------+--------------------+-------------------+------------------+-------------------------+-------------------+----------------------+ | Fedora 41 | PASS | PASS | PASS | SKIPPED | SKIPPED | SKIPPED | +---------------------+--------------------+-------------------+------------------+-------------------------+-------------------+----------------------+ | Fedora 40 | PASS | PASS | SKIPPED | SKIPPED | SKIPPED | SKIPPED | +---------------------+--------------------+-------------------+------------------+-------------------------+-------------------+----------------------+ | Fedora 41 (Clang) | PASS | PASS | PASS | SKIPPED | SKIPPED | SKIPPED | +---------------------+--------------------+-------------------+------------------+-------------------------+-------------------+----------------------+ | Ubuntu 20.04 | PASS | SKIPPED | SKIPPED | SKIPPED | SKIPPED | SKIPPED | +---------------------+--------------------+-------------------+------------------+-------------------------+-------------------+----------------------+ | openSUSE Leap 15 | PASS | SKIPPED | SKIPPED | SKIPPED | SKIPPED | SKIPPED | +---------------------+--------------------+-------------------+------------------+-------------------------+-------------------+----------------------+ | RHEL9 | PASS | SKIPPED | SKIPPED | SKIPPED | SKIPPED | SKIPPED | +---------------------+--------------------+-------------------+------------------+-------------------------+-------------------+----------------------+ | Ubuntu 22.04 | PASS | PASS | SKIPPED | SKIPPED | SKIPPED | SKIPPED | +---------------------+--------------------+-------------------+------------------+-------------------------+-------------------+----------------------+ | Ubuntu 24.04 | PASS | PASS | PASS | SKIPPED | SKIPPED | SKIPPED | +---------------------+--------------------+-------------------+------------------+-------------------------+-------------------+----------------------+ | FreeBSD 13.4 | PASS | SKIPPED | SKIPPED | SKIPPED | SKIPPED | SKIPPED | +---------------------+--------------------+-------------------+------------------+-------------------------+-------------------+----------------------+ | FreeBSD 14.2 | PASS | SKIPPED | SKIPPED | SKIPPED | SKIPPED | SKIPPED | +---------------------+--------------------+-------------------+------------------+-------------------------+-------------------+----------------------+ | RHEL8 | PASS | SKIPPED | SKIPPED | SKIPPED | SKIPPED | SKIPPED | +---------------------+--------------------+-------------------+------------------+-------------------------+-------------------+----------------------+ | Alpine | PASS | SKIPPED | SKIPPED | SKIPPED | SKIPPED | SKIPPED | +---------------------+--------------------+-------------------+------------------+-------------------------+-------------------+----------------------+ | Windows Server 2022 | SKIPPED | SKIPPED | SKIPPED | PASS | PASS | PASS | +---------------------+--------------------+-------------------+------------------+-------------------------+-------------------+----------------------+ CentOS Stream 10 Kernel: Depends on container host Compiler: gcc 14.2.1 20241104 (Red Hat 14.2.1-6) Debian Bullseye Kernel: Depends on container host Compiler: gcc (Debian 10.2.1-6) 10.2.1 20210110 Fedora 40 (Clang) Kernel: Depends on container host Compiler: clang 18.1.8 (Fedora 18.1.8-1.fc40) Debian 12 Kernel: Depends on container host Compiler: gcc (Debian 12.2.0-14) 12.2.0 Fedora 41 Kernel: Depends on container host Compiler: gcc 14.2.1 20240912 (Red Hat 14.2.1-3) Fedora 40 Kernel: Depends on container host Compiler: gcc 14.2.1 20240912 (Red Hat 14.2.1-3) Fedora 41 (Clang) Kernel: Depends on container host Compiler: clang 19.1.5 (Fedora 19.1.5-1.fc41) Ubuntu 20.04 Kernel: Depends on container host Compiler: gcc (Ubuntu 9.4.0-1ubuntu1~20.04.2) 9.4.0 openSUSE Leap 15 Kernel: Depends on container host Compiler: gcc (SUSE Linux) 7.5.0 RHEL9 Kernel: Depends on container host Compiler: gcc 11.5.0 20240719 (Red Hat 11.5.0-2) Ubuntu 22.04 Kernel: Depends on container host Compiler: gcc (Ubuntu 11.4.0-1ubuntu1~22.04) 11.4.0 Ubuntu 24.04 Kernel: Depends on container host Compiler: gcc (Ubuntu 13.3.0-6ubuntu2~24.04) 13.3.0 FreeBSD 13.4 Kernel: 13.4-RELEASE-p1 Compiler: clang 18.1.6 FreeBSD 14.2 Kernel: 14.2-RELEASE Compiler: clang 18.1.6 RHEL8 Kernel: Depends on container host Compiler: gcc 8.5.0 20210514 (Red Hat 8.5.0-22) Alpine Kernel: Depends on container host Compiler: gcc (Alpine 14.2.0) 14.2.0 Windows Server 2022 Kernel: 10.0.20348.2031 Compiler: clang 15.0.7, gcc 14.1.0 (MinGW), and MSVC VS 19.39.33521 To view detailed results, visit: https://lab.dpdk.org/results/dashboard/patchsets/32611/ UNH-IOL DPDK Community Lab To manage your email subscriptions, visit: https://lab.dpdk.org/results/dashboard/preferences/subscriptions/