From mboxrd@z Thu Jan 1 00:00:00 1970 Return-Path: Received: from mails.dpdk.org (mails.dpdk.org [217.70.189.124]) by inbox.dpdk.org (Postfix) with ESMTP id 11AE14626B for ; Wed, 19 Feb 2025 18:15:42 +0100 (CET) Received: from mails.dpdk.org (localhost [127.0.0.1]) by mails.dpdk.org (Postfix) with ESMTP id E4C2D427A7; Wed, 19 Feb 2025 18:15:41 +0100 (CET) Received: from mail-ot1-f99.google.com (mail-ot1-f99.google.com [209.85.210.99]) by mails.dpdk.org (Postfix) with ESMTP id 930414028B for ; Wed, 19 Feb 2025 18:15:40 +0100 (CET) Received: by mail-ot1-f99.google.com with SMTP id 46e09a7af769-726819aa3fcso5178a34.0 for ; Wed, 19 Feb 2025 09:15:40 -0800 (PST) DKIM-Signature: v=1; a=rsa-sha256; c=relaxed/relaxed; d=iol.unh.edu; s=unh-iol; t=1739985339; x=1740590139; darn=dpdk.org; h=references:in-reply-to:cc:to:from:subject:message-id:date:from:to :cc:subject:date:message-id:reply-to; bh=cpZX6DUEoN4gHOVU8WlIAH7pEaQ+uCxUMPZvV08tDjA=; b=CIl59qL+hLSLkXNqL+4v4ddhxBBcsGUgLnPlh4VN9bh25lZtuShXTrVSWtu7s4H1ad U18fT09mjgIti//QmxkylTXMy6wruXtV+U5l2+ZkppJ5bet/eVRjU2BV3jTYMt307bWb BjMERJHS/qNSfuKvM1ZLVWIZGhoSZDED/gUNQ= X-Google-DKIM-Signature: v=1; a=rsa-sha256; c=relaxed/relaxed; d=1e100.net; s=20230601; t=1739985339; x=1740590139; h=references:in-reply-to:cc:to:from:subject:message-id:date :x-gm-message-state:from:to:cc:subject:date:message-id:reply-to; bh=cpZX6DUEoN4gHOVU8WlIAH7pEaQ+uCxUMPZvV08tDjA=; b=Uh5y2fdqZSIayhbvBE6uxuoIiu6s1FWIPbZ+7kOxZ+T/DE1kcDmVkrJAArVarlE1NW xhuemFrQVSs9OyjT5eFDgbEzOpzDQ6lkthNe1yq2QhQrTvWPe5jx8wcJcCg1MxnBorU7 hxDVI50vAvA5kwMsBBEr0XoV/9ydZL+d+vI/3g6WilbQRIp5Vc0ec05A2RH36pxjscgY zjWLYa6uPzKkwbhMu72dHgWAvsyVnzIjUdizmipLQYJwfDntgP1Vl9fHxKxuEwO8kjKY QQTc7XyHIj/p543VgTHLEYmKBDVkzcrNz2uH4WifLaDb741otS/M3Iz7IEzmmQpfbUuF NYLw== X-Gm-Message-State: AOJu0YwLL4+Nxial1a2Ks7LYDqhwETwbd7rui1nhddHYXEZeH9iZBwcb nBeTldrbtreebANvmLfMWTq9Nbnv3ixAM1M/vQOT3AN6mW90Wf4ZzPmHUasbWQCJ8iLjHcXpFCY IRbOVIEk4eWM7JaZmydMIiNw3yqvIhMvpTcE02VuaDVlm7IYN1wAHRrp7 X-Gm-Gg: ASbGncuFL6kcBiGMx64H1vPdN9vW3qLFYER5VGIogz661lb7jrQ8zYgNX1rbGWgahd6 5RiV6MaDfHEdhhyYnW3LZVm3RFV9++bjn+Jsko2YNIenLtWISjG5XaLJUieHgowl1g8MdCzXHZH 67PV+5UcmdoveyXEb8QUhuEwJ84V8oKrr9oHlRN2CVwXPFjO1eXtv1fApvF0Qa9BMglboOm970W hJY6+Ps9nVeBn4llX1HCMG0xSaDa7CXai2kHwA8tEmaFtGgNhJnyOfvdDSVIK+z1CUAjhQjAIGT CqjOhX9P8hzVqlRQO6Ks++R2o8i/OUFfKAFyu8pLkQ== X-Google-Smtp-Source: AGHT+IF5yVu18nV1kJoE05pvkwvFQWmHyV3PH0MgQyjGUHcZWSY2RWLsZRM+EWA+b/sDW1KvmtH//8TtPbLL X-Received: by 2002:a05:6830:7309:b0:727:3692:149c with SMTP id 46e09a7af769-727377637e8mr3520055a34.9.1739985339709; Wed, 19 Feb 2025 09:15:39 -0800 (PST) Received: from postal.iol.unh.edu (postal.iol.unh.edu. [2606:4100:3880:1234::84]) by smtp-relay.gmail.com with ESMTPS id 586e51a60fabf-2b95486c58fsm809463fac.15.2025.02.19.09.15.39 (version=TLS1_2 cipher=ECDHE-ECDSA-AES128-GCM-SHA256 bits=128/128); Wed, 19 Feb 2025 09:15:39 -0800 (PST) X-Relaying-Domain: iol.unh.edu Date: Wed, 19 Feb 2025 09:15:39 -0800 (PST) Message-ID: <67b611bb.050a0220.2437a9.80a3SMTPIN_ADDED_MISSING@mx.google.com> Received: from [172.17.0.3] (unknown [172.18.0.217]) by postal.iol.unh.edu (Postfix) with ESMTP id 298116052471; Wed, 19 Feb 2025 12:15:39 -0500 (EST) Subject: |SUCCESS| pw151651 [PATCH] test/ring: fix return uninitialized varia From: dpdklab@iol.unh.edu To: Test Report Cc: dpdk-test-reports@iol.unh.edu In-Reply-To: <20250219142314.82235-1-konstantin.ananyev@huawei.com> References: <20250219142314.82235-1-konstantin.ananyev@huawei.com> Content-Type: text/plain X-BeenThere: test-report@dpdk.org X-Mailman-Version: 2.1.29 Precedence: list List-Id: automatic DPDK test reports List-Unsubscribe: , List-Archive: List-Post: List-Help: List-Subscribe: , Errors-To: test-report-bounces@dpdk.org Test-Label: iol-compile-arm64-testing Test-Status: SUCCESS http://dpdk.org/patch/151651 _Testing PASS_ Submitter: Konstantin Ananyev Date: Wednesday, February 19 2025 14:23:14 DPDK git baseline: Repo:dpdk Branch: master CommitID:fd233ad17e5ffa42d50f1625165a7fce3f1cbc5f 151651 --> testing pass Upstream job id: Generic-DPDK-Compile-Meson#363033 Test environment and result as below: +----------------------------------------+--------------------+ | Environment | dpdk_meson_compile | +========================================+====================+ | Ubuntu 20.04 ARM GCC Cross Compile | PASS | +----------------------------------------+--------------------+ | Ubuntu 20.04 ARM SVE | PASS | +----------------------------------------+--------------------+ | Debian 12 with MUSDK | PASS | +----------------------------------------+--------------------+ | Fedora 41 (ARM) | PASS | +----------------------------------------+--------------------+ | Fedora 40 (ARM Clang) | PASS | +----------------------------------------+--------------------+ | Fedora 40 (ARM) | PASS | +----------------------------------------+--------------------+ | Fedora 41 (ARM Clang) | PASS | +----------------------------------------+--------------------+ | Ubuntu 22.04 (ARM) | PASS | +----------------------------------------+--------------------+ | Ubuntu 24.04 (ARM) | PASS | +----------------------------------------+--------------------+ | Ubuntu 20.04 (ARM) | PASS | +----------------------------------------+--------------------+ | CentOS Stream 9 (ARM) | PASS | +----------------------------------------+--------------------+ | CentOS Stream 10 (ARM) | PASS | +----------------------------------------+--------------------+ | Debian 11 (Buster) (ARM) | PASS | +----------------------------------------+--------------------+ | Debian 12 (arm) | PASS | +----------------------------------------+--------------------+ | Ubuntu 20.04 aarch32 GCC Cross Compile | PASS | +----------------------------------------+--------------------+ | Ubuntu 20.04 ARM Clang Cross Compile | PASS | +----------------------------------------+--------------------+ Ubuntu 20.04 ARM GCC Cross Compile Kernel: Depends on container host Compiler: aarch64-linux-gnu-gcc (Ubuntu 9.4.0-1ubuntu1~20.04.2) 9.4.0 Ubuntu 20.04 ARM SVE Kernel: Depends on container host Compiler: gcc (Ubuntu 10.5.0-1ubuntu1~20.04) 10.5.0 Debian 12 with MUSDK Kernel: Depends on container host Compiler: gcc (Debian 12.2.0-14) 12.2.0 Fedora 41 (ARM) Kernel: Depends on container host Compiler: gcc 14.2.1 20240912 (Red Hat 14.2.1-3) Fedora 40 (ARM Clang) Kernel: Depends on container host Compiler: clang 18.1.8 (Fedora 18.1.8-1.fc40) Fedora 40 (ARM) Kernel: Depends on container host Compiler: gcc 14.2.1 20240912 (Red Hat 14.2.1-3) Fedora 41 (ARM Clang) Kernel: Depends on container host Compiler: clang 19.1.5 (Fedora 19.1.5-1.fc41) Ubuntu 22.04 (ARM) Kernel: Depends on container host Compiler: gcc (Ubuntu 11.4.0-1ubuntu1~22.04) 11.4.0 Ubuntu 24.04 (ARM) Kernel: Depends on container host Compiler: gcc (Ubuntu 13.3.0-6ubuntu2~24.04) 13.3.0 Ubuntu 20.04 (ARM) Kernel: Depends on container host Compiler: gcc (Ubuntu 9.4.0-1ubuntu1~20.04.2) 9.4.0 CentOS Stream 9 (ARM) Kernel: Depends on container host Compiler: gcc 11.5.0 20240719 (Red Hat 11.5.0-2) CentOS Stream 10 (ARM) Kernel: Depends on container host Compiler: gcc 14.2.1 20241104 (Red Hat 14.2.1-6) Debian 11 (Buster) (ARM) Kernel: Depends on container host Compiler: gcc (Debian 10.2.1-6) 10.2.1 20210110 Debian 12 (arm) Kernel: Depends on container host Compiler: gcc (Debian 12.2.0-14) 12.2.0 Ubuntu 20.04 aarch32 GCC Cross Compile Kernel: Depends on container host Compiler: gcc 9.4.0 Ubuntu 20.04 ARM Clang Cross Compile Kernel: Depends on container host Compiler: clang 10.0.0-4ubuntu1 To view detailed results, visit: https://lab.dpdk.org/results/dashboard/patchsets/32612/ UNH-IOL DPDK Community Lab To manage your email subscriptions, visit: https://lab.dpdk.org/results/dashboard/preferences/subscriptions/