From mboxrd@z Thu Jan 1 00:00:00 1970 Return-Path: Received: from mails.dpdk.org (mails.dpdk.org [217.70.189.124]) by inbox.dpdk.org (Postfix) with ESMTP id E4ABF4626B for ; Wed, 19 Feb 2025 18:59:14 +0100 (CET) Received: from mails.dpdk.org (localhost [127.0.0.1]) by mails.dpdk.org (Postfix) with ESMTP id 55A2542759; Wed, 19 Feb 2025 18:59:14 +0100 (CET) Received: from mail-ot1-f98.google.com (mail-ot1-f98.google.com [209.85.210.98]) by mails.dpdk.org (Postfix) with ESMTP id 035A5402DA for ; Wed, 19 Feb 2025 18:59:13 +0100 (CET) Received: by mail-ot1-f98.google.com with SMTP id 46e09a7af769-72720572addso16688a34.3 for ; Wed, 19 Feb 2025 09:59:12 -0800 (PST) DKIM-Signature: v=1; a=rsa-sha256; c=relaxed/relaxed; d=iol.unh.edu; s=unh-iol; t=1739987952; x=1740592752; darn=dpdk.org; h=references:in-reply-to:cc:to:from:subject:message-id:date:from:to :cc:subject:date:message-id:reply-to; bh=1Pm29RdRQpjSCW5CkZvEd2Xwv1VIVuvVD/e6Ol5xBWc=; b=Lp//GVlsgabNk1nbN6X+ZL6XzRsv70kYhDXkzrYS9qaiA7eqBn8qmJuFP3n0WsGOen Q8UqSRJPzSCU9oahVLAKAVtjAjCRpCtAkFuzUsTdXAeyId3AQtDvMui2bDONX+uiwUUW JcNOIqv6HoX3+quvnX7d9Z3VVjhUgdCRI2Omk= X-Google-DKIM-Signature: v=1; a=rsa-sha256; c=relaxed/relaxed; d=1e100.net; s=20230601; t=1739987952; x=1740592752; h=references:in-reply-to:cc:to:from:subject:message-id:date :x-gm-message-state:from:to:cc:subject:date:message-id:reply-to; bh=1Pm29RdRQpjSCW5CkZvEd2Xwv1VIVuvVD/e6Ol5xBWc=; b=WE9rYJ1ytah2kw3OSZeY0bPpq/SE3FuIkMcRHFHPl553tSdDOIywXaEwvGL+tc2lyZ kjjGrQlt4UThkvBCbi6XqEB9Dd2FUMSo9jW8hyLdsChMvbitOWyMxck3mVIYb9SGxTKR X2m2IPbah9W29gh3Jr6xcYlbThmEU5q1z2V+RYk0lk/Tqt17/8dtT6a6us3Bs5NltR2s JhrfiKdUJiYBO1RFhVU9fH839atygN81VfTDXF3jcuzAo6S8GKFKCoN+R3CXsnTiPWIL mmM2B9CC7kuJ+qiVn9UtJi8PCL5l01LekYapIqGNsyTlfkm6w4gWYO/th1mFGe7saNLW mK/w== X-Gm-Message-State: AOJu0Ywrq0HnMccCwuHS4DLJ15YcaLYVXigEUP5n3/ba2pX43N9wUZPL /jkiX75RJHPsbZ7vL6hq7HP0sTcZK5ZMQW2vB3gOslIhTgskHhmrEVhs39S4mrzN1L42EVNZGkW CC2WLJLdGgaWd64RKGmWhU67FLak3QVrPoSAPZ5Mk320YKHNwj6NQnZYA X-Gm-Gg: ASbGncuq3NppS7T+tYqcaObtxI3IFLcnjAPc7+V+v+HDfVJJx6ZicNHSVdJRHaak3Jp BtoMkcOCgjEDgS9V2CEvgb8vrPK2ov3c4McTx2VdRYXbiuFeKQE+eSuN0GEonTEliyNylgqKWHV tSY/MxvdyfK9NZNsIhPvIg4sb3xf8l/t1dEOd3luFYt+3UNs9EqTIfh32riQ7Maaqp//JfbxIsN Dh08X1zGtTQhrhDmpEaA7Dmmw0liOmoYIdjWQfqDM240wFGqUE/DNIyTqg8qTmvFqIrGvKZyS9G TANCOWzbr3vM6U1kK9tQhSU7NH4y3fJX6Qh/WU/fCw== X-Google-Smtp-Source: AGHT+IFf27x1rmkSBmkPS3ndkyeizHdUppQ11vxiK59ZkKJgM4QTid9lXUOgDJ0v4GVYyv+uAcuc8snBxt7L X-Received: by 2002:a05:6830:498d:b0:727:13e:f26d with SMTP id 46e09a7af769-7273775eb64mr3375552a34.2.1739987952184; Wed, 19 Feb 2025 09:59:12 -0800 (PST) Received: from postal.iol.unh.edu (postal.iol.unh.edu. [2606:4100:3880:1234::84]) by smtp-relay.gmail.com with ESMTPS id 006d021491bc7-5fce6d83c71sm224253eaf.7.2025.02.19.09.59.12 (version=TLS1_2 cipher=ECDHE-ECDSA-AES128-GCM-SHA256 bits=128/128); Wed, 19 Feb 2025 09:59:12 -0800 (PST) X-Relaying-Domain: iol.unh.edu Date: Wed, 19 Feb 2025 09:59:12 -0800 (PST) Message-ID: <67b61bf0.050a0220.4615d.b267SMTPIN_ADDED_MISSING@mx.google.com> Received: from [172.17.0.3] (unknown [172.18.0.217]) by postal.iol.unh.edu (Postfix) with ESMTP id AB9CD6052471; Wed, 19 Feb 2025 12:59:11 -0500 (EST) Subject: |SUCCESS| pw151648-151650 [PATCH] [v4,3/3] app/test: add SM4 GCM tes From: dpdklab@iol.unh.edu To: Test Report Cc: dpdk-test-reports@iol.unh.edu In-Reply-To: <20250219115001.1047145-3-brian.dooley@intel.com> References: <20250219115001.1047145-3-brian.dooley@intel.com> Content-Type: text/plain X-BeenThere: test-report@dpdk.org X-Mailman-Version: 2.1.29 Precedence: list List-Id: automatic DPDK test reports List-Unsubscribe: , List-Archive: List-Post: List-Help: List-Subscribe: , Errors-To: test-report-bounces@dpdk.org Test-Label: iol-unit-arm64-testing Test-Status: SUCCESS http://dpdk.org/patch/151650 _Testing PASS_ Submitter: Brian Dooley Date: Wednesday, February 19 2025 11:50:01 DPDK git baseline: Repo:dpdk Branch: master CommitID:fd233ad17e5ffa42d50f1625165a7fce3f1cbc5f 151648-151650 --> testing pass Upstream job id: Generic-Unit-Test-DPDK#316271 Test environment and result as below: +-----------------------------+----------------+---------------------------+------------------------------+--------------+ | Environment | dpdk_unit_test | cryptodev_sw_zuc_autotest | cryptodev_sw_snow3g_autotest | lpm_autotest | +=============================+================+===========================+==============================+==============+ | 32-bit Ubuntu 22.04.4 (ARM) | PASS | SKIPPED | SKIPPED | SKIPPED | +-----------------------------+----------------+---------------------------+------------------------------+--------------+ | CentOS Stream 9 (ARM) | PASS | SKIPPED | SKIPPED | SKIPPED | +-----------------------------+----------------+---------------------------+------------------------------+--------------+ | CentOS Stream 10 (ARM) | PASS | SKIPPED | SKIPPED | SKIPPED | +-----------------------------+----------------+---------------------------+------------------------------+--------------+ | Debian 11 (Buster) (ARM) | PASS | SKIPPED | SKIPPED | SKIPPED | +-----------------------------+----------------+---------------------------+------------------------------+--------------+ | RHEL9 (ARM) | PASS | SKIPPED | SKIPPED | SKIPPED | +-----------------------------+----------------+---------------------------+------------------------------+--------------+ | Fedora 40 (ARM) | PASS | SKIPPED | SKIPPED | SKIPPED | +-----------------------------+----------------+---------------------------+------------------------------+--------------+ | Fedora 41 (ARM) | PASS | SKIPPED | SKIPPED | SKIPPED | +-----------------------------+----------------+---------------------------+------------------------------+--------------+ | Fedora 40 (ARM Clang) | PASS | SKIPPED | SKIPPED | SKIPPED | +-----------------------------+----------------+---------------------------+------------------------------+--------------+ | Fedora 41 (ARM Clang) | PASS | SKIPPED | SKIPPED | SKIPPED | +-----------------------------+----------------+---------------------------+------------------------------+--------------+ | Debian 12 (arm) | PASS | PASS | PASS | SKIPPED | +-----------------------------+----------------+---------------------------+------------------------------+--------------+ | Ubuntu 20.04 (ARM) | PASS | SKIPPED | SKIPPED | SKIPPED | +-----------------------------+----------------+---------------------------+------------------------------+--------------+ | Ubuntu 24.04 (ARM) | PASS | SKIPPED | SKIPPED | SKIPPED | +-----------------------------+----------------+---------------------------+------------------------------+--------------+ | Ubuntu 22.04 (ARM) | PASS | SKIPPED | SKIPPED | SKIPPED | +-----------------------------+----------------+---------------------------+------------------------------+--------------+ | Ubuntu 20.04 ARM SVE | SKIPPED | SKIPPED | SKIPPED | PASS | +-----------------------------+----------------+---------------------------+------------------------------+--------------+ 32-bit Ubuntu 22.04.4 (ARM) Kernel: 5.15.83+ aarch64 Compiler: gcc (Ubuntu 11.4.0-1ubuntu1~22.04) 11.4.0 CentOS Stream 9 (ARM) Kernel: Depends on container host Compiler: gcc 11.5.0 20240719 (Red Hat 11.5.0-2) CentOS Stream 10 (ARM) Kernel: Depends on container host Compiler: gcc 14.2.1 20241104 (Red Hat 14.2.1-6) Debian 11 (Buster) (ARM) Kernel: Depends on container host Compiler: gcc (Debian 10.2.1-6) 10.2.1 20210110 RHEL9 (ARM) Kernel: Depends on container host Compiler: gcc 11.5.0 20240719 (Red Hat 11.5.0-2) Fedora 40 (ARM) Kernel: Depends on container host Compiler: gcc 14.2.1 20240912 (Red Hat 14.2.1-3) Fedora 41 (ARM) Kernel: Depends on container host Compiler: gcc 14.2.1 20240912 (Red Hat 14.2.1-3) Fedora 40 (ARM Clang) Kernel: Depends on container host Compiler: clang 18.1.8 (Fedora 18.1.8-1.fc40) Fedora 41 (ARM Clang) Kernel: Depends on container host Compiler: clang 19.1.5 (Fedora 19.1.5-1.fc41) Debian 12 (arm) Kernel: Depends on container host Compiler: gcc (Debian 12.2.0-14) 12.2.0 Ubuntu 20.04 (ARM) Kernel: Depends on container host Compiler: gcc (Ubuntu 9.4.0-1ubuntu1~20.04.2) 9.4.0 Ubuntu 24.04 (ARM) Kernel: Depends on container host Compiler: gcc (Ubuntu 13.3.0-6ubuntu2~24.04) 13.3.0 Ubuntu 22.04 (ARM) Kernel: Depends on container host Compiler: gcc (Ubuntu 11.4.0-1ubuntu1~22.04) 11.4.0 Ubuntu 20.04 ARM SVE Kernel: Depends on container host Compiler: gcc (Ubuntu 10.5.0-1ubuntu1~20.04) 10.5.0 To view detailed results, visit: https://lab.dpdk.org/results/dashboard/patchsets/32611/ UNH-IOL DPDK Community Lab To manage your email subscriptions, visit: https://lab.dpdk.org/results/dashboard/preferences/subscriptions/