From mboxrd@z Thu Jan 1 00:00:00 1970 Return-Path: Received: from mails.dpdk.org (mails.dpdk.org [217.70.189.124]) by inbox.dpdk.org (Postfix) with ESMTP id C96724626E for ; Thu, 20 Feb 2025 03:31:48 +0100 (CET) Received: from mails.dpdk.org (localhost [127.0.0.1]) by mails.dpdk.org (Postfix) with ESMTP id 7A5FB4014F; Thu, 20 Feb 2025 03:31:48 +0100 (CET) Received: from mail-il1-f226.google.com (mail-il1-f226.google.com [209.85.166.226]) by mails.dpdk.org (Postfix) with ESMTP id 35C9440041 for ; Thu, 20 Feb 2025 03:31:46 +0100 (CET) Received: by mail-il1-f226.google.com with SMTP id e9e14a558f8ab-3cf8e017abcso1488585ab.1 for ; Wed, 19 Feb 2025 18:31:46 -0800 (PST) DKIM-Signature: v=1; a=rsa-sha256; c=relaxed/relaxed; d=iol.unh.edu; s=unh-iol; t=1740018705; x=1740623505; darn=dpdk.org; h=cc:to:from:subject:message-id:date:from:to:cc:subject:date :message-id:reply-to; bh=fNux1I48gqn6Wypom3bz7UyHKavI2YqkyKXKrvgs3ic=; b=dzu7IbJO1PYhjbMOcoSW8BPr7x0HsiUu3G6B19qq/FnwbTGmyEgzgNj4GU2yzuIG5x oYWFJyeSfm4GGQLqkonR8VDDV8ei+ofYyQTtx3s84+iXvmmQ7Atj7j2X3B44p0ltMDo3 lN8gQfRiqJXYcr0Hx/BAsd0EQRb9hLgpKu+uE= X-Google-DKIM-Signature: v=1; a=rsa-sha256; c=relaxed/relaxed; d=1e100.net; s=20230601; t=1740018705; x=1740623505; h=cc:to:from:subject:message-id:date:x-gm-message-state:from:to:cc :subject:date:message-id:reply-to; bh=fNux1I48gqn6Wypom3bz7UyHKavI2YqkyKXKrvgs3ic=; b=O4wtaKTlA26UglT09r8i1oPid4qfIzKalFiMqY3BzqvHpuZwop/f4Lxg+9WhUgPFTU s6wQNcXZE6taZKRMe6ijoDZXr+4QJ4Jd9T7YqElwaGCxMgdGb5WU3ik9nlovzhqDOm6U /OnMPqzXzIG9BiN4jpe6GTLE5ffKvBh2/BmVAG+RASB+jjstunQBHZOBlxrHlcKSnEjL /OdCGcBctVNXvP8PIb8Om3fAqxFxszdKRFBeuPyvR83ereUHdkI705mxU9Klq+6tS9x+ CRWpjQ6T4Z/xcTWJcw7usMt5KteY5jjnWschNnmNodOef9XpTIswLN+b3qBJnT7cc0YJ Xu0w== X-Gm-Message-State: AOJu0Yz3GIBfiEuFntFe55/xFy8PX5XIW/rQIIt9PIprbzTtj+SVrprg hI0e7KuK76R6FPKR83eldX2XubrkkjpKZnTBcK6eRhGEdHGu/wWICuI2uA9BWPjMHtiYn35yfTT mqPz+4fPvRJ0FTZMHXAEm5e9oTTQ5AFlJGUC9faWQ X-Gm-Gg: ASbGncsELd2bOXYC/FIglVAbcADRiBwOENixNdzAmRVlt+HY4nA+wpvSZKJeOwb0EIc 3tk+ROpHc/zinI6TfhOQdH0+0l9XiZOhgnUDLzOLyPYlCcmLysSpOx6NpJ+r/eyq6yiX2y+4n5j 5QTJHeNGh8lgqWXlR0m0MuEJFiC6FqFYq4zdSOE2JyMHduDPsmOa0K4S/WUl6XVp3ZqwhFhvbym j3OdSB7/a19oGF+4V9dCgeCMD86lCMXNE55+yLns5RtNDxtoQQw9ZEOVAcd2akCwp/QvM+4020m qb4oTXv6PLHif5hAGt72j++WD3KSdA== X-Google-Smtp-Source: AGHT+IG8RhlQogzAn2VSGGTS0J/+558AhuKBUmZgl+MiIvJtINWewf/XElO17XTgY/zmY7NEzqSqox8wUP3l X-Received: by 2002:a05:6e02:4811:b0:3d2:b0f1:f5bd with SMTP id e9e14a558f8ab-3d2b0f1f6e7mr72470875ab.3.1740018705496; Wed, 19 Feb 2025 18:31:45 -0800 (PST) Received: from postal.iol.unh.edu (postal.iol.unh.edu. [132.177.123.84]) by smtp-relay.gmail.com with ESMTPS id 8926c6da1cb9f-4eebb475442sm192093173.56.2025.02.19.18.31.45 (version=TLS1_2 cipher=ECDHE-ECDSA-AES128-GCM-SHA256 bits=128/128); Wed, 19 Feb 2025 18:31:45 -0800 (PST) X-Relaying-Domain: iol.unh.edu Date: Wed, 19 Feb 2025 18:31:45 -0800 (PST) Message-ID: <67b69411.050a0220.3cae92.9a1eSMTPIN_ADDED_MISSING@mx.google.com> Received: from [172.17.0.3] (unknown [172.18.0.217]) by postal.iol.unh.edu (Postfix) with ESMTP id 45BE06052471; Wed, 19 Feb 2025 21:31:42 -0500 (EST) Subject: |SUCCESS| [GIT MASTER] fab31a03ba98e7457284df95dd9eef2223a4ccaa From: dpdklab@iol.unh.edu To: Test Report Cc: dpdk-test-reports@iol.unh.edu Content-Type: text/plain X-BeenThere: test-report@dpdk.org X-Mailman-Version: 2.1.29 Precedence: list List-Id: automatic DPDK test reports List-Unsubscribe: , List-Archive: List-Post: List-Help: List-Subscribe: , Errors-To: test-report-bounces@dpdk.org _Testing PASS_ Branch: dpdk fab31a03ba98e7457284df95dd9eef2223a4ccaa --> testing pass Upstream job id: Generic-Unit-Test-DPDK#316299 Test environment and result as below: +---------------------+----------------+ | Environment | dpdk_unit_test | +=====================+================+ | CentOS Stream 10 | PASS | +---------------------+----------------+ | Debian Bullseye | PASS | +---------------------+----------------+ | CentOS Stream 9 | PASS | +---------------------+----------------+ | Arch Linux | PASS | +---------------------+----------------+ | Fedora 41 | PASS | +---------------------+----------------+ | Fedora 40 (Clang) | PASS | +---------------------+----------------+ | Debian 12 | PASS | +---------------------+----------------+ | RHEL8 | PASS | +---------------------+----------------+ | Fedora 40 | PASS | +---------------------+----------------+ | Fedora 41 (Clang) | PASS | +---------------------+----------------+ | RHEL9 | PASS | +---------------------+----------------+ | Ubuntu 20.04 | PASS | +---------------------+----------------+ | Ubuntu 24.04 | PASS | +---------------------+----------------+ | Ubuntu 22.04 | PASS | +---------------------+----------------+ | Windows Server 2022 | PASS | +---------------------+----------------+ CentOS Stream 10 Kernel: Depends on container host Compiler: gcc 14.2.1 20241104 (Red Hat 14.2.1-6) Debian Bullseye Kernel: Depends on container host Compiler: gcc (Debian 10.2.1-6) 10.2.1 20210110 CentOS Stream 9 Kernel: Depends on container host Compiler: gcc 11.5.0 20240719 (Red Hat 11.5.0-2) Arch Linux Kernel: Depends on container host Compiler: gcc 14.2.1 20240910 Fedora 41 Kernel: Depends on container host Compiler: gcc 14.2.1 20240912 (Red Hat 14.2.1-3) Fedora 40 (Clang) Kernel: Depends on container host Compiler: clang 18.1.8 (Fedora 18.1.8-1.fc40) Debian 12 Kernel: Depends on container host Compiler: gcc (Debian 12.2.0-14) 12.2.0 RHEL8 Kernel: Depends on container host Compiler: gcc 8.5.0 20210514 (Red Hat 8.5.0-22) Fedora 40 Kernel: Depends on container host Compiler: gcc 14.2.1 20240912 (Red Hat 14.2.1-3) Fedora 41 (Clang) Kernel: Depends on container host Compiler: clang 19.1.5 (Fedora 19.1.5-1.fc41) RHEL9 Kernel: Depends on container host Compiler: gcc 11.5.0 20240719 (Red Hat 11.5.0-2) Ubuntu 20.04 Kernel: Depends on container host Compiler: gcc (Ubuntu 9.4.0-1ubuntu1~20.04.2) 9.4.0 Ubuntu 24.04 Kernel: Depends on container host Compiler: gcc (Ubuntu 13.3.0-6ubuntu2~24.04) 13.3.0 Ubuntu 22.04 Kernel: Depends on container host Compiler: gcc (Ubuntu 11.4.0-1ubuntu1~22.04) 11.4.0 Windows Server 2022 Kernel: 10.0.20348.2031 Compiler: clang 15.0.7, gcc 14.1.0 (MinGW), and MSVC VS 19.39.33521 To view detailed results, visit: https://lab.dpdk.org/results/dashboard/tarballs/32626/ UNH-IOL DPDK Community Lab To manage your email subscriptions, visit: https://lab.dpdk.org/results/dashboard/preferences/subscriptions/