From mboxrd@z Thu Jan 1 00:00:00 1970 Return-Path: Received: from mails.dpdk.org (mails.dpdk.org [217.70.189.124]) by inbox.dpdk.org (Postfix) with ESMTP id D1A014626E for ; Thu, 20 Feb 2025 03:33:53 +0100 (CET) Received: from mails.dpdk.org (localhost [127.0.0.1]) by mails.dpdk.org (Postfix) with ESMTP id 066924014F; Thu, 20 Feb 2025 03:33:53 +0100 (CET) Received: from mail-pl1-f228.google.com (mail-pl1-f228.google.com [209.85.214.228]) by mails.dpdk.org (Postfix) with ESMTP id BEBFD40041 for ; Thu, 20 Feb 2025 03:33:51 +0100 (CET) Received: by mail-pl1-f228.google.com with SMTP id d9443c01a7336-22114b800f7so6540625ad.2 for ; Wed, 19 Feb 2025 18:33:51 -0800 (PST) DKIM-Signature: v=1; a=rsa-sha256; c=relaxed/relaxed; d=iol.unh.edu; s=unh-iol; t=1740018831; x=1740623631; darn=dpdk.org; h=cc:to:from:subject:message-id:date:from:to:cc:subject:date :message-id:reply-to; bh=suEodc7RF3olUqsG0dhkQ3OVyzPr2aGZ3ZO2T1xI7Pw=; b=QO08aAC+yjZqgOaexqQolqFDnGuYHT+/wdaRQ7/7Q/myYCWJGPvzTiscnYPfQS1LW+ STPL/oOktzv3lUtdWupsBQNKvENGxacdLqSsvOPgLbjCMmhtsylBm0jQ4JJxrtu9aw09 fbdJ9kfdTPfDlmOVbhrViUOf6YISvFQzjW42E= X-Google-DKIM-Signature: v=1; a=rsa-sha256; c=relaxed/relaxed; d=1e100.net; s=20230601; t=1740018831; x=1740623631; h=cc:to:from:subject:message-id:date:x-gm-message-state:from:to:cc :subject:date:message-id:reply-to; bh=suEodc7RF3olUqsG0dhkQ3OVyzPr2aGZ3ZO2T1xI7Pw=; b=IzReVBtyD2AFbL4ETVyYNdUyQabUBzfkxBQPMhrgFgNLI87Z2+LA027MIHdOnNzKxf RcztB1Rvq8PpGNnnXmgvntjmHSwEGl684PmqLZ6VVDvdomBXTWUEAgYUMVKJJp5RBvr7 lDW1q6ekp90wPPw66adS1OCwfNdemHsTN1KYzd1+8KcQNdmtFIpKDla2VILFEOaNasKk W7E9on3Rph9Mgl0K2JPMOnEk48vHVYqehNK1umbJXqPdu4kEOMeYnmX3UUNKZGQ6mxBR mXRpQpPSMEp5gfAXA0rJ54zRuH59QEycfljNi8Ej9GSZ1Js2bEbvWTk70dupC07B+sxE rz7g== X-Gm-Message-State: AOJu0Yyv9B+Fxy50H5F4wnpuHixfEKOi11k7I9w53WnNIiy1AUMlBnjj AAYc77TsNu6Y9rol+UpUSmWyYt2mQbY0zSU6jUVTlNgxoj63TjauRP4wCcMKGvOqF2e3f4NGtwM L8JmYjyWkcb0zNiC6NTlfNwhyGMKMS4YUY9IRSg393vREpH6zkP2hP1QP X-Gm-Gg: ASbGncuhddtFUOUHWo87O0XXgF+Si2UCwuqw2bmpG3gLS5aQedgjEK8IthlWS9oLjw5 aXhi5yk11bPEA0qeSz9NHVLTOaVrzvZ2TA8dWDlOFlE3hhx918ioDWOguNyXfFre9TaSaFd0bnh nu2T6rgxLyZZZoIpvnQskH4DH/jOxj6hwx7fCSitSQGunXYoZM5Uy/YUm1Wx0fy21DbobH0lHxY fCdetEwjMKSW8lsJnJ8gw7BoWt3dCsa7A5OvnCCJTKrpCGVRTzI6hlt7geXuQtLfgtZdjEFxLpg nHoPXtUdh0Qq+C6Pe5xg5JjB2kUWASbhGPzNHcAVPQ== X-Google-Smtp-Source: AGHT+IEMlL9u4TrxSzk6FL0Ld1yaP0IEmMhGrXEOEAb3u0ChZ2ThX+FjsNRm69OpMpsnAfYBz+I5uEhIUdE1 X-Received: by 2002:a17:903:2283:b0:21d:cd54:c7ef with SMTP id d9443c01a7336-2217055dc08mr86378835ad.9.1740018830881; Wed, 19 Feb 2025 18:33:50 -0800 (PST) Received: from postal.iol.unh.edu (postal.iol.unh.edu. [2606:4100:3880:1234::84]) by smtp-relay.gmail.com with ESMTPS id 98e67ed59e1d1-2fbf98d473bsm1057847a91.9.2025.02.19.18.33.50 (version=TLS1_2 cipher=ECDHE-ECDSA-AES128-GCM-SHA256 bits=128/128); Wed, 19 Feb 2025 18:33:50 -0800 (PST) X-Relaying-Domain: iol.unh.edu Date: Wed, 19 Feb 2025 18:33:50 -0800 (PST) Message-ID: <67b6948e.170a0220.1b250d.50c4SMTPIN_ADDED_MISSING@mx.google.com> Received: from [172.17.0.4] (unknown [172.18.0.217]) by postal.iol.unh.edu (Postfix) with ESMTP id 92DD36052471; Wed, 19 Feb 2025 21:33:47 -0500 (EST) Subject: |SUCCESS| [GIT MASTER] fab31a03ba98e7457284df95dd9eef2223a4ccaa From: dpdklab@iol.unh.edu To: Test Report Cc: dpdk-test-reports@iol.unh.edu Content-Type: text/plain X-BeenThere: test-report@dpdk.org X-Mailman-Version: 2.1.29 Precedence: list List-Id: automatic DPDK test reports List-Unsubscribe: , List-Archive: List-Post: List-Help: List-Subscribe: , Errors-To: test-report-bounces@dpdk.org _Testing PASS_ Branch: dpdk fab31a03ba98e7457284df95dd9eef2223a4ccaa --> testing pass Upstream job id: ACVP-FIPS-testing#8963 Test environment and result as below: +--------------------+----------------------+----------------------+ | Environment | compressdev_zlib_pmd | dpdk_fips_validation | +====================+======================+======================+ | Ubuntu 22.04 (ARM) | PASS | SKIPPED | +--------------------+----------------------+----------------------+ | Ubuntu 22.04 | PASS | SKIPPED | +--------------------+----------------------+----------------------+ | Ubuntu 20.04 | SKIPPED | PASS | +--------------------+----------------------+----------------------+ Ubuntu 22.04 (ARM) Kernel: 5.15.0-97-generic Compiler: gcc gcc (Ubuntu 11.4.0-1ubuntu1~22.04) 11.4.0 Ubuntu 22.04 Kernel: 5.15.0-100-generic Compiler: gcc gcc (Ubuntu 11.4.0-1ubuntu1~22.04) 11.4.0 Ubuntu 20.04 Kernel: Depends on container host Compiler: gcc (Ubuntu 9.4.0-1ubuntu1~20.04.2) 9.4.0 To view detailed results, visit: https://lab.dpdk.org/results/dashboard/tarballs/32626/ UNH-IOL DPDK Community Lab To manage your email subscriptions, visit: https://lab.dpdk.org/results/dashboard/preferences/subscriptions/