From mboxrd@z Thu Jan 1 00:00:00 1970 Return-Path: Received: from mails.dpdk.org (mails.dpdk.org [217.70.189.124]) by inbox.dpdk.org (Postfix) with ESMTP id 1901B46270 for ; Thu, 20 Feb 2025 04:19:24 +0100 (CET) Received: from mails.dpdk.org (localhost [127.0.0.1]) by mails.dpdk.org (Postfix) with ESMTP id EAFF54014F; Thu, 20 Feb 2025 04:19:23 +0100 (CET) Received: from mail-pl1-f228.google.com (mail-pl1-f228.google.com [209.85.214.228]) by mails.dpdk.org (Postfix) with ESMTP id 14BC640041 for ; Thu, 20 Feb 2025 04:19:22 +0100 (CET) Received: by mail-pl1-f228.google.com with SMTP id d9443c01a7336-22114b800f7so6966975ad.2 for ; Wed, 19 Feb 2025 19:19:21 -0800 (PST) DKIM-Signature: v=1; a=rsa-sha256; c=relaxed/relaxed; d=iol.unh.edu; s=unh-iol; t=1740021561; x=1740626361; darn=dpdk.org; h=cc:to:from:subject:message-id:date:from:to:cc:subject:date :message-id:reply-to; bh=abuhYOQkP4ydF+KlujzWmN9DV81zHt7QWem2uQuSFBQ=; b=BftYfHDTa5x9lh1fP5IiOKvZAfIsgrQtuEZjUkSmtRdgn6xTk14CAPCquIBLF+SDkZ seh/+UnAUIq5Sf7lwdkDjA53pvthqq86iOcNykmN2IyQd/QKJHgsmywPYHqrkuXH4887 upy7/A0DkrboWLzJ8cyy5E3J3U2qzIk2R8DFQ= X-Google-DKIM-Signature: v=1; a=rsa-sha256; c=relaxed/relaxed; d=1e100.net; s=20230601; t=1740021561; x=1740626361; h=cc:to:from:subject:message-id:date:x-gm-message-state:from:to:cc :subject:date:message-id:reply-to; bh=abuhYOQkP4ydF+KlujzWmN9DV81zHt7QWem2uQuSFBQ=; b=MoCEiOdkfiMKtLN8IhHG+XRtO4JrFXQMNziIaVl3vhSUcJFjTUq1so0oy40pICq1mi RdZPXbLXcqh+Qfi1XkbdpCF3l7ZCTiIOyBIwj/rMjN3HVXsCCI7A3ohMnY7v3kV6ve6J loL4viXw3k1zsfsLYGqwPYdKHTfW67ZaR+YyFIp374gTdjOd1uFk7FSS9tQI8XlzqrPN k20W8qiNWy48FFwm24YpsnG1WM0597PmvS9sC2+C0ZOpaCJNAhsU4on/xJZATh3a6IaI p/cH5DSRKDWUkeTlupAdE+T64O10VCJ6OtPe8TUkSaXqQYjAc2q5tzvvEptMAN2VMzKc K4Jw== X-Gm-Message-State: AOJu0YxjSQ+7atRKDVQZuWPxzPeRzYnqIjMguLV/6FLymSebnvxfpSVI rH2dCIm/WmysiPPZ9Rg1in7RCCZw81xP7Es7eZNi/y3JoPnuJNMkktqj65Lx7XxcDJTeXjuvDyE BTTiJO5mnA5+h9yj5aEEa0Z5aa8hROTIofb9jSUxWc+rT5YDovu6Us/UP X-Gm-Gg: ASbGncvTBjIP8GXy4PrBtgdA//nQHB9G+Ieq6ZBZntYq7u1dN9vFAvWD9mVNbADoR5A NFTM71rF1vYlgyapEFsBpAK1MMeQKofWu0kdqd/5yxEhQfdbwoCudrQ1caEivKx3DgrYX+UDaBL 5P2deNmmjqK4DdW4u+JaVVo3/gonysL2DcKnM08Fe32b7khtmiQWy1mBCamYyfDR2D7VbXF53qM 0T6W5tOO2PJ7hr/Q8hXsb1GtqMlOekCxd259VIA3Z4Lx99Dk/jaYkOItZOgnoQVLoa8jvTKpChx hxPGUpnsELcxI44EbW6oGQQi+OD3/v51jeJi07zqGQ== X-Google-Smtp-Source: AGHT+IE76REN1fG4XIXoz9poJdKTcjogksPuQirMnZ+ThdZWQIzukoDK1uZdCfBV5bD3ODqQU054qkmpRY/k X-Received: by 2002:a17:902:f544:b0:220:f06b:318 with SMTP id d9443c01a7336-2217077129cmr96237605ad.14.1740021561058; Wed, 19 Feb 2025 19:19:21 -0800 (PST) Received: from postal.iol.unh.edu (postal.iol.unh.edu. [2606:4100:3880:1234::84]) by smtp-relay.gmail.com with ESMTPS id d9443c01a7336-220d5201dbesm7624955ad.21.2025.02.19.19.19.20 (version=TLS1_2 cipher=ECDHE-ECDSA-AES128-GCM-SHA256 bits=128/128); Wed, 19 Feb 2025 19:19:21 -0800 (PST) X-Relaying-Domain: iol.unh.edu Date: Wed, 19 Feb 2025 19:19:21 -0800 (PST) Message-ID: <67b69f39.170a0220.26a33e.669eSMTPIN_ADDED_MISSING@mx.google.com> Received: from [172.21.0.6] (unknown [172.18.0.240]) by postal.iol.unh.edu (Postfix) with ESMTP id 3941E6052471; Wed, 19 Feb 2025 22:19:20 -0500 (EST) Subject: |SUCCESS| [GIT MASTER] fab31a03ba98e7457284df95dd9eef2223a4ccaa From: dpdklab@iol.unh.edu To: Test Report Cc: dpdk-test-reports@iol.unh.edu Content-Type: text/plain X-BeenThere: test-report@dpdk.org X-Mailman-Version: 2.1.29 Precedence: list List-Id: automatic DPDK test reports List-Unsubscribe: , List-Archive: List-Post: List-Help: List-Subscribe: , Errors-To: test-report-bounces@dpdk.org _Testing PASS_ Branch: dpdk fab31a03ba98e7457284df95dd9eef2223a4ccaa --> testing pass Upstream job id: Generic-DPDK-Compile-Meson#363081 Test environment and result as below: +---------------------+--------------------+-------------------+------------------+-------------------------+-------------------+----------------------+ | Environment | dpdk_meson_compile | dpdk_compile_spdk | dpdk_compile_ovs | dpdk_llvm_clang_compile | dpdk_msvc_compile | dpdk_mingw64_compile | +=====================+====================+===================+==================+=========================+===================+======================+ | CentOS Stream 9 | PASS | PASS | SKIPPED | SKIPPED | SKIPPED | SKIPPED | +---------------------+--------------------+-------------------+------------------+-------------------------+-------------------+----------------------+ | CentOS Stream 10 | PASS | SKIPPED | SKIPPED | SKIPPED | SKIPPED | SKIPPED | +---------------------+--------------------+-------------------+------------------+-------------------------+-------------------+----------------------+ | Debian Bullseye | PASS | PASS | SKIPPED | SKIPPED | SKIPPED | SKIPPED | +---------------------+--------------------+-------------------+------------------+-------------------------+-------------------+----------------------+ | Fedora 40 | PASS | PASS | SKIPPED | SKIPPED | SKIPPED | SKIPPED | +---------------------+--------------------+-------------------+------------------+-------------------------+-------------------+----------------------+ | Debian 12 | PASS | PASS | SKIPPED | SKIPPED | SKIPPED | SKIPPED | +---------------------+--------------------+-------------------+------------------+-------------------------+-------------------+----------------------+ | Fedora 41 (Clang) | PASS | PASS | PASS | SKIPPED | SKIPPED | SKIPPED | +---------------------+--------------------+-------------------+------------------+-------------------------+-------------------+----------------------+ | Fedora 40 (Clang) | PASS | PASS | SKIPPED | SKIPPED | SKIPPED | SKIPPED | +---------------------+--------------------+-------------------+------------------+-------------------------+-------------------+----------------------+ | RHEL8 | PASS | SKIPPED | SKIPPED | SKIPPED | SKIPPED | SKIPPED | +---------------------+--------------------+-------------------+------------------+-------------------------+-------------------+----------------------+ | Ubuntu 22.04 | PASS | PASS | SKIPPED | SKIPPED | SKIPPED | SKIPPED | +---------------------+--------------------+-------------------+------------------+-------------------------+-------------------+----------------------+ | openSUSE Leap 15 | PASS | SKIPPED | SKIPPED | SKIPPED | SKIPPED | SKIPPED | +---------------------+--------------------+-------------------+------------------+-------------------------+-------------------+----------------------+ | Ubuntu 20.04 | PASS | SKIPPED | SKIPPED | SKIPPED | SKIPPED | SKIPPED | +---------------------+--------------------+-------------------+------------------+-------------------------+-------------------+----------------------+ | RHEL9 | PASS | SKIPPED | SKIPPED | SKIPPED | SKIPPED | SKIPPED | +---------------------+--------------------+-------------------+------------------+-------------------------+-------------------+----------------------+ | Ubuntu 24.04 | PASS | PASS | PASS | SKIPPED | SKIPPED | SKIPPED | +---------------------+--------------------+-------------------+------------------+-------------------------+-------------------+----------------------+ | Alpine | PASS | SKIPPED | SKIPPED | SKIPPED | SKIPPED | SKIPPED | +---------------------+--------------------+-------------------+------------------+-------------------------+-------------------+----------------------+ | Arch Linux | PASS | SKIPPED | SKIPPED | SKIPPED | SKIPPED | SKIPPED | +---------------------+--------------------+-------------------+------------------+-------------------------+-------------------+----------------------+ | FreeBSD 13.4 | PASS | SKIPPED | SKIPPED | SKIPPED | SKIPPED | SKIPPED | +---------------------+--------------------+-------------------+------------------+-------------------------+-------------------+----------------------+ | FreeBSD 14.2 | PASS | SKIPPED | SKIPPED | SKIPPED | SKIPPED | SKIPPED | +---------------------+--------------------+-------------------+------------------+-------------------------+-------------------+----------------------+ | Fedora 41 | PASS | PASS | PASS | SKIPPED | SKIPPED | SKIPPED | +---------------------+--------------------+-------------------+------------------+-------------------------+-------------------+----------------------+ | Windows Server 2022 | SKIPPED | SKIPPED | SKIPPED | PASS | PASS | PASS | +---------------------+--------------------+-------------------+------------------+-------------------------+-------------------+----------------------+ CentOS Stream 9 Kernel: Depends on container host Compiler: gcc 11.5.0 20240719 (Red Hat 11.5.0-2) CentOS Stream 10 Kernel: Depends on container host Compiler: gcc 14.2.1 20241104 (Red Hat 14.2.1-6) Debian Bullseye Kernel: Depends on container host Compiler: gcc (Debian 10.2.1-6) 10.2.1 20210110 Fedora 40 Kernel: Depends on container host Compiler: gcc 14.2.1 20240912 (Red Hat 14.2.1-3) Debian 12 Kernel: Depends on container host Compiler: gcc (Debian 12.2.0-14) 12.2.0 Fedora 41 (Clang) Kernel: Depends on container host Compiler: clang 19.1.5 (Fedora 19.1.5-1.fc41) Fedora 40 (Clang) Kernel: Depends on container host Compiler: clang 18.1.8 (Fedora 18.1.8-1.fc40) RHEL8 Kernel: Depends on container host Compiler: gcc 8.5.0 20210514 (Red Hat 8.5.0-22) Ubuntu 22.04 Kernel: Depends on container host Compiler: gcc (Ubuntu 11.4.0-1ubuntu1~22.04) 11.4.0 openSUSE Leap 15 Kernel: Depends on container host Compiler: gcc (SUSE Linux) 7.5.0 Ubuntu 20.04 Kernel: Depends on container host Compiler: gcc (Ubuntu 9.4.0-1ubuntu1~20.04.2) 9.4.0 RHEL9 Kernel: Depends on container host Compiler: gcc 11.5.0 20240719 (Red Hat 11.5.0-2) Ubuntu 24.04 Kernel: Depends on container host Compiler: gcc (Ubuntu 13.3.0-6ubuntu2~24.04) 13.3.0 Alpine Kernel: Depends on container host Compiler: gcc (Alpine 14.2.0) 14.2.0 Arch Linux Kernel: Depends on container host Compiler: gcc 14.2.1 20240910 FreeBSD 13.4 Kernel: 13.4-RELEASE-p1 Compiler: clang 18.1.6 FreeBSD 14.2 Kernel: 14.2-RELEASE Compiler: clang 18.1.6 Fedora 41 Kernel: Depends on container host Compiler: gcc 14.2.1 20240912 (Red Hat 14.2.1-3) Windows Server 2022 Kernel: 10.0.20348.2031 Compiler: clang 15.0.7, gcc 14.1.0 (MinGW), and MSVC VS 19.39.33521 To view detailed results, visit: https://lab.dpdk.org/results/dashboard/tarballs/32626/ UNH-IOL DPDK Community Lab To manage your email subscriptions, visit: https://lab.dpdk.org/results/dashboard/preferences/subscriptions/