From mboxrd@z Thu Jan 1 00:00:00 1970 Return-Path: Received: from mails.dpdk.org (mails.dpdk.org [217.70.189.124]) by inbox.dpdk.org (Postfix) with ESMTP id 40CBC46270 for ; Thu, 20 Feb 2025 04:45:37 +0100 (CET) Received: from mails.dpdk.org (localhost [127.0.0.1]) by mails.dpdk.org (Postfix) with ESMTP id 1872A4014F; Thu, 20 Feb 2025 04:45:37 +0100 (CET) Received: from mail-oo1-f97.google.com (mail-oo1-f97.google.com [209.85.161.97]) by mails.dpdk.org (Postfix) with ESMTP id 1314740041 for ; Thu, 20 Feb 2025 04:45:36 +0100 (CET) Received: by mail-oo1-f97.google.com with SMTP id 006d021491bc7-5f88b61399dso770943eaf.1 for ; Wed, 19 Feb 2025 19:45:36 -0800 (PST) DKIM-Signature: v=1; a=rsa-sha256; c=relaxed/relaxed; d=iol.unh.edu; s=unh-iol; t=1740023135; x=1740627935; darn=dpdk.org; h=references:in-reply-to:cc:to:from:subject:message-id:date:from:to :cc:subject:date:message-id:reply-to; bh=caT7gHW5qNNYWSlthhs6C8D9Aa19UXVCNxdlNfp8/Sk=; b=fcDKTXuNekqML1Q9eNULD//T7PJgrq5FQAN6aLBMPEPo0tnN2SJeIDivb/2hEfANZs J77oL77xi59C/hUM/mOMU8sl7l9WN/Gznt6lzBZCW1Md++grUIE1rkpO//3pQb127IqV +sXeFSMDbWoUVHLUqeePWYAJqvDJSAIGS9Hsk= X-Google-DKIM-Signature: v=1; a=rsa-sha256; c=relaxed/relaxed; d=1e100.net; s=20230601; t=1740023135; x=1740627935; h=references:in-reply-to:cc:to:from:subject:message-id:date :x-gm-message-state:from:to:cc:subject:date:message-id:reply-to; bh=caT7gHW5qNNYWSlthhs6C8D9Aa19UXVCNxdlNfp8/Sk=; b=C33cKQn6IDueTkmEsrurX4C97HnXIW8i61up4KZxEmZApW9h1tBkQ3qOsvmROvB+Ih JN634Ue1baAiQHc54I9s/pS/viGDc1/9jOKATvWepRC/JYzZLhz5o8NaU8BGlQn3jN+G JUrZSPxr7HIssdn1HWRbo2VNJbJ77YQLZMcyvcjPLOVwSlyVqG00jM88jdfPfx057rPv RcnKXlzEh20T/V21zzacyIEUku6RfxVw1qiiKIvtuEN1nRI9GrbasefuikVLuIY/iUgt vGJTCdjnp70AV4uKLN9GiU/8SkUPW5IX+TWWyjjvVcFjQVKPfewoAtPcOtYqNLFgSsIP iS3Q== X-Gm-Message-State: AOJu0YxmWcKPsG9zVC83MRofhHUhDjLjUJ9b0aSs/kmR0ypE998Ee9J1 NC2M0oSCxyDmX2pMfy5oPVNViB/c0NSlUeF18px6zTuReOU8qXGQGQEAH4kMQsStoX0aVNGbc7i xOEYc3nFZpbCwzD/O7VR9Xx8Zbc1wRI7e+K1ktkH1fb2o7HQ5oZSFGMsc X-Gm-Gg: ASbGncvG2HJ6VlMT5k61E5O9s0Fw/c+IYBLrIWxn7kuE5u5elJD8NP7cX+aAj3iTrLg VCzTIg6YAIh2/GaNZhQwEuU6BUeBuDIPzgxSBZm0QZV2bLIh/qshw7QDrtKugU8lKG7PQ6w7Sd1 +jpzWiDyxykDN5QZxAtKWtNCjZ8bn8JaDXLC0HqEFDL9m9i1gqo0+0ZQBil8D8KgtwYoGxMhsSY cpBPgMf5GtK26oRiVqr2HXlvPQk+EJNTQWmb26t4res6HdIpCBQ4pHPQ6jJEKvEQXUlYyEA+J/F UDWl/4dsVvt7/1yW/NV+FQ/8kv+eGP2tLjurju9IZQ== X-Google-Smtp-Source: AGHT+IHsu2S+vesP4FdHcqgE6/o9AqqT/+1NT35Q581n8CwPomzAwZ/ONT1pOy4jV1G+Kdi5kUX1U1E2EzH5 X-Received: by 2002:a05:6871:d104:b0:2b7:f6c5:3c78 with SMTP id 586e51a60fabf-2bd2fbe544bmr1485838fac.8.1740023135225; Wed, 19 Feb 2025 19:45:35 -0800 (PST) Received: from postal.iol.unh.edu (postal.iol.unh.edu. [2606:4100:3880:1234::84]) by smtp-relay.gmail.com with ESMTPS id 586e51a60fabf-2b9548f5bfdsm881072fac.23.2025.02.19.19.45.35 (version=TLS1_2 cipher=ECDHE-ECDSA-AES128-GCM-SHA256 bits=128/128); Wed, 19 Feb 2025 19:45:35 -0800 (PST) X-Relaying-Domain: iol.unh.edu Date: Wed, 19 Feb 2025 19:45:35 -0800 (PST) Message-ID: <67b6a55f.050a0220.1528b2.aebaSMTPIN_ADDED_MISSING@mx.google.com> Received: from [172.21.0.7] (unknown [172.18.0.240]) by postal.iol.unh.edu (Postfix) with ESMTP id A50CE6052471; Wed, 19 Feb 2025 22:45:34 -0500 (EST) Subject: |SUCCESS| pw151658-151665 [PATCH] [v3,10/10] app: enable app directo From: dpdklab@iol.unh.edu To: Test Report Cc: dpdk-test-reports@iol.unh.edu In-Reply-To: <1740016899-2817-11-git-send-email-andremue@linux.microsoft.com> References: <1740016899-2817-11-git-send-email-andremue@linux.microsoft.com> Content-Type: text/plain X-BeenThere: test-report@dpdk.org X-Mailman-Version: 2.1.29 Precedence: list List-Id: automatic DPDK test reports List-Unsubscribe: , List-Archive: List-Post: List-Help: List-Subscribe: , Errors-To: test-report-bounces@dpdk.org Test-Label: iol-unit-amd64-testing Test-Status: SUCCESS http://dpdk.org/patch/151665 _Testing PASS_ Submitter: Andre Muezerie Date: Thursday, February 20 2025 02:01:39 DPDK git baseline: Repo:dpdk Branch: master CommitID:fab31a03ba98e7457284df95dd9eef2223a4ccaa 151658-151665 --> testing pass Upstream job id: Generic-Unit-Test-DPDK#316325 Test environment and result as below: +---------------------+----------------+ | Environment | dpdk_unit_test | +=====================+================+ | CentOS Stream 10 | PASS | +---------------------+----------------+ | CentOS Stream 9 | PASS | +---------------------+----------------+ | Debian Bullseye | PASS | +---------------------+----------------+ | Fedora 40 | PASS | +---------------------+----------------+ | Debian 12 | PASS | +---------------------+----------------+ | Fedora 41 | PASS | +---------------------+----------------+ | RHEL9 | PASS | +---------------------+----------------+ | Fedora 41 (Clang) | PASS | +---------------------+----------------+ | Fedora 40 (Clang) | PASS | +---------------------+----------------+ | Ubuntu 22.04 | PASS | +---------------------+----------------+ | RHEL8 | PASS | +---------------------+----------------+ | Ubuntu 20.04 | PASS | +---------------------+----------------+ | Ubuntu 24.04 | PASS | +---------------------+----------------+ | Windows Server 2022 | PASS | +---------------------+----------------+ CentOS Stream 10 Kernel: Depends on container host Compiler: gcc 14.2.1 20241104 (Red Hat 14.2.1-6) CentOS Stream 9 Kernel: Depends on container host Compiler: gcc 11.5.0 20240719 (Red Hat 11.5.0-2) Debian Bullseye Kernel: Depends on container host Compiler: gcc (Debian 10.2.1-6) 10.2.1 20210110 Fedora 40 Kernel: Depends on container host Compiler: gcc 14.2.1 20240912 (Red Hat 14.2.1-3) Debian 12 Kernel: Depends on container host Compiler: gcc (Debian 12.2.0-14) 12.2.0 Fedora 41 Kernel: Depends on container host Compiler: gcc 14.2.1 20240912 (Red Hat 14.2.1-3) RHEL9 Kernel: Depends on container host Compiler: gcc 11.5.0 20240719 (Red Hat 11.5.0-2) Fedora 41 (Clang) Kernel: Depends on container host Compiler: clang 19.1.5 (Fedora 19.1.5-1.fc41) Fedora 40 (Clang) Kernel: Depends on container host Compiler: clang 18.1.8 (Fedora 18.1.8-1.fc40) Ubuntu 22.04 Kernel: Depends on container host Compiler: gcc (Ubuntu 11.4.0-1ubuntu1~22.04) 11.4.0 RHEL8 Kernel: Depends on container host Compiler: gcc 8.5.0 20210514 (Red Hat 8.5.0-22) Ubuntu 20.04 Kernel: Depends on container host Compiler: gcc (Ubuntu 9.4.0-1ubuntu1~20.04.2) 9.4.0 Ubuntu 24.04 Kernel: Depends on container host Compiler: gcc (Ubuntu 13.3.0-6ubuntu2~24.04) 13.3.0 Windows Server 2022 Kernel: 10.0.20348.2031 Compiler: clang 15.0.7, gcc 14.1.0 (MinGW), and MSVC VS 19.39.33521 To view detailed results, visit: https://lab.dpdk.org/results/dashboard/patchsets/32615/ UNH-IOL DPDK Community Lab To manage your email subscriptions, visit: https://lab.dpdk.org/results/dashboard/preferences/subscriptions/