From mboxrd@z Thu Jan 1 00:00:00 1970 Return-Path: Received: from mails.dpdk.org (mails.dpdk.org [217.70.189.124]) by inbox.dpdk.org (Postfix) with ESMTP id 0569946270 for ; Thu, 20 Feb 2025 04:52:52 +0100 (CET) Received: from mails.dpdk.org (localhost [127.0.0.1]) by mails.dpdk.org (Postfix) with ESMTP id 0CC324014F; Thu, 20 Feb 2025 04:52:52 +0100 (CET) Received: from mail-pl1-f227.google.com (mail-pl1-f227.google.com [209.85.214.227]) by mails.dpdk.org (Postfix) with ESMTP id 8C1BD40041 for ; Thu, 20 Feb 2025 04:52:50 +0100 (CET) Received: by mail-pl1-f227.google.com with SMTP id d9443c01a7336-2211acda7f6so8388625ad.3 for ; Wed, 19 Feb 2025 19:52:50 -0800 (PST) DKIM-Signature: v=1; a=rsa-sha256; c=relaxed/relaxed; d=iol.unh.edu; s=unh-iol; t=1740023569; x=1740628369; darn=dpdk.org; h=references:in-reply-to:cc:to:from:subject:message-id:date:from:to :cc:subject:date:message-id:reply-to; bh=tQkkYC1PqyfWL384FCpZE5IfEeSs3Cgvuxm8P51WUYA=; b=hoI2Pe79M4jENy6RP1gqF7LQns8YLyXg0MDZRDHuqzMbuOvar1H4/IaI1UdozaWOde ZjnqW3RIUe5rs5jDR9pVWilxurNmaKQoEPTTcaDpI+cs0uU5qTMwczy7g0WsgYttY1HC mrERyiSsbiw9azHSa89ZBSmC2s11B3eJU1PsM= X-Google-DKIM-Signature: v=1; a=rsa-sha256; c=relaxed/relaxed; d=1e100.net; s=20230601; t=1740023569; x=1740628369; h=references:in-reply-to:cc:to:from:subject:message-id:date :x-gm-message-state:from:to:cc:subject:date:message-id:reply-to; bh=tQkkYC1PqyfWL384FCpZE5IfEeSs3Cgvuxm8P51WUYA=; b=rU78vQ2FxijcbFOZo3KnET2khAEXHkwFInffUIO0rYGOKAlZ2hw8ENGvDC7R7OWOpZ /0dwxsr32g6+3gAATU30qTNKh6UzEYbXRqCiLANO8aUumjoSlzwA5gvURKUGgW7GHRHY lR67avViliWUm+tQbiDiUj/1fin4A+7FjBvDMH7xBsHKhLKlu674oToXg++wVVJFlmU6 96qBkcejluIMKD+6yPwShmm+RLEOiTRDKDuFPVIx/rtJSQF3u58gPRAFzt/qN0HWzxLr tKDX22RKUtOky4U0fg6OIXmTFulSrx6nv8pNWGS4xXl/sShFi4zA61yS5T4ZoF2W+pYL Ondw== X-Gm-Message-State: AOJu0YxYr2D6ps1SnTmyrxInVHzQOEguhyDYXV7SvpdICl4rDeezSLQJ 6al0fW4vk4KGGpl2OJMYhwspwJZPwj3RY9fgZKpxej2dBrYsVn3+v+EQ/BkO50zHD0Fwsd6fukr NNP/TKlVV+oxN2dfxHbzeuaAkc0yDEck6r57amIHl X-Gm-Gg: ASbGnct2D9guGgF89b/AtKuQFDQZpuLANN5EkLg6tmo/UuxjVL+yWM/uacEuH59afU0 vFRh8Ovv3nHBaVoniOxkQ/DHCJKXIPnBcvpweVFu3qYrdw66LDp304QKHTeL/SBUb/nVm7B7qMx an5VO+pfdQ1K9CvLGHqt8vbDJlGtRH4CJmm7vNLZo5htmMnp2ans3gYTvBQ36AmqoPx5j7nlQx4 WeXpGyCy1MTNUUJtn+ycGx+eMJQhU6EzsSzD9JTwagHG8UDsHL944ZieeK74Wv/QJj1utLEXZhZ 4r457msBJYVFCvZXRpr3vAxrQyP20A== X-Google-Smtp-Source: AGHT+IHrWKgS5gpm75V4JcCI2xcqtYc/xdFYgRL+vK5aCM7XOD/LHtpt7HUHO6U+MsHCnXiB3goNvXwWJ4+8 X-Received: by 2002:a17:902:e746:b0:220:f7bb:849 with SMTP id d9443c01a7336-221709654b8mr71159405ad.13.1740023569341; Wed, 19 Feb 2025 19:52:49 -0800 (PST) Received: from postal.iol.unh.edu (postal.iol.unh.edu. [132.177.123.84]) by smtp-relay.gmail.com with ESMTPS id d9443c01a7336-220d53fa1c8sm6970375ad.89.2025.02.19.19.52.49 (version=TLS1_2 cipher=ECDHE-ECDSA-AES128-GCM-SHA256 bits=128/128); Wed, 19 Feb 2025 19:52:49 -0800 (PST) X-Relaying-Domain: iol.unh.edu Date: Wed, 19 Feb 2025 19:52:49 -0800 (PST) Message-ID: <67b6a711.170a0220.aac7f.1ce0SMTPIN_ADDED_MISSING@mx.google.com> Received: from [172.21.0.5] (unknown [172.18.0.240]) by postal.iol.unh.edu (Postfix) with ESMTP id 5B09C6052471; Wed, 19 Feb 2025 22:52:48 -0500 (EST) Subject: |SUCCESS| pw151658-151665 [PATCH] [v3,10/10] app: enable app directo From: dpdklab@iol.unh.edu To: Test Report Cc: dpdk-test-reports@iol.unh.edu In-Reply-To: <1740016899-2817-11-git-send-email-andremue@linux.microsoft.com> References: <1740016899-2817-11-git-send-email-andremue@linux.microsoft.com> Content-Type: text/plain X-BeenThere: test-report@dpdk.org X-Mailman-Version: 2.1.29 Precedence: list List-Id: automatic DPDK test reports List-Unsubscribe: , List-Archive: List-Post: List-Help: List-Subscribe: , Errors-To: test-report-bounces@dpdk.org Test-Label: iol-sample-apps-testing Test-Status: SUCCESS http://dpdk.org/patch/151665 _Testing PASS_ Submitter: Andre Muezerie Date: Thursday, February 20 2025 02:01:39 DPDK git baseline: Repo:dpdk Branch: master CommitID:fab31a03ba98e7457284df95dd9eef2223a4ccaa 151658-151665 --> testing pass Upstream job id: ACVP-FIPS-testing#8964 Test environment and result as below: +--------------------+----------------------+----------------------+ | Environment | compressdev_zlib_pmd | dpdk_fips_validation | +====================+======================+======================+ | Ubuntu 22.04 (ARM) | PASS | SKIPPED | +--------------------+----------------------+----------------------+ | Ubuntu 22.04 | PASS | SKIPPED | +--------------------+----------------------+----------------------+ | Ubuntu 20.04 | SKIPPED | PASS | +--------------------+----------------------+----------------------+ Ubuntu 22.04 (ARM) Kernel: 5.15.0-97-generic Compiler: gcc gcc (Ubuntu 11.4.0-1ubuntu1~22.04) 11.4.0 Ubuntu 22.04 Kernel: 5.15.0-100-generic Compiler: gcc gcc (Ubuntu 11.4.0-1ubuntu1~22.04) 11.4.0 Ubuntu 20.04 Kernel: Depends on container host Compiler: gcc (Ubuntu 9.4.0-1ubuntu1~20.04.2) 9.4.0 To view detailed results, visit: https://lab.dpdk.org/results/dashboard/patchsets/32615/ UNH-IOL DPDK Community Lab To manage your email subscriptions, visit: https://lab.dpdk.org/results/dashboard/preferences/subscriptions/