From mboxrd@z Thu Jan 1 00:00:00 1970 Return-Path: Received: from mails.dpdk.org (mails.dpdk.org [217.70.189.124]) by inbox.dpdk.org (Postfix) with ESMTP id 9727B46270 for ; Thu, 20 Feb 2025 04:55:30 +0100 (CET) Received: from mails.dpdk.org (localhost [127.0.0.1]) by mails.dpdk.org (Postfix) with ESMTP id 7332F4014F; Thu, 20 Feb 2025 04:55:30 +0100 (CET) Received: from mail-qv1-f99.google.com (mail-qv1-f99.google.com [209.85.219.99]) by mails.dpdk.org (Postfix) with ESMTP id 4D27040041 for ; Thu, 20 Feb 2025 04:55:29 +0100 (CET) Received: by mail-qv1-f99.google.com with SMTP id 6a1803df08f44-6e65baef2edso4012136d6.2 for ; Wed, 19 Feb 2025 19:55:29 -0800 (PST) DKIM-Signature: v=1; a=rsa-sha256; c=relaxed/relaxed; d=iol.unh.edu; s=unh-iol; t=1740023728; x=1740628528; darn=dpdk.org; h=references:in-reply-to:cc:to:from:subject:message-id:date:from:to :cc:subject:date:message-id:reply-to; bh=KDpo/Tnn/1beM0zijiaS100YM9Nxix1m00I+3xyaBbs=; b=S/E0ZRaK4BDrV5vuq9WX4mcq8MqlOEjeWya10Fo6XBRB3rK6iNXjR+Gh3vSL/M/tl7 pbt2SskPMMdgsK+DFC2jDXfchA61SfBFWgCMmDgyQtOjPKNEjdFFxttCMVJSIOQw/p8a i9pMUYh2JCxy8plVX1R7uZwTbD41S4RNTFMGw= X-Google-DKIM-Signature: v=1; a=rsa-sha256; c=relaxed/relaxed; d=1e100.net; s=20230601; t=1740023728; x=1740628528; h=references:in-reply-to:cc:to:from:subject:message-id:date :x-gm-message-state:from:to:cc:subject:date:message-id:reply-to; bh=KDpo/Tnn/1beM0zijiaS100YM9Nxix1m00I+3xyaBbs=; b=KnfiGmXQVMUBnytJjRZn2iplkuV6xup9oy5D2vJdKYdIFa2Bp1Lw0CDaaVoI3bfReP IQdPiZUJIOem1bwFVp+n13HwD8uVr4exSzxLyfaM7nCm4ZjvLVA0Cd5ROuvJX4JbhNAw vVzg5ShVTT6zFXKXO2wflox0rJqeEaNi2TqRwNt3lQIlps1QGysowqwtuN7MmJtc+Se9 9Xwi2OLiQhJMfYs/4p9VfYKqb9xa5b/eALYrQ9EzbYCZnDqNL+c9jFsPqDPHwjwDDvK+ OC9zRqoEmna9DXbjdw0H5uKYeEn9yaADWdx+i4TE0rZj+7aaN5v1RJx+x/opuWpG/vfU yPqg== X-Gm-Message-State: AOJu0YxLGyOR9xci1HU1KmwrPkbksGm4pAjIWlwCMF2AXVBFl0n/YpCD MjJ933BYMrDx4qhPuKGZWvKFn1e5QeZwDhTBlmuh5d8/g7FJhNkblrArN9xtHaETvA3HUZF+qoE uDKNVvlWL6H9GzOdNtL0/QVW4s4GR2rXAYCzCQ2pQFbPTnqLlTiXbFQOE X-Gm-Gg: ASbGncu6EpCspKK8LN6C3gbRboAgxK/k795NV6Z+n0L9b8GNlnGNMc6ge+0j+aThZAm BWOjly+xmPa7LktRlWs5md1L8MSrefxMuaDc41G8SfZgS+jtPsHLtE5znTIbRHdVQqtg4V05MNm YeBjcNAlf4oWXpY73nha9AH9J8k3PBbjHo4j1P6Rw1BRP/E1bhO6Tjx3Ik8tx059pEdaAdhqnin 8q4eGHWB+PyOvDsXsj6WMvISvGXbGUall4q0yHVZ4QYIfQgvJWzxlQEjUGi3pgExFIt4YltMS2X DKYMqQ9OQeSBDMxMeWLKD4zVH8vzXvVW+cW2laUN0w== X-Google-Smtp-Source: AGHT+IF4b4nF55rkGZy+lUBihm2tpceqZvI0nlfRZsg8KfTWv/mqBwUKxmsIuU4bZYnqOGchF6sWzsUV9tLA X-Received: by 2002:a05:6214:528b:b0:6e4:2cfa:307d with SMTP id 6a1803df08f44-6e6a4bff11emr11920486d6.32.1740023728569; Wed, 19 Feb 2025 19:55:28 -0800 (PST) Received: from postal.iol.unh.edu (postal.iol.unh.edu. [2606:4100:3880:1234::84]) by smtp-relay.gmail.com with ESMTPS id 6a1803df08f44-6e65d783cb0sm5919406d6.46.2025.02.19.19.55.28 (version=TLS1_2 cipher=ECDHE-ECDSA-AES128-GCM-SHA256 bits=128/128); Wed, 19 Feb 2025 19:55:28 -0800 (PST) X-Relaying-Domain: iol.unh.edu Date: Wed, 19 Feb 2025 19:55:28 -0800 (PST) Message-ID: <67b6a7b0.050a0220.1afa2a.d3a0SMTPIN_ADDED_MISSING@mx.google.com> Received: from [172.21.0.6] (unknown [172.18.0.240]) by postal.iol.unh.edu (Postfix) with ESMTP id 436836052471; Wed, 19 Feb 2025 22:55:28 -0500 (EST) Subject: |SUCCESS| pw151658-151665 [PATCH] [v3,10/10] app: enable app directo From: dpdklab@iol.unh.edu To: Test Report Cc: dpdk-test-reports@iol.unh.edu In-Reply-To: <1740016899-2817-11-git-send-email-andremue@linux.microsoft.com> References: <1740016899-2817-11-git-send-email-andremue@linux.microsoft.com> Content-Type: text/plain X-BeenThere: test-report@dpdk.org X-Mailman-Version: 2.1.29 Precedence: list List-Id: automatic DPDK test reports List-Unsubscribe: , List-Archive: List-Post: List-Help: List-Subscribe: , Errors-To: test-report-bounces@dpdk.org Test-Label: iol-abi-testing Test-Status: SUCCESS http://dpdk.org/patch/151665 _Testing PASS_ Submitter: Andre Muezerie Date: Thursday, February 20 2025 02:01:39 DPDK git baseline: Repo:dpdk Branch: master CommitID:fab31a03ba98e7457284df95dd9eef2223a4ccaa 151658-151665 --> testing pass Upstream job id: Generic-DPDK-Compile-ABI#116791 Test environment and result as below: +-------------------+----------+ | Environment | abi_test | +===================+==========+ | CentOS Stream 9 | PASS | +-------------------+----------+ | CentOS Stream 10 | PASS | +-------------------+----------+ | Debian 12 | PASS | +-------------------+----------+ | Debian Bullseye | PASS | +-------------------+----------+ | Fedora 40 (Clang) | PASS | +-------------------+----------+ | Fedora 41 (Clang) | PASS | +-------------------+----------+ | openSUSE Leap 15 | PASS | +-------------------+----------+ | Fedora 40 | PASS | +-------------------+----------+ | Fedora 41 | PASS | +-------------------+----------+ | RHEL9 | PASS | +-------------------+----------+ | Ubuntu 22.04 | PASS | +-------------------+----------+ | RHEL8 | PASS | +-------------------+----------+ | Ubuntu 24.04 | PASS | +-------------------+----------+ CentOS Stream 9 Kernel: Depends on container host Compiler: gcc 11.5.0 20240719 (Red Hat 11.5.0-2) CentOS Stream 10 Kernel: Depends on container host Compiler: gcc 14.2.1 20241104 (Red Hat 14.2.1-6) Debian 12 Kernel: Depends on container host Compiler: gcc (Debian 12.2.0-14) 12.2.0 Debian Bullseye Kernel: Depends on container host Compiler: gcc (Debian 10.2.1-6) 10.2.1 20210110 Fedora 40 (Clang) Kernel: Depends on container host Compiler: clang 18.1.8 (Fedora 18.1.8-1.fc40) Fedora 41 (Clang) Kernel: Depends on container host Compiler: clang 19.1.5 (Fedora 19.1.5-1.fc41) openSUSE Leap 15 Kernel: Depends on container host Compiler: gcc (SUSE Linux) 7.5.0 Fedora 40 Kernel: Depends on container host Compiler: gcc 14.2.1 20240912 (Red Hat 14.2.1-3) Fedora 41 Kernel: Depends on container host Compiler: gcc 14.2.1 20240912 (Red Hat 14.2.1-3) RHEL9 Kernel: Depends on container host Compiler: gcc 11.5.0 20240719 (Red Hat 11.5.0-2) Ubuntu 22.04 Kernel: Depends on container host Compiler: gcc (Ubuntu 11.4.0-1ubuntu1~22.04) 11.4.0 RHEL8 Kernel: Depends on container host Compiler: gcc 8.5.0 20210514 (Red Hat 8.5.0-22) Ubuntu 24.04 Kernel: Depends on container host Compiler: gcc (Ubuntu 13.3.0-6ubuntu2~24.04) 13.3.0 To view detailed results, visit: https://lab.dpdk.org/results/dashboard/patchsets/32615/ UNH-IOL DPDK Community Lab To manage your email subscriptions, visit: https://lab.dpdk.org/results/dashboard/preferences/subscriptions/