From mboxrd@z Thu Jan 1 00:00:00 1970 Return-Path: Received: from mails.dpdk.org (mails.dpdk.org [217.70.189.124]) by inbox.dpdk.org (Postfix) with ESMTP id F30F346270 for ; Thu, 20 Feb 2025 05:35:32 +0100 (CET) Received: from mails.dpdk.org (localhost [127.0.0.1]) by mails.dpdk.org (Postfix) with ESMTP id D2CCC4014F; Thu, 20 Feb 2025 05:35:32 +0100 (CET) Received: from mail-ot1-f99.google.com (mail-ot1-f99.google.com [209.85.210.99]) by mails.dpdk.org (Postfix) with ESMTP id C46CD40041 for ; Thu, 20 Feb 2025 05:35:31 +0100 (CET) Received: by mail-ot1-f99.google.com with SMTP id 46e09a7af769-726819aa651so209268a34.1 for ; Wed, 19 Feb 2025 20:35:31 -0800 (PST) DKIM-Signature: v=1; a=rsa-sha256; c=relaxed/relaxed; d=iol.unh.edu; s=unh-iol; t=1740026131; x=1740630931; darn=dpdk.org; h=references:in-reply-to:cc:to:from:subject:message-id:date:from:to :cc:subject:date:message-id:reply-to; bh=LtziO4yAgm7UYHDHNbvFbRXJ58bZlqz4vX/zOtBQFfU=; b=C8IeaU9K6gqY2LCSiYwQmBzgWZ/BPveuwbu1953fz46Ix6l+wz46MqicV7ImNZg8Xd WKC7U5RVZOGZZJ9I7zU+CLPeQMeM4sB30RHLW5ATYbGRYcMOjagTfPx7wuO/Lc23lXPl UZ+YbcyJQ/fHUxkCjANP70wQf8XqtxlctVYME= X-Google-DKIM-Signature: v=1; a=rsa-sha256; c=relaxed/relaxed; d=1e100.net; s=20230601; t=1740026131; x=1740630931; h=references:in-reply-to:cc:to:from:subject:message-id:date :x-gm-message-state:from:to:cc:subject:date:message-id:reply-to; bh=LtziO4yAgm7UYHDHNbvFbRXJ58bZlqz4vX/zOtBQFfU=; b=dnsGRJmlXgQFgJoYKqCEApUVZrPmaGAxLHI+S+on3X8bReJKAXWoZQJSjbo6wsj5nV WSV3b8byjYZ/XMgMOmyJiP9mIxWS1tNMqvJ6682pQpfFDHqIN3ldf2///HioEW0u2GhE QOEn1KYcWrB8qsy5FB+MuIq7DfQJscWQ3t9g/HSq5Y6hWYUYq/iLs3O9yjrrdSsZdLHy BGgWdfYztnrWYiaMhsLpntXsKkqyEeRGlBoPngeUcLLht7d5kyi3XKdmLAC6g2UbDMSH 6p5i2GGKLpFo8NETNHgpEgra7JA+eXxAbSSAIqXuuHcex9xTDrDntFpfJfndNd2DBWXy RlNg== X-Gm-Message-State: AOJu0YyId48ACvxLRe05wWqOb23s5B5VBY837ly3ym4TjQcNMRbxTD0e 8rD0SPj5VKIWPaoYKKQHKXQoXhNCeJAJJEovjPX3jxa7l1mkBfGYcocIC4pJ/SiFE3N35NrjFsv 5pP9KzxDBZCPsauNkmCfQFwEBPwA9H1aOS4AG45b+skW0Pji8Bc/BEucv X-Gm-Gg: ASbGncvIgcCwDeCTgrI5Sus9LEgKS82YcH9ah593Yl/0dRE+egrOKy45FcIMuclpkvP JD8axxOMNJbVycnJas+SKNGwWb0SE9Ctv9tD2ZHIgk4Wv9a4PxmXs83XMnlK0zO0cwJjy9ISfdU V06/T8EEQGgqSlS1sa5gSxWKLWVxG8d7v4v6Y6m7f6ZDMB2uoIjipIk11td8beLOZGlS18QXMa0 m5ui0m05TN2ho+ewkmYg0jezJxCPSCV3Xw4MB3qQPsl9m9hzR008gXZBipVOpT3YjyUpaXgrUzj EWmNwSBLMP6+r+QfuK0EUiXt1at4Pj26h4CIXxrENQ== X-Google-Smtp-Source: AGHT+IGzI3mI4oDKxvS/pkWXyOM9+ql9KNgwnZJBZVzyvZH0sngXOUiJNoiRqtjq7kyQCMaAoRa4RcqroJuL X-Received: by 2002:a05:6830:3e98:b0:727:24c6:87e8 with SMTP id 46e09a7af769-72724c68a27mr7017965a34.19.1740026130862; Wed, 19 Feb 2025 20:35:30 -0800 (PST) Received: from postal.iol.unh.edu (postal.iol.unh.edu. [2606:4100:3880:1234::84]) by smtp-relay.gmail.com with ESMTPS id 46e09a7af769-72734bff231sm207631a34.5.2025.02.19.20.35.30 (version=TLS1_2 cipher=ECDHE-ECDSA-AES128-GCM-SHA256 bits=128/128); Wed, 19 Feb 2025 20:35:30 -0800 (PST) X-Relaying-Domain: iol.unh.edu Date: Wed, 19 Feb 2025 20:35:30 -0800 (PST) Message-ID: <67b6b112.050a0220.862ec.a128SMTPIN_ADDED_MISSING@mx.google.com> Received: from [172.21.0.5] (unknown [172.18.0.240]) by postal.iol.unh.edu (Postfix) with ESMTP id D93BC6052471; Wed, 19 Feb 2025 23:35:29 -0500 (EST) Subject: |SUCCESS| pw151652-151655 [PATCH] [RFC,v7,4/4] eventdev: documentati From: dpdklab@iol.unh.edu To: Test Report Cc: dpdk-test-reports@iol.unh.edu In-Reply-To: <20250219134325.1195531-5-luka.jankovic@ericsson.com> References: <20250219134325.1195531-5-luka.jankovic@ericsson.com> Content-Type: text/plain X-BeenThere: test-report@dpdk.org X-Mailman-Version: 2.1.29 Precedence: list List-Id: automatic DPDK test reports List-Unsubscribe: , List-Archive: List-Post: List-Help: List-Subscribe: , Errors-To: test-report-bounces@dpdk.org Test-Label: iol-abi-testing Test-Status: SUCCESS http://dpdk.org/patch/151655 _Testing PASS_ Submitter: Luka Jankovic Date: Wednesday, February 19 2025 13:43:25 DPDK git baseline: Repo:dpdk Branch: master CommitID:c0ee1640d89bf118f26e844a03e3182fb0b211c4 151652-151655 --> testing pass Upstream job id: Generic-DPDK-Compile-ABI#116799 Test environment and result as below: +-------------------+----------+ | Environment | abi_test | +===================+==========+ | CentOS Stream 9 | PASS | +-------------------+----------+ | Debian Bullseye | PASS | +-------------------+----------+ | CentOS Stream 10 | PASS | +-------------------+----------+ | Fedora 40 (Clang) | PASS | +-------------------+----------+ | Fedora 41 (Clang) | PASS | +-------------------+----------+ | Fedora 41 | PASS | +-------------------+----------+ | RHEL9 | PASS | +-------------------+----------+ | openSUSE Leap 15 | PASS | +-------------------+----------+ | Ubuntu 22.04 | PASS | +-------------------+----------+ | Ubuntu 24.04 | PASS | +-------------------+----------+ | Debian 12 | PASS | +-------------------+----------+ | Fedora 40 | PASS | +-------------------+----------+ | RHEL8 | PASS | +-------------------+----------+ CentOS Stream 9 Kernel: Depends on container host Compiler: gcc 11.5.0 20240719 (Red Hat 11.5.0-2) Debian Bullseye Kernel: Depends on container host Compiler: gcc (Debian 10.2.1-6) 10.2.1 20210110 CentOS Stream 10 Kernel: Depends on container host Compiler: gcc 14.2.1 20241104 (Red Hat 14.2.1-6) Fedora 40 (Clang) Kernel: Depends on container host Compiler: clang 18.1.8 (Fedora 18.1.8-1.fc40) Fedora 41 (Clang) Kernel: Depends on container host Compiler: clang 19.1.5 (Fedora 19.1.5-1.fc41) Fedora 41 Kernel: Depends on container host Compiler: gcc 14.2.1 20240912 (Red Hat 14.2.1-3) RHEL9 Kernel: Depends on container host Compiler: gcc 11.5.0 20240719 (Red Hat 11.5.0-2) openSUSE Leap 15 Kernel: Depends on container host Compiler: gcc (SUSE Linux) 7.5.0 Ubuntu 22.04 Kernel: Depends on container host Compiler: gcc (Ubuntu 11.4.0-1ubuntu1~22.04) 11.4.0 Ubuntu 24.04 Kernel: Depends on container host Compiler: gcc (Ubuntu 13.3.0-6ubuntu2~24.04) 13.3.0 Debian 12 Kernel: Depends on container host Compiler: gcc (Debian 12.2.0-14) 12.2.0 Fedora 40 Kernel: Depends on container host Compiler: gcc 14.2.1 20240912 (Red Hat 14.2.1-3) RHEL8 Kernel: Depends on container host Compiler: gcc 8.5.0 20210514 (Red Hat 8.5.0-22) To view detailed results, visit: https://lab.dpdk.org/results/dashboard/patchsets/32613/ UNH-IOL DPDK Community Lab To manage your email subscriptions, visit: https://lab.dpdk.org/results/dashboard/preferences/subscriptions/