From mboxrd@z Thu Jan 1 00:00:00 1970 Return-Path: Received: from mails.dpdk.org (mails.dpdk.org [217.70.189.124]) by inbox.dpdk.org (Postfix) with ESMTP id 47B4646270 for ; Thu, 20 Feb 2025 05:37:16 +0100 (CET) Received: from mails.dpdk.org (localhost [127.0.0.1]) by mails.dpdk.org (Postfix) with ESMTP id 4285F4014F; Thu, 20 Feb 2025 05:37:16 +0100 (CET) Received: from mail-io1-f100.google.com (mail-io1-f100.google.com [209.85.166.100]) by mails.dpdk.org (Postfix) with ESMTP id 8ADBD40041 for ; Thu, 20 Feb 2025 05:37:15 +0100 (CET) Received: by mail-io1-f100.google.com with SMTP id ca18e2360f4ac-855a8c1ffe9so15819839f.1 for ; Wed, 19 Feb 2025 20:37:15 -0800 (PST) DKIM-Signature: v=1; a=rsa-sha256; c=relaxed/relaxed; d=iol.unh.edu; s=unh-iol; t=1740026235; x=1740631035; darn=dpdk.org; h=references:in-reply-to:cc:to:from:subject:message-id:date:from:to :cc:subject:date:message-id:reply-to; bh=QmOzGpocYjBQVR4qX1r+MdlPl0jarXJlnFCnjN81Jrg=; b=YebB+GHhzYqfRKoLDMRZh1M+HNtrfNwQWA26LtrGHBFX3tEVD3uAhJ0FJ4e+xCgVpZ LqzJQMahblADzmEfZLD2yG73qn3j7J0JhRODxTw63jsbKncplb75F5Lz3I5dQknP4vyG YBzTB0br5AGvH+vM94HB5GS1CDgGXeSSzzdGA= X-Google-DKIM-Signature: v=1; a=rsa-sha256; c=relaxed/relaxed; d=1e100.net; s=20230601; t=1740026235; x=1740631035; h=references:in-reply-to:cc:to:from:subject:message-id:date :x-gm-message-state:from:to:cc:subject:date:message-id:reply-to; bh=QmOzGpocYjBQVR4qX1r+MdlPl0jarXJlnFCnjN81Jrg=; b=VQg7W0X1Jm+jcQuuf568rsZlv265dwCW9DFXAKZDtLTXTrjKxX5zNBlQi/JoZFjOrQ uQj/w8K7fPB10LdiJ/tUu2uY4rXquiAtgQNl173f0uOY2C5nN1kKJKYPn78Fk/48Ybcj kRRDZbM0/0LL/hrex9V1Ivs1bVNZ3+DOzsmTiIkZyoACAfwclGu30w5pbxCvIAcq/lg+ oH0DY+r1j3SRF07VNCuoNNnr/AdgXjmPXCEXaH2sA9s3VOjmqTRzT+u/OYZdiVls6tl4 aY/qdKtWOa8/Bysa1wq2C2GJj56ugNaivYeYucrGdCHNM+kJUjNTPr9vuL3mG6hMlDVQ lw/w== X-Gm-Message-State: AOJu0YyBX5P80SfUKr9IPjGIMdairiiu0EnYXWqKTrOnURmyfKJXKcCP +TAfT1dIr02IhB+zYCrzzzpIt44OSVjTXgXPkejo1iYFhLKszpMV+t52djOFN/hqz9hwCFgi2kI a3jVLz9Ut6t4hfESTGkySs3Xqb/pNS48egWUISgOuYg2iQSplmh73E56U X-Gm-Gg: ASbGnct4CgSsoLMsXNXmOUtoIECYklDCfF+tJtNieZsdjgUlSIse71/G0Yh2aEa5P0X bG3gCnFIqOWJbO4oa6ene1CQvd0nHSV2Fp0xDa2wMjqWynrf0ugdxgbPU4n/oanprx5h2zPlDW/ hAIXjxiRAX0h4REL8DRGtvVGMOg2ECYvay5ypqmOKWn/tObR4rEKmI/u0sXSmgIoLcaBB1Bbhpr OQBWjj4lZvupXAtF94g2nfOsM65AwVagYAtV4M887XsZwLS2T6LOtd6ARHtGTGk21ImwxEjY6c6 oLTTm7m4IkXxatyy7A6KjcT5mIMZp0mdSNeaLF0w+g== X-Google-Smtp-Source: AGHT+IE0TExWe9PPzgqHV+zwAurQ+kvXA+PBtdoma3eIrzL9re4/M9WSjYOv2Y54anuWgx/o9FNYXRsM8sun X-Received: by 2002:a05:6602:6408:b0:855:31ea:da2e with SMTP id ca18e2360f4ac-8557a0ef458mr2261752639f.6.1740026234880; Wed, 19 Feb 2025 20:37:14 -0800 (PST) Received: from postal.iol.unh.edu (postal.iol.unh.edu. [2606:4100:3880:1234::84]) by smtp-relay.gmail.com with ESMTPS id 8926c6da1cb9f-4ee9f0d2876sm466007173.25.2025.02.19.20.37.14 (version=TLS1_2 cipher=ECDHE-ECDSA-AES128-GCM-SHA256 bits=128/128); Wed, 19 Feb 2025 20:37:14 -0800 (PST) X-Relaying-Domain: iol.unh.edu Date: Wed, 19 Feb 2025 20:37:14 -0800 (PST) Message-ID: <67b6b17a.050a0220.1f5d80.5e29SMTPIN_ADDED_MISSING@mx.google.com> Received: from [172.21.0.5] (unknown [172.18.0.240]) by postal.iol.unh.edu (Postfix) with ESMTP id 696DD6052471; Wed, 19 Feb 2025 23:37:14 -0500 (EST) Subject: |SUCCESS| pw151652-151655 [PATCH] [RFC,v7,4/4] eventdev: documentati From: dpdklab@iol.unh.edu To: Test Report Cc: dpdk-test-reports@iol.unh.edu In-Reply-To: <20250219134325.1195531-5-luka.jankovic@ericsson.com> References: <20250219134325.1195531-5-luka.jankovic@ericsson.com> Content-Type: text/plain X-BeenThere: test-report@dpdk.org X-Mailman-Version: 2.1.29 Precedence: list List-Id: automatic DPDK test reports List-Unsubscribe: , List-Archive: List-Post: List-Help: List-Subscribe: , Errors-To: test-report-bounces@dpdk.org Test-Label: iol-abi-testing Test-Status: SUCCESS http://dpdk.org/patch/151655 _Testing PASS_ Submitter: Luka Jankovic Date: Wednesday, February 19 2025 13:43:25 DPDK git baseline: Repo:dpdk Branch: master CommitID:c0ee1640d89bf118f26e844a03e3182fb0b211c4 151652-151655 --> testing pass Upstream job id: Generic-DPDK-Compile-ABI#116803 Test environment and result as below: +-------------------+----------+ | Environment | abi_test | +===================+==========+ | CentOS Stream 9 | PASS | +-------------------+----------+ | Debian Bullseye | PASS | +-------------------+----------+ | CentOS Stream 10 | PASS | +-------------------+----------+ | Fedora 40 (Clang) | PASS | +-------------------+----------+ | Fedora 41 (Clang) | PASS | +-------------------+----------+ | Fedora 41 | PASS | +-------------------+----------+ | RHEL9 | PASS | +-------------------+----------+ | openSUSE Leap 15 | PASS | +-------------------+----------+ | Ubuntu 22.04 | PASS | +-------------------+----------+ | Ubuntu 24.04 | PASS | +-------------------+----------+ | Debian 12 | PASS | +-------------------+----------+ | Fedora 40 | PASS | +-------------------+----------+ | RHEL8 | PASS | +-------------------+----------+ CentOS Stream 9 Kernel: Depends on container host Compiler: gcc 11.5.0 20240719 (Red Hat 11.5.0-2) Debian Bullseye Kernel: Depends on container host Compiler: gcc (Debian 10.2.1-6) 10.2.1 20210110 CentOS Stream 10 Kernel: Depends on container host Compiler: gcc 14.2.1 20241104 (Red Hat 14.2.1-6) Fedora 40 (Clang) Kernel: Depends on container host Compiler: clang 18.1.8 (Fedora 18.1.8-1.fc40) Fedora 41 (Clang) Kernel: Depends on container host Compiler: clang 19.1.5 (Fedora 19.1.5-1.fc41) Fedora 41 Kernel: Depends on container host Compiler: gcc 14.2.1 20240912 (Red Hat 14.2.1-3) RHEL9 Kernel: Depends on container host Compiler: gcc 11.5.0 20240719 (Red Hat 11.5.0-2) openSUSE Leap 15 Kernel: Depends on container host Compiler: gcc (SUSE Linux) 7.5.0 Ubuntu 22.04 Kernel: Depends on container host Compiler: gcc (Ubuntu 11.4.0-1ubuntu1~22.04) 11.4.0 Ubuntu 24.04 Kernel: Depends on container host Compiler: gcc (Ubuntu 13.3.0-6ubuntu2~24.04) 13.3.0 Debian 12 Kernel: Depends on container host Compiler: gcc (Debian 12.2.0-14) 12.2.0 Fedora 40 Kernel: Depends on container host Compiler: gcc 14.2.1 20240912 (Red Hat 14.2.1-3) RHEL8 Kernel: Depends on container host Compiler: gcc 8.5.0 20210514 (Red Hat 8.5.0-22) To view detailed results, visit: https://lab.dpdk.org/results/dashboard/patchsets/32613/ UNH-IOL DPDK Community Lab To manage your email subscriptions, visit: https://lab.dpdk.org/results/dashboard/preferences/subscriptions/