From mboxrd@z Thu Jan 1 00:00:00 1970 Return-Path: Received: from mails.dpdk.org (mails.dpdk.org [217.70.189.124]) by inbox.dpdk.org (Postfix) with ESMTP id B2DB846270 for ; Thu, 20 Feb 2025 05:39:20 +0100 (CET) Received: from mails.dpdk.org (localhost [127.0.0.1]) by mails.dpdk.org (Postfix) with ESMTP id 929B74014F; Thu, 20 Feb 2025 05:39:20 +0100 (CET) Received: from mail-io1-f98.google.com (mail-io1-f98.google.com [209.85.166.98]) by mails.dpdk.org (Postfix) with ESMTP id 292A740041 for ; Thu, 20 Feb 2025 05:39:19 +0100 (CET) Received: by mail-io1-f98.google.com with SMTP id ca18e2360f4ac-855a8275758so14844839f.3 for ; Wed, 19 Feb 2025 20:39:19 -0800 (PST) DKIM-Signature: v=1; a=rsa-sha256; c=relaxed/relaxed; d=iol.unh.edu; s=unh-iol; t=1740026358; x=1740631158; darn=dpdk.org; h=references:in-reply-to:cc:to:from:subject:message-id:date:from:to :cc:subject:date:message-id:reply-to; bh=wWmQvuaQnDiEbZ7n7kWaNhLi25WinJ6dkL7N5gtrHr4=; b=EA276TUIEQ/Y4Z9k1YAZSbrNr+YGxtoDq6gq8xLobIhFmupkbUQ+bX2UragjCVNM+B xdfECR8MkrevQ5W1Fn6mzfIcfLL+MSi8qgwae3A/4zCLjb0+O0lSB+LG7GgTaQTXqNBD qsHdbqRwGjFjLMXHzO9V/vitTlT+8NlZ/vpsw= X-Google-DKIM-Signature: v=1; a=rsa-sha256; c=relaxed/relaxed; d=1e100.net; s=20230601; t=1740026358; x=1740631158; h=references:in-reply-to:cc:to:from:subject:message-id:date :x-gm-message-state:from:to:cc:subject:date:message-id:reply-to; bh=wWmQvuaQnDiEbZ7n7kWaNhLi25WinJ6dkL7N5gtrHr4=; b=D9LQxI7rLYjgCohvN2wYGUREHVISwi+a5Sl9A4wbgkNfY/TWMUlDQT/95j2ingsf+m DECFG/djeYu/2cjJbFBnvJ0xUzmTdvaVOuF2kNj+BqecerxsbLbYxYHKqucP4QiZG+Xx 0G2y1nl7L63Of3qx/wzxQsFVNcMuRX9x66lksHSZBqOWLGGXPrBaaNRBBWAn1Q5f3w+/ jQlvZubV9mXOQN55YB8YfF6FARS8TWuyJ2ML3Bw4fzMCJw0/VmDGjQH6LDBpwF04YMrW 0lF+2lAOdI64rmI6fRGfENc+vcour06TlJW5gHfnmpPp78oUd3Z8bY4/fX4lJjkQKURd yuWA== X-Gm-Message-State: AOJu0YxBYzilLVfVOOP+Di18hB8DtedGPf9EmPCEQ3wtK5KyvTVVL5dO ZwW7S33jH2Bs6guk+WXjaxYdjQyg9wQUcjjte3b+pJqLC8UJPEz/oY7O4H7pk9JmyL9KYZpPhUc rlCUyNjWa6Cp3m43aO5vTO5nGi7pO6hlwht+X5Ywg0e5aqpREj7ieSanx X-Gm-Gg: ASbGncskqCJ062Kd2cHs3Ohx9aFWA5l0nmHnSHiEFH5C8EOM/b+Ro8IifkUA71fWNfk QRDR3v5in0gGOh1s5eYSQyKlHhPczYTtCEyw1rLE3L82L5QuDDjiivNoXQZhOGgcn/Sd/nMTUge LcHRcZGyHy/HcvEaiFddv7svFfAarE6MvNccn+joP/EOYyJfcJ+0BBpAyWRy0X6gWiD55mZg/Xt rt25diaYP7BSUs3V6fK/eBx4+f5RQgiUT3TtmyVOEOaxa0GoBZLIHEiW9j5BvQFe9t+2Aow+HBt L+aU4smHki1uGN4NLCeljgyRp1fgFwdR28dfMPjXsg== X-Google-Smtp-Source: AGHT+IHry5cIAPjeq6KVcjpMBrTvEKVm7yUiRCEug23wKaYLMUQxvVb2wlV9Up2pr6UUc5AXK8mVxxX5HCzF X-Received: by 2002:a05:6602:481:b0:855:9c88:788f with SMTP id ca18e2360f4ac-855b3999e97mr617364839f.8.1740026358388; Wed, 19 Feb 2025 20:39:18 -0800 (PST) Received: from postal.iol.unh.edu (postal.iol.unh.edu. [2606:4100:3880:1234::84]) by smtp-relay.gmail.com with ESMTPS id ca18e2360f4ac-85566e3330dsm60568239f.11.2025.02.19.20.39.18 (version=TLS1_2 cipher=ECDHE-ECDSA-AES128-GCM-SHA256 bits=128/128); Wed, 19 Feb 2025 20:39:18 -0800 (PST) X-Relaying-Domain: iol.unh.edu Date: Wed, 19 Feb 2025 20:39:18 -0800 (PST) Message-ID: <67b6b1f6.5d0a0220.267273.1138SMTPIN_ADDED_MISSING@mx.google.com> Received: from [172.21.0.5] (unknown [172.18.0.240]) by postal.iol.unh.edu (Postfix) with ESMTP id AC50E6052471; Wed, 19 Feb 2025 23:39:17 -0500 (EST) Subject: |SUCCESS| pw151652-151655 [PATCH] [RFC,v7,4/4] eventdev: documentati From: dpdklab@iol.unh.edu To: Test Report Cc: dpdk-test-reports@iol.unh.edu In-Reply-To: <20250219134325.1195531-5-luka.jankovic@ericsson.com> References: <20250219134325.1195531-5-luka.jankovic@ericsson.com> Content-Type: text/plain X-BeenThere: test-report@dpdk.org X-Mailman-Version: 2.1.29 Precedence: list List-Id: automatic DPDK test reports List-Unsubscribe: , List-Archive: List-Post: List-Help: List-Subscribe: , Errors-To: test-report-bounces@dpdk.org Test-Label: iol-unit-arm64-testing Test-Status: SUCCESS http://dpdk.org/patch/151655 _Testing PASS_ Submitter: Luka Jankovic Date: Wednesday, February 19 2025 13:43:25 DPDK git baseline: Repo:dpdk Branch: master CommitID:c0ee1640d89bf118f26e844a03e3182fb0b211c4 151652-151655 --> testing pass Upstream job id: Generic-Unit-Test-DPDK#316347 Test environment and result as below: +-----------------------------+----------------+--------------+------------------------------+---------------------------+ | Environment | dpdk_unit_test | lpm_autotest | cryptodev_sw_snow3g_autotest | cryptodev_sw_zuc_autotest | +=============================+================+==============+==============================+===========================+ | 32-bit Ubuntu 22.04.4 (ARM) | PASS | SKIPPED | SKIPPED | SKIPPED | +-----------------------------+----------------+--------------+------------------------------+---------------------------+ | CentOS Stream 10 (ARM) | PASS | SKIPPED | SKIPPED | SKIPPED | +-----------------------------+----------------+--------------+------------------------------+---------------------------+ | CentOS Stream 9 (ARM) | PASS | SKIPPED | SKIPPED | SKIPPED | +-----------------------------+----------------+--------------+------------------------------+---------------------------+ | Fedora 40 (ARM) | PASS | SKIPPED | SKIPPED | SKIPPED | +-----------------------------+----------------+--------------+------------------------------+---------------------------+ | Debian 12 (arm) | PASS | SKIPPED | PASS | PASS | +-----------------------------+----------------+--------------+------------------------------+---------------------------+ | Debian 11 (Buster) (ARM) | PASS | SKIPPED | SKIPPED | SKIPPED | +-----------------------------+----------------+--------------+------------------------------+---------------------------+ | Fedora 40 (ARM Clang) | PASS | SKIPPED | SKIPPED | SKIPPED | +-----------------------------+----------------+--------------+------------------------------+---------------------------+ | Fedora 41 (ARM Clang) | PASS | SKIPPED | SKIPPED | SKIPPED | +-----------------------------+----------------+--------------+------------------------------+---------------------------+ | RHEL9 (ARM) | PASS | SKIPPED | SKIPPED | SKIPPED | +-----------------------------+----------------+--------------+------------------------------+---------------------------+ | Fedora 41 (ARM) | PASS | SKIPPED | SKIPPED | SKIPPED | +-----------------------------+----------------+--------------+------------------------------+---------------------------+ | Ubuntu 20.04 (ARM) | PASS | SKIPPED | SKIPPED | SKIPPED | +-----------------------------+----------------+--------------+------------------------------+---------------------------+ | Ubuntu 24.04 (ARM) | PASS | SKIPPED | SKIPPED | SKIPPED | +-----------------------------+----------------+--------------+------------------------------+---------------------------+ | Ubuntu 22.04 (ARM) | PASS | SKIPPED | SKIPPED | SKIPPED | +-----------------------------+----------------+--------------+------------------------------+---------------------------+ | Ubuntu 20.04 ARM SVE | SKIPPED | PASS | SKIPPED | SKIPPED | +-----------------------------+----------------+--------------+------------------------------+---------------------------+ 32-bit Ubuntu 22.04.4 (ARM) Kernel: 5.15.83+ aarch64 Compiler: gcc (Ubuntu 11.4.0-1ubuntu1~22.04) 11.4.0 CentOS Stream 10 (ARM) Kernel: Depends on container host Compiler: gcc 14.2.1 20241104 (Red Hat 14.2.1-6) CentOS Stream 9 (ARM) Kernel: Depends on container host Compiler: gcc 11.5.0 20240719 (Red Hat 11.5.0-2) Fedora 40 (ARM) Kernel: Depends on container host Compiler: gcc 14.2.1 20240912 (Red Hat 14.2.1-3) Debian 12 (arm) Kernel: Depends on container host Compiler: gcc (Debian 12.2.0-14) 12.2.0 Debian 11 (Buster) (ARM) Kernel: Depends on container host Compiler: gcc (Debian 10.2.1-6) 10.2.1 20210110 Fedora 40 (ARM Clang) Kernel: Depends on container host Compiler: clang 18.1.8 (Fedora 18.1.8-1.fc40) Fedora 41 (ARM Clang) Kernel: Depends on container host Compiler: clang 19.1.5 (Fedora 19.1.5-1.fc41) RHEL9 (ARM) Kernel: Depends on container host Compiler: gcc 11.5.0 20240719 (Red Hat 11.5.0-2) Fedora 41 (ARM) Kernel: Depends on container host Compiler: gcc 14.2.1 20240912 (Red Hat 14.2.1-3) Ubuntu 20.04 (ARM) Kernel: Depends on container host Compiler: gcc (Ubuntu 9.4.0-1ubuntu1~20.04.2) 9.4.0 Ubuntu 24.04 (ARM) Kernel: Depends on container host Compiler: gcc (Ubuntu 13.3.0-6ubuntu2~24.04) 13.3.0 Ubuntu 22.04 (ARM) Kernel: Depends on container host Compiler: gcc (Ubuntu 11.4.0-1ubuntu1~22.04) 11.4.0 Ubuntu 20.04 ARM SVE Kernel: Depends on container host Compiler: gcc (Ubuntu 10.5.0-1ubuntu1~20.04) 10.5.0 To view detailed results, visit: https://lab.dpdk.org/results/dashboard/patchsets/32613/ UNH-IOL DPDK Community Lab To manage your email subscriptions, visit: https://lab.dpdk.org/results/dashboard/preferences/subscriptions/