From mboxrd@z Thu Jan 1 00:00:00 1970 Return-Path: Received: from mails.dpdk.org (mails.dpdk.org [217.70.189.124]) by inbox.dpdk.org (Postfix) with ESMTP id 8036A46271 for ; Thu, 20 Feb 2025 06:18:49 +0100 (CET) Received: from mails.dpdk.org (localhost [127.0.0.1]) by mails.dpdk.org (Postfix) with ESMTP id 59BC04014F; Thu, 20 Feb 2025 06:18:49 +0100 (CET) Received: from mail-pl1-f228.google.com (mail-pl1-f228.google.com [209.85.214.228]) by mails.dpdk.org (Postfix) with ESMTP id 3A95240041 for ; Thu, 20 Feb 2025 06:18:48 +0100 (CET) Received: by mail-pl1-f228.google.com with SMTP id d9443c01a7336-220c665ef4cso7087385ad.3 for ; Wed, 19 Feb 2025 21:18:48 -0800 (PST) DKIM-Signature: v=1; a=rsa-sha256; c=relaxed/relaxed; d=iol.unh.edu; s=unh-iol; t=1740028727; x=1740633527; darn=dpdk.org; h=references:in-reply-to:cc:to:from:subject:message-id:date:from:to :cc:subject:date:message-id:reply-to; bh=zPlCsVJGtI2d4pgOw66uU/BSuHpgTBZ5+gpDNwwGCxE=; b=AA4hKVu7yX85iE1e2RBf28UWMNa6tqvJPZZRpe+8ROTJj/P5AqVLXb2x33aUgFYwCZ unncaUB5FXcH+tcF2JOPTgTIGL46e22XSHIHyP+2jmtoOc4ixX0oIieDoS/D1+ws6aQJ lFj5m0UHbCNlWVpD7eoU4Q9hY6HnxHZb44lmQ= X-Google-DKIM-Signature: v=1; a=rsa-sha256; c=relaxed/relaxed; d=1e100.net; s=20230601; t=1740028727; x=1740633527; h=references:in-reply-to:cc:to:from:subject:message-id:date :x-gm-message-state:from:to:cc:subject:date:message-id:reply-to; bh=zPlCsVJGtI2d4pgOw66uU/BSuHpgTBZ5+gpDNwwGCxE=; b=FaZPn7NEEgeOo7oogGs1BaEBTeNSCHsQRnRVz9eZEo1xQfmsXpZH/WAd7GtChSq+U0 7MQRWpqCorBW161TcgQElSXOSY/traqJEr3BEjSAWdlyeZdVB9CwJ/kevJRPyYgTWs+E 0ClpIKMr6EfrZ1xsXJpJJEnRv1IEh8jsnQq9q9xe91fWE7sir/vtwyNHcxARfYu+nCXy xKgLtJ0iLV7NZtfJ0Ayk0iGgN+oav/KzZG7qPpH8747mm+urm+209PCneeaIG4FgqyfH IgSM8mFzbchywegCSX/ie/6H/aFGZNcbp6axOJVx52ltcL+kFahU4bDx80hVzN8WN+7N jBSQ== X-Gm-Message-State: AOJu0YyV19/+Bu8w/KfSRjtRUsIVf//FC4Zu8yIA9IAh+3XsqAXllt7l qnNo/kqtUAPkAPwHHjBFNXMaVBNmvl/HtX3obD+L0PlmvM7uL/B/ULgo90Rqwo4ocvnS86GgAKP g/t0qf41f+TqAbxdgI7EfYMmdUaDXnV5xqaYOf8E7WRTLg+5r/NL8STxc X-Gm-Gg: ASbGncvHUOe1+/x/K6fwtZJyCmPM2I4a8EYAe/7a+ogSC86486wiYWkJUX9yiAP2OJv 1iV5pgSnr/bTEh8HwpK1eOkQsiqaSHn9rN43dCV5hYhcGe6U6chcOpKAzMrsNd+2XagDzswHd1n ZIGPt85Yezyy0++snqjobhDMz/U5LXo/8dfcsg5sbQVb8THnSNay+M+0+3BFmiB5c/1+PBd8aY4 rvENVSfHmZnVjitOUwV3mU6SbCizNNDJmjvdH9kmiNSW5s7zKQJpj6Uj3NgCP912H0qZM0Hs/xS Ssj60MwvdXlQVOrld1JaSrIFzBtUWpqN7ps54IUR1Q== X-Google-Smtp-Source: AGHT+IEMJ/wdmP0K1rDdt5BydErh5eH4vdLLbSpxmHZb/WVATTOvsQqtVJ5jIl29O+kFIoOigUoJhSmIc1my X-Received: by 2002:a17:903:2441:b0:21f:b6f:3f34 with SMTP id d9443c01a7336-22190612970mr20056285ad.15.1740028727367; Wed, 19 Feb 2025 21:18:47 -0800 (PST) Received: from postal.iol.unh.edu (postal.iol.unh.edu. [2606:4100:3880:1234::84]) by smtp-relay.gmail.com with ESMTPS id d9443c01a7336-22104c65e9asm5199705ad.42.2025.02.19.21.18.47 (version=TLS1_2 cipher=ECDHE-ECDSA-AES128-GCM-SHA256 bits=128/128); Wed, 19 Feb 2025 21:18:47 -0800 (PST) X-Relaying-Domain: iol.unh.edu Date: Wed, 19 Feb 2025 21:18:47 -0800 (PST) Message-ID: <67b6bb37.170a0220.10f9e7.8b34SMTPIN_ADDED_MISSING@mx.google.com> Received: from [172.21.0.5] (unknown [172.18.0.240]) by postal.iol.unh.edu (Postfix) with ESMTP id BF3B46052471; Thu, 20 Feb 2025 00:18:46 -0500 (EST) Subject: |SUCCESS| pw151652-151655 [PATCH] [RFC,v7,4/4] eventdev: documentati From: dpdklab@iol.unh.edu To: Test Report Cc: dpdk-test-reports@iol.unh.edu In-Reply-To: <20250219134325.1195531-5-luka.jankovic@ericsson.com> References: <20250219134325.1195531-5-luka.jankovic@ericsson.com> Content-Type: text/plain X-BeenThere: test-report@dpdk.org X-Mailman-Version: 2.1.29 Precedence: list List-Id: automatic DPDK test reports List-Unsubscribe: , List-Archive: List-Post: List-Help: List-Subscribe: , Errors-To: test-report-bounces@dpdk.org Test-Label: iol-unit-amd64-testing Test-Status: SUCCESS http://dpdk.org/patch/151655 _Testing PASS_ Submitter: Luka Jankovic Date: Wednesday, February 19 2025 13:43:25 DPDK git baseline: Repo:dpdk Branch: master CommitID:c0ee1640d89bf118f26e844a03e3182fb0b211c4 151652-151655 --> testing pass Upstream job id: Generic-Unit-Test-DPDK#316355 Test environment and result as below: +---------------------+----------------+ | Environment | dpdk_unit_test | +=====================+================+ | CentOS Stream 10 | PASS | +---------------------+----------------+ | CentOS Stream 9 | PASS | +---------------------+----------------+ | Debian Bullseye | PASS | +---------------------+----------------+ | Fedora 40 (Clang) | PASS | +---------------------+----------------+ | Debian 12 | PASS | +---------------------+----------------+ | Fedora 40 | PASS | +---------------------+----------------+ | Fedora 41 | PASS | +---------------------+----------------+ | Fedora 41 (Clang) | PASS | +---------------------+----------------+ | RHEL9 | PASS | +---------------------+----------------+ | RHEL8 | PASS | +---------------------+----------------+ | Ubuntu 20.04 | PASS | +---------------------+----------------+ | Ubuntu 22.04 | PASS | +---------------------+----------------+ | Ubuntu 24.04 | PASS | +---------------------+----------------+ | Windows Server 2022 | PASS | +---------------------+----------------+ CentOS Stream 10 Kernel: Depends on container host Compiler: gcc 14.2.1 20241104 (Red Hat 14.2.1-6) CentOS Stream 9 Kernel: Depends on container host Compiler: gcc 11.5.0 20240719 (Red Hat 11.5.0-2) Debian Bullseye Kernel: Depends on container host Compiler: gcc (Debian 10.2.1-6) 10.2.1 20210110 Fedora 40 (Clang) Kernel: Depends on container host Compiler: clang 18.1.8 (Fedora 18.1.8-1.fc40) Debian 12 Kernel: Depends on container host Compiler: gcc (Debian 12.2.0-14) 12.2.0 Fedora 40 Kernel: Depends on container host Compiler: gcc 14.2.1 20240912 (Red Hat 14.2.1-3) Fedora 41 Kernel: Depends on container host Compiler: gcc 14.2.1 20240912 (Red Hat 14.2.1-3) Fedora 41 (Clang) Kernel: Depends on container host Compiler: clang 19.1.5 (Fedora 19.1.5-1.fc41) RHEL9 Kernel: Depends on container host Compiler: gcc 11.5.0 20240719 (Red Hat 11.5.0-2) RHEL8 Kernel: Depends on container host Compiler: gcc 8.5.0 20210514 (Red Hat 8.5.0-22) Ubuntu 20.04 Kernel: Depends on container host Compiler: gcc (Ubuntu 9.4.0-1ubuntu1~20.04.2) 9.4.0 Ubuntu 22.04 Kernel: Depends on container host Compiler: gcc (Ubuntu 11.4.0-1ubuntu1~22.04) 11.4.0 Ubuntu 24.04 Kernel: Depends on container host Compiler: gcc (Ubuntu 13.3.0-6ubuntu2~24.04) 13.3.0 Windows Server 2022 Kernel: 10.0.20348.2031 Compiler: clang 15.0.7, gcc 14.1.0 (MinGW), and MSVC VS 19.39.33521 To view detailed results, visit: https://lab.dpdk.org/results/dashboard/patchsets/32613/ UNH-IOL DPDK Community Lab To manage your email subscriptions, visit: https://lab.dpdk.org/results/dashboard/preferences/subscriptions/