From: dpdklab@iol.unh.edu
To: Test Report <test-report@dpdk.org>
Cc: dpdk-test-reports@iol.unh.edu
Subject: |SUCCESS| pw151658-151665 [PATCH] [v3,10/10] app: enable app directo
Date: Wed, 19 Feb 2025 21:39:38 -0800 (PST) [thread overview]
Message-ID: <67b6c01a.050a0220.1f33aa.2f2eSMTPIN_ADDED_MISSING@mx.google.com> (raw)
In-Reply-To: <1740016899-2817-11-git-send-email-andremue@linux.microsoft.com>
Test-Label: iol-compile-amd64-testing
Test-Status: SUCCESS
http://dpdk.org/patch/151665
_Testing PASS_
Submitter: Andre Muezerie <andremue@linux.microsoft.com>
Date: Thursday, February 20 2025 02:01:39
DPDK git baseline: Repo:dpdk
Branch: master
CommitID:fab31a03ba98e7457284df95dd9eef2223a4ccaa
151658-151665 --> testing pass
Upstream job id: Generic-DPDK-Compile-Meson#363138
Test environment and result as below:
+---------------------+--------------------+-------------------+------------------+-------------------------+-------------------+----------------------+
| Environment | dpdk_meson_compile | dpdk_compile_spdk | dpdk_compile_ovs | dpdk_llvm_clang_compile | dpdk_msvc_compile | dpdk_mingw64_compile |
+=====================+====================+===================+==================+=========================+===================+======================+
| CentOS Stream 9 | PASS | PASS | SKIPPED | SKIPPED | SKIPPED | SKIPPED |
+---------------------+--------------------+-------------------+------------------+-------------------------+-------------------+----------------------+
| Debian Bullseye | PASS | PASS | SKIPPED | SKIPPED | SKIPPED | SKIPPED |
+---------------------+--------------------+-------------------+------------------+-------------------------+-------------------+----------------------+
| CentOS Stream 10 | PASS | SKIPPED | SKIPPED | SKIPPED | SKIPPED | SKIPPED |
+---------------------+--------------------+-------------------+------------------+-------------------------+-------------------+----------------------+
| Debian 12 | PASS | PASS | SKIPPED | SKIPPED | SKIPPED | SKIPPED |
+---------------------+--------------------+-------------------+------------------+-------------------------+-------------------+----------------------+
| Fedora 40 (Clang) | PASS | PASS | SKIPPED | SKIPPED | SKIPPED | SKIPPED |
+---------------------+--------------------+-------------------+------------------+-------------------------+-------------------+----------------------+
| Fedora 40 | PASS | PASS | SKIPPED | SKIPPED | SKIPPED | SKIPPED |
+---------------------+--------------------+-------------------+------------------+-------------------------+-------------------+----------------------+
| Fedora 41 | PASS | PASS | PASS | SKIPPED | SKIPPED | SKIPPED |
+---------------------+--------------------+-------------------+------------------+-------------------------+-------------------+----------------------+
| Fedora 41 (Clang) | PASS | PASS | PASS | SKIPPED | SKIPPED | SKIPPED |
+---------------------+--------------------+-------------------+------------------+-------------------------+-------------------+----------------------+
| openSUSE Leap 15 | PASS | SKIPPED | SKIPPED | SKIPPED | SKIPPED | SKIPPED |
+---------------------+--------------------+-------------------+------------------+-------------------------+-------------------+----------------------+
| RHEL8 | PASS | SKIPPED | SKIPPED | SKIPPED | SKIPPED | SKIPPED |
+---------------------+--------------------+-------------------+------------------+-------------------------+-------------------+----------------------+
| RHEL9 | PASS | SKIPPED | SKIPPED | SKIPPED | SKIPPED | SKIPPED |
+---------------------+--------------------+-------------------+------------------+-------------------------+-------------------+----------------------+
| Ubuntu 20.04 | PASS | SKIPPED | SKIPPED | SKIPPED | SKIPPED | SKIPPED |
+---------------------+--------------------+-------------------+------------------+-------------------------+-------------------+----------------------+
| Ubuntu 22.04 | PASS | PASS | SKIPPED | SKIPPED | SKIPPED | SKIPPED |
+---------------------+--------------------+-------------------+------------------+-------------------------+-------------------+----------------------+
| Ubuntu 24.04 | PASS | PASS | PASS | SKIPPED | SKIPPED | SKIPPED |
+---------------------+--------------------+-------------------+------------------+-------------------------+-------------------+----------------------+
| Alpine | PASS | SKIPPED | SKIPPED | SKIPPED | SKIPPED | SKIPPED |
+---------------------+--------------------+-------------------+------------------+-------------------------+-------------------+----------------------+
| FreeBSD 13.4 | PASS | SKIPPED | SKIPPED | SKIPPED | SKIPPED | SKIPPED |
+---------------------+--------------------+-------------------+------------------+-------------------------+-------------------+----------------------+
| FreeBSD 14.2 | PASS | SKIPPED | SKIPPED | SKIPPED | SKIPPED | SKIPPED |
+---------------------+--------------------+-------------------+------------------+-------------------------+-------------------+----------------------+
| Windows Server 2022 | SKIPPED | SKIPPED | SKIPPED | PASS | PASS | PASS |
+---------------------+--------------------+-------------------+------------------+-------------------------+-------------------+----------------------+
CentOS Stream 9
Kernel: Depends on container host
Compiler: gcc 11.5.0 20240719 (Red Hat 11.5.0-2)
Debian Bullseye
Kernel: Depends on container host
Compiler: gcc (Debian 10.2.1-6) 10.2.1 20210110
CentOS Stream 10
Kernel: Depends on container host
Compiler: gcc 14.2.1 20241104 (Red Hat 14.2.1-6)
Debian 12
Kernel: Depends on container host
Compiler: gcc (Debian 12.2.0-14) 12.2.0
Fedora 40 (Clang)
Kernel: Depends on container host
Compiler: clang 18.1.8 (Fedora 18.1.8-1.fc40)
Fedora 40
Kernel: Depends on container host
Compiler: gcc 14.2.1 20240912 (Red Hat 14.2.1-3)
Fedora 41
Kernel: Depends on container host
Compiler: gcc 14.2.1 20240912 (Red Hat 14.2.1-3)
Fedora 41 (Clang)
Kernel: Depends on container host
Compiler: clang 19.1.5 (Fedora 19.1.5-1.fc41)
openSUSE Leap 15
Kernel: Depends on container host
Compiler: gcc (SUSE Linux) 7.5.0
RHEL8
Kernel: Depends on container host
Compiler: gcc 8.5.0 20210514 (Red Hat 8.5.0-22)
RHEL9
Kernel: Depends on container host
Compiler: gcc 11.5.0 20240719 (Red Hat 11.5.0-2)
Ubuntu 20.04
Kernel: Depends on container host
Compiler: gcc (Ubuntu 9.4.0-1ubuntu1~20.04.2) 9.4.0
Ubuntu 22.04
Kernel: Depends on container host
Compiler: gcc (Ubuntu 11.4.0-1ubuntu1~22.04) 11.4.0
Ubuntu 24.04
Kernel: Depends on container host
Compiler: gcc (Ubuntu 13.3.0-6ubuntu2~24.04) 13.3.0
Alpine
Kernel: Depends on container host
Compiler: gcc (Alpine 14.2.0) 14.2.0
FreeBSD 13.4
Kernel: 13.4-RELEASE-p1
Compiler: clang 18.1.6
FreeBSD 14.2
Kernel: 14.2-RELEASE
Compiler: clang 18.1.6
Windows Server 2022
Kernel: 10.0.20348.2031
Compiler: clang 15.0.7, gcc 14.1.0 (MinGW), and MSVC VS 19.39.33521
To view detailed results, visit:
https://lab.dpdk.org/results/dashboard/patchsets/32615/
UNH-IOL DPDK Community Lab
To manage your email subscriptions, visit:
https://lab.dpdk.org/results/dashboard/preferences/subscriptions/
next prev parent reply other threads:[~2025-02-20 5:39 UTC|newest]
Thread overview: 18+ messages / expand[flat|nested] mbox.gz Atom feed top
[not found] <1740016899-2817-11-git-send-email-andremue@linux.microsoft.com>
2025-02-20 1:33 ` |SUCCESS| pw151658-151665 [PATCH v3 10/10] app: enable app directory to be compiled with MSVC qemudev
2025-02-20 1:37 ` qemudev
2025-02-20 2:03 ` |SUCCESS| pw151665 " checkpatch
2025-02-20 2:52 ` |SUCCESS| pw151658-151665 [PATCH] [v3,10/10] app: enable app directo dpdklab
2025-02-20 2:52 ` dpdklab
2025-02-20 2:52 ` dpdklab
2025-02-20 2:53 ` |PENDING| " dpdklab
2025-02-20 2:54 ` |SUCCESS| " dpdklab
2025-02-20 2:58 ` |PENDING| " dpdklab
2025-02-20 3:00 ` dpdklab
2025-02-20 3:04 ` |SUCCESS| pw151665 [PATCH v3 10/10] app: enable app directory to be compiled with MSVC 0-day Robot
2025-02-20 3:13 ` |PENDING| pw151658-151665 [PATCH] [v3,10/10] app: enable app directo dpdklab
2025-02-20 3:45 ` |SUCCESS| " dpdklab
2025-02-20 3:52 ` dpdklab
2025-02-20 3:55 ` dpdklab
2025-02-20 4:15 ` dpdklab
2025-02-20 5:39 ` dpdklab [this message]
2025-02-20 5:45 ` dpdklab
Reply instructions:
You may reply publicly to this message via plain-text email
using any one of the following methods:
* Save the following mbox file, import it into your mail client,
and reply-to-all from there: mbox
Avoid top-posting and favor interleaved quoting:
https://en.wikipedia.org/wiki/Posting_style#Interleaved_style
* Reply using the --to, --cc, and --in-reply-to
switches of git-send-email(1):
git send-email \
--in-reply-to=67b6c01a.050a0220.1f33aa.2f2eSMTPIN_ADDED_MISSING@mx.google.com \
--to=dpdklab@iol.unh.edu \
--cc=dpdk-test-reports@iol.unh.edu \
--cc=test-report@dpdk.org \
/path/to/YOUR_REPLY
https://kernel.org/pub/software/scm/git/docs/git-send-email.html
* If your mail client supports setting the In-Reply-To header
via mailto: links, try the mailto: link
Be sure your reply has a Subject: header at the top and a blank line
before the message body.
This is a public inbox, see mirroring instructions
for how to clone and mirror all data and code used for this inbox;
as well as URLs for NNTP newsgroup(s).