From mboxrd@z Thu Jan 1 00:00:00 1970 Return-Path: Received: from mails.dpdk.org (mails.dpdk.org [217.70.189.124]) by inbox.dpdk.org (Postfix) with ESMTP id 636D546271 for ; Thu, 20 Feb 2025 06:39:41 +0100 (CET) Received: from mails.dpdk.org (localhost [127.0.0.1]) by mails.dpdk.org (Postfix) with ESMTP id 492BB4014F; Thu, 20 Feb 2025 06:39:41 +0100 (CET) Received: from mail-il1-f226.google.com (mail-il1-f226.google.com [209.85.166.226]) by mails.dpdk.org (Postfix) with ESMTP id A9A0840041 for ; Thu, 20 Feb 2025 06:39:39 +0100 (CET) Received: by mail-il1-f226.google.com with SMTP id e9e14a558f8ab-3d04932a36cso5513905ab.1 for ; Wed, 19 Feb 2025 21:39:39 -0800 (PST) DKIM-Signature: v=1; a=rsa-sha256; c=relaxed/relaxed; d=iol.unh.edu; s=unh-iol; t=1740029979; x=1740634779; darn=dpdk.org; h=references:in-reply-to:cc:to:from:subject:message-id:date:from:to :cc:subject:date:message-id:reply-to; bh=O3BytjKEdAHnYHhRE7ngxPz8Tg1qAQ4/3QkdmKaRQ9Y=; b=RFCh7+cx4pt4kVznVrz6qstrIPwbG6wX/pzHoDejmOlR/nAKL52lFTlwHNznBNGOBq vU4E2V143D7Z4v6yzJJUDBX+8nteXxQ/mk9QAHMK5glkFXO5BxpbmnIbtf+qxuivqOHo uwpAJ8apJVJ4Dc1I2fdi4AXteuMae0MDjiNF8= X-Google-DKIM-Signature: v=1; a=rsa-sha256; c=relaxed/relaxed; d=1e100.net; s=20230601; t=1740029979; x=1740634779; h=references:in-reply-to:cc:to:from:subject:message-id:date :x-gm-message-state:from:to:cc:subject:date:message-id:reply-to; bh=O3BytjKEdAHnYHhRE7ngxPz8Tg1qAQ4/3QkdmKaRQ9Y=; b=MzxLGep5xuzaejLSY3JHYWJXcWLz+XT7vYgvjq4amWwAWJG8KXZqyoLw8rCOSoxH45 lqNs6GAkaZmGrrr+s3PnhBJNfebH3WJt/j9lvAfC9DKvaUzLw4GvqVK5tXmS3rwVelfQ JCi1UIHGZp8zxT2evQdCg0cvLjAzaT0m5qwIf7JnTDl0chDZ3hhJJ7xTBXxkJqwFAKqJ fVQymInav2I3OWaO4Hc67MmGTTamzNa5JJwJo64IvbmVC0Zs8QUVMTa+aCilOCxccqno IOFv6mdUIF5hGyrr7vkcUxeRIbOFor1xiJZbFUxfsHI/QtR9n01rAcnvllrjld+YpOu7 9NoA== X-Gm-Message-State: AOJu0YzvUsMV84XOxc+Rav0eCFJvzQHswqSk8Rv8XTX1EheN+9s6IfEF 752QbwlB5At+Ayb74Al3Mz2zLB6w74WOl23BFBvl1I96JkWAx/Hg67U8+wBM+SOwRx2XOF2HYTH YoQL5UzISP19dOt//STKBCSSeyOUanR878NT4UZ6R X-Gm-Gg: ASbGncs3kt9npc9Ju7pdbuEMV84CirKE71LkN/zSagbxGmzYBGzH11pTjYi9maDiG6f BMOgxtnsTS4ZAbotebspLz8bhvlzOyHoYJZitfNyqPlDAwRy3EY/KM7ZfBxKH1kqbSSeovm+Tse YfgHB1eNi1o/lFVJz3fhPuFiWthpRRx8TE3YZgQG/MPfCU+kDVVEACLF/4jI1d7iV/pyatId+fd mSpfMIT4YjUOX4LfHgEWhH5Sy2o1+67A/dXSZKgPFpfa97LG01UPwijyyiXGvP0vVZMaHBI6agR qAqfTrdzjP7sthDYdyDlXGRyajEjfA== X-Google-Smtp-Source: AGHT+IF1LNbtHbqKvz20yW+Z6TdxbmxYmdOGZir9qMu69LSsG2Su3uR+otScj/4iZ4pCkWECEmQiHz8T4NZ+ X-Received: by 2002:a92:cd8b:0:b0:3cf:ceac:37e1 with SMTP id e9e14a558f8ab-3d2807b90afmr170887525ab.11.1740029978991; Wed, 19 Feb 2025 21:39:38 -0800 (PST) Received: from postal.iol.unh.edu (postal.iol.unh.edu. [132.177.123.84]) by smtp-relay.gmail.com with ESMTPS id 8926c6da1cb9f-4eea95b7d6dsm385787173.2.2025.02.19.21.39.38 (version=TLS1_2 cipher=ECDHE-ECDSA-AES128-GCM-SHA256 bits=128/128); Wed, 19 Feb 2025 21:39:38 -0800 (PST) X-Relaying-Domain: iol.unh.edu Date: Wed, 19 Feb 2025 21:39:38 -0800 (PST) Message-ID: <67b6c01a.050a0220.1f33aa.2f2eSMTPIN_ADDED_MISSING@mx.google.com> Received: from [172.21.0.5] (unknown [172.18.0.240]) by postal.iol.unh.edu (Postfix) with ESMTP id 728FE6052471; Thu, 20 Feb 2025 00:39:38 -0500 (EST) Subject: |SUCCESS| pw151658-151665 [PATCH] [v3,10/10] app: enable app directo From: dpdklab@iol.unh.edu To: Test Report Cc: dpdk-test-reports@iol.unh.edu In-Reply-To: <1740016899-2817-11-git-send-email-andremue@linux.microsoft.com> References: <1740016899-2817-11-git-send-email-andremue@linux.microsoft.com> Content-Type: text/plain X-BeenThere: test-report@dpdk.org X-Mailman-Version: 2.1.29 Precedence: list List-Id: automatic DPDK test reports List-Unsubscribe: , List-Archive: List-Post: List-Help: List-Subscribe: , Errors-To: test-report-bounces@dpdk.org Test-Label: iol-compile-amd64-testing Test-Status: SUCCESS http://dpdk.org/patch/151665 _Testing PASS_ Submitter: Andre Muezerie Date: Thursday, February 20 2025 02:01:39 DPDK git baseline: Repo:dpdk Branch: master CommitID:fab31a03ba98e7457284df95dd9eef2223a4ccaa 151658-151665 --> testing pass Upstream job id: Generic-DPDK-Compile-Meson#363138 Test environment and result as below: +---------------------+--------------------+-------------------+------------------+-------------------------+-------------------+----------------------+ | Environment | dpdk_meson_compile | dpdk_compile_spdk | dpdk_compile_ovs | dpdk_llvm_clang_compile | dpdk_msvc_compile | dpdk_mingw64_compile | +=====================+====================+===================+==================+=========================+===================+======================+ | CentOS Stream 9 | PASS | PASS | SKIPPED | SKIPPED | SKIPPED | SKIPPED | +---------------------+--------------------+-------------------+------------------+-------------------------+-------------------+----------------------+ | Debian Bullseye | PASS | PASS | SKIPPED | SKIPPED | SKIPPED | SKIPPED | +---------------------+--------------------+-------------------+------------------+-------------------------+-------------------+----------------------+ | CentOS Stream 10 | PASS | SKIPPED | SKIPPED | SKIPPED | SKIPPED | SKIPPED | +---------------------+--------------------+-------------------+------------------+-------------------------+-------------------+----------------------+ | Debian 12 | PASS | PASS | SKIPPED | SKIPPED | SKIPPED | SKIPPED | +---------------------+--------------------+-------------------+------------------+-------------------------+-------------------+----------------------+ | Fedora 40 (Clang) | PASS | PASS | SKIPPED | SKIPPED | SKIPPED | SKIPPED | +---------------------+--------------------+-------------------+------------------+-------------------------+-------------------+----------------------+ | Fedora 40 | PASS | PASS | SKIPPED | SKIPPED | SKIPPED | SKIPPED | +---------------------+--------------------+-------------------+------------------+-------------------------+-------------------+----------------------+ | Fedora 41 | PASS | PASS | PASS | SKIPPED | SKIPPED | SKIPPED | +---------------------+--------------------+-------------------+------------------+-------------------------+-------------------+----------------------+ | Fedora 41 (Clang) | PASS | PASS | PASS | SKIPPED | SKIPPED | SKIPPED | +---------------------+--------------------+-------------------+------------------+-------------------------+-------------------+----------------------+ | openSUSE Leap 15 | PASS | SKIPPED | SKIPPED | SKIPPED | SKIPPED | SKIPPED | +---------------------+--------------------+-------------------+------------------+-------------------------+-------------------+----------------------+ | RHEL8 | PASS | SKIPPED | SKIPPED | SKIPPED | SKIPPED | SKIPPED | +---------------------+--------------------+-------------------+------------------+-------------------------+-------------------+----------------------+ | RHEL9 | PASS | SKIPPED | SKIPPED | SKIPPED | SKIPPED | SKIPPED | +---------------------+--------------------+-------------------+------------------+-------------------------+-------------------+----------------------+ | Ubuntu 20.04 | PASS | SKIPPED | SKIPPED | SKIPPED | SKIPPED | SKIPPED | +---------------------+--------------------+-------------------+------------------+-------------------------+-------------------+----------------------+ | Ubuntu 22.04 | PASS | PASS | SKIPPED | SKIPPED | SKIPPED | SKIPPED | +---------------------+--------------------+-------------------+------------------+-------------------------+-------------------+----------------------+ | Ubuntu 24.04 | PASS | PASS | PASS | SKIPPED | SKIPPED | SKIPPED | +---------------------+--------------------+-------------------+------------------+-------------------------+-------------------+----------------------+ | Alpine | PASS | SKIPPED | SKIPPED | SKIPPED | SKIPPED | SKIPPED | +---------------------+--------------------+-------------------+------------------+-------------------------+-------------------+----------------------+ | FreeBSD 13.4 | PASS | SKIPPED | SKIPPED | SKIPPED | SKIPPED | SKIPPED | +---------------------+--------------------+-------------------+------------------+-------------------------+-------------------+----------------------+ | FreeBSD 14.2 | PASS | SKIPPED | SKIPPED | SKIPPED | SKIPPED | SKIPPED | +---------------------+--------------------+-------------------+------------------+-------------------------+-------------------+----------------------+ | Windows Server 2022 | SKIPPED | SKIPPED | SKIPPED | PASS | PASS | PASS | +---------------------+--------------------+-------------------+------------------+-------------------------+-------------------+----------------------+ CentOS Stream 9 Kernel: Depends on container host Compiler: gcc 11.5.0 20240719 (Red Hat 11.5.0-2) Debian Bullseye Kernel: Depends on container host Compiler: gcc (Debian 10.2.1-6) 10.2.1 20210110 CentOS Stream 10 Kernel: Depends on container host Compiler: gcc 14.2.1 20241104 (Red Hat 14.2.1-6) Debian 12 Kernel: Depends on container host Compiler: gcc (Debian 12.2.0-14) 12.2.0 Fedora 40 (Clang) Kernel: Depends on container host Compiler: clang 18.1.8 (Fedora 18.1.8-1.fc40) Fedora 40 Kernel: Depends on container host Compiler: gcc 14.2.1 20240912 (Red Hat 14.2.1-3) Fedora 41 Kernel: Depends on container host Compiler: gcc 14.2.1 20240912 (Red Hat 14.2.1-3) Fedora 41 (Clang) Kernel: Depends on container host Compiler: clang 19.1.5 (Fedora 19.1.5-1.fc41) openSUSE Leap 15 Kernel: Depends on container host Compiler: gcc (SUSE Linux) 7.5.0 RHEL8 Kernel: Depends on container host Compiler: gcc 8.5.0 20210514 (Red Hat 8.5.0-22) RHEL9 Kernel: Depends on container host Compiler: gcc 11.5.0 20240719 (Red Hat 11.5.0-2) Ubuntu 20.04 Kernel: Depends on container host Compiler: gcc (Ubuntu 9.4.0-1ubuntu1~20.04.2) 9.4.0 Ubuntu 22.04 Kernel: Depends on container host Compiler: gcc (Ubuntu 11.4.0-1ubuntu1~22.04) 11.4.0 Ubuntu 24.04 Kernel: Depends on container host Compiler: gcc (Ubuntu 13.3.0-6ubuntu2~24.04) 13.3.0 Alpine Kernel: Depends on container host Compiler: gcc (Alpine 14.2.0) 14.2.0 FreeBSD 13.4 Kernel: 13.4-RELEASE-p1 Compiler: clang 18.1.6 FreeBSD 14.2 Kernel: 14.2-RELEASE Compiler: clang 18.1.6 Windows Server 2022 Kernel: 10.0.20348.2031 Compiler: clang 15.0.7, gcc 14.1.0 (MinGW), and MSVC VS 19.39.33521 To view detailed results, visit: https://lab.dpdk.org/results/dashboard/patchsets/32615/ UNH-IOL DPDK Community Lab To manage your email subscriptions, visit: https://lab.dpdk.org/results/dashboard/preferences/subscriptions/