From mboxrd@z Thu Jan  1 00:00:00 1970
Return-Path: <test-report-bounces@dpdk.org>
Received: from mails.dpdk.org (mails.dpdk.org [217.70.189.124])
	by inbox.dpdk.org (Postfix) with ESMTP id 5A3F046271
	for <public@inbox.dpdk.org>; Thu, 20 Feb 2025 06:49:04 +0100 (CET)
Received: from mails.dpdk.org (localhost [127.0.0.1])
	by mails.dpdk.org (Postfix) with ESMTP id 4FDE94014F;
	Thu, 20 Feb 2025 06:49:04 +0100 (CET)
Received: from mail-il1-f227.google.com (mail-il1-f227.google.com
 [209.85.166.227])
 by mails.dpdk.org (Postfix) with ESMTP id 2AAF540041
 for <test-report@dpdk.org>; Thu, 20 Feb 2025 06:49:02 +0100 (CET)
Received: by mail-il1-f227.google.com with SMTP id
 e9e14a558f8ab-3ce873818a3so5015915ab.1
 for <test-report@dpdk.org>; Wed, 19 Feb 2025 21:49:02 -0800 (PST)
DKIM-Signature: v=1; a=rsa-sha256; c=relaxed/relaxed;
 d=iol.unh.edu; s=unh-iol; t=1740030541; x=1740635341; darn=dpdk.org;
 h=references:in-reply-to:cc:to:from:subject:message-id:date:from:to
 :cc:subject:date:message-id:reply-to;
 bh=TaMvsSPqlUQT/gK14D1BaIcgvf3NPFoui49TF43Cv40=;
 b=MYujMvfEx4IpUualHkN6lbMdTIjzE0nUFZlCHkcm7uMk3jd8Hx8ITMVejyLwMe0OAK
 ZNx7fYIEoVjC9unW09zlNWTUiecb+NpOgTfYCT0vAU24Jld9poJ6iKvIs3YY8V5L3mA/
 LFo000Rar896bVFphudKnFYxXROEWrLSiMOdk=
X-Google-DKIM-Signature: v=1; a=rsa-sha256; c=relaxed/relaxed;
 d=1e100.net; s=20230601; t=1740030541; x=1740635341;
 h=references:in-reply-to:cc:to:from:subject:message-id:date
 :x-gm-message-state:from:to:cc:subject:date:message-id:reply-to;
 bh=TaMvsSPqlUQT/gK14D1BaIcgvf3NPFoui49TF43Cv40=;
 b=q+suwVz/kimM6dtWPVXSqCiRhHvWfoUKH0qhRA2SAOzeIv6rxZUuY0IdVkLjZC6Qhh
 8pqBfcVEuAvaCifTlttzz+731fCI6/ChDaMrW0PIHVGwzN3C6z1+/YNiLCQDyHtPyJ/T
 UJX9ZVoqo7nB77VMPKWWsz6944qOXb9rPEuPQDKqcGuYz8+6U/4QalCdQLtXTWNu9fEa
 4yppuB+6AIgWc5Ry3823c3AFnI0UfmIRqV3LEU39b/eTEVKpSlUvKEy/VxhxzscdAnsE
 bC6/i5NpsfVTRkMRIBhAyL9sEDmLrweT0TByL1M+HlhXLaAJm+9wKP6g3pIlnh7I2RKx
 zaQA==
X-Gm-Message-State: AOJu0YzhjQJt/C6RePYRmr/mJrFRhdKi6yQNvVfT63vVIFk3jRJZwYcH
 GNxe8m08j6ZDdN5O8pEiGciBBpsaUs7kAbONHoXoZ1DZEWNFQ4eVpIiA+hdmnBUZ5kpSFsHTVST
 nP64jiGIoJN/PdGaSh5T8B0fYbqJp0BLKz80tuYFR
X-Gm-Gg: ASbGnctGSc43lNjRrh08kd54OYHN0n7ReKu1H98hkBnCkwGVE7QneNwYOTGELNbY85+
 9a8yW99OYG4zbA6p1pIrolsxj0TzjYSPOvQR226jhxNdvvswVBLZMELOosXg+YoSSCbwTNlihwa
 5mvpJDCfldRruYHC57ipOb7Ca8nTtPooI0xhrRMtOQsMWUKm54IboMmb5KFFnNmzaBxC86OkGkz
 4YCQm0mid22+cfOaFgXl21AjuV7VKbDTpb3qRKH/eqRS2bKk9EuXQ3hE0ol5A3gms7OpWavB+eP
 4Fp2jKFsqffXdX9mU/ZXI15gNagYvw==
X-Google-Smtp-Source: AGHT+IHja5rJLXbAiNC52EE8J2/cmLgutXI/PdncOwxmB/gTLYJv6dHdxWCv4ReKE870DWjitWC7FcPDwow5
X-Received: by 2002:a05:6e02:180e:b0:3d0:239a:c46a with SMTP id
 e9e14a558f8ab-3d2c24fb73emr9849705ab.9.1740030541447; 
 Wed, 19 Feb 2025 21:49:01 -0800 (PST)
Received: from postal.iol.unh.edu (postal.iol.unh.edu. [132.177.123.84])
 by smtp-relay.gmail.com with ESMTPS id
 e9e14a558f8ab-3d2853163c2sm6828355ab.25.2025.02.19.21.48.53
 (version=TLS1_2 cipher=ECDHE-ECDSA-AES128-GCM-SHA256 bits=128/128);
 Wed, 19 Feb 2025 21:48:54 -0800 (PST)
X-Relaying-Domain: iol.unh.edu
Date: Wed, 19 Feb 2025 21:48:54 -0800 (PST)
Message-ID: <67b6c246.050a0220.9aa80.0df8SMTPIN_ADDED_MISSING@mx.google.com>
Received: from [172.21.0.6] (unknown [172.18.0.240])
 by postal.iol.unh.edu (Postfix) with ESMTP id 9CCC96052471;
 Thu, 20 Feb 2025 00:48:53 -0500 (EST)
Subject: |SUCCESS| pw151652-151655 [PATCH] [RFC,v7,4/4] eventdev: documentati
From: dpdklab@iol.unh.edu
To: Test Report <test-report@dpdk.org>
Cc: dpdk-test-reports@iol.unh.edu
In-Reply-To: <20250219134325.1195531-5-luka.jankovic@ericsson.com>
References: <20250219134325.1195531-5-luka.jankovic@ericsson.com>
Content-Type: text/plain
X-BeenThere: test-report@dpdk.org
X-Mailman-Version: 2.1.29
Precedence: list
List-Id: automatic DPDK test reports <test-report.dpdk.org>
List-Unsubscribe: <https://mails.dpdk.org/options/test-report>,
 <mailto:test-report-request@dpdk.org?subject=unsubscribe>
List-Archive: <http://mails.dpdk.org/archives/test-report/>
List-Post: <mailto:test-report@dpdk.org>
List-Help: <mailto:test-report-request@dpdk.org?subject=help>
List-Subscribe: <https://mails.dpdk.org/listinfo/test-report>,
 <mailto:test-report-request@dpdk.org?subject=subscribe>
Errors-To: test-report-bounces@dpdk.org

Test-Label: iol-compile-amd64-testing
Test-Status: SUCCESS
http://dpdk.org/patch/151655

_Testing PASS_

Submitter: Luka Jankovic <luka.jankovic@ericsson.com>
Date: Wednesday, February 19 2025 13:43:25 
DPDK git baseline: Repo:dpdk
  Branch: master
  CommitID:c0ee1640d89bf118f26e844a03e3182fb0b211c4

151652-151655 --> testing pass

Upstream job id: Generic-DPDK-Compile-Meson#363153

Test environment and result as below:

+---------------------+--------------------+-------------------+------------------+-------------------+-------------------------+----------------------+
|     Environment     | dpdk_meson_compile | dpdk_compile_spdk | dpdk_compile_ovs | dpdk_msvc_compile | dpdk_llvm_clang_compile | dpdk_mingw64_compile |
+=====================+====================+===================+==================+===================+=========================+======================+
| CentOS Stream 9     | PASS               | PASS              | SKIPPED          | SKIPPED           | SKIPPED                 | SKIPPED              |
+---------------------+--------------------+-------------------+------------------+-------------------+-------------------------+----------------------+
| Debian Bullseye     | PASS               | PASS              | SKIPPED          | SKIPPED           | SKIPPED                 | SKIPPED              |
+---------------------+--------------------+-------------------+------------------+-------------------+-------------------------+----------------------+
| CentOS Stream 10    | PASS               | SKIPPED           | SKIPPED          | SKIPPED           | SKIPPED                 | SKIPPED              |
+---------------------+--------------------+-------------------+------------------+-------------------+-------------------------+----------------------+
| Fedora 40           | PASS               | PASS              | SKIPPED          | SKIPPED           | SKIPPED                 | SKIPPED              |
+---------------------+--------------------+-------------------+------------------+-------------------+-------------------------+----------------------+
| Debian 12           | PASS               | PASS              | SKIPPED          | SKIPPED           | SKIPPED                 | SKIPPED              |
+---------------------+--------------------+-------------------+------------------+-------------------+-------------------------+----------------------+
| Fedora 40 (Clang)   | PASS               | PASS              | SKIPPED          | SKIPPED           | SKIPPED                 | SKIPPED              |
+---------------------+--------------------+-------------------+------------------+-------------------+-------------------------+----------------------+
| Fedora 41 (Clang)   | PASS               | PASS              | PASS             | SKIPPED           | SKIPPED                 | SKIPPED              |
+---------------------+--------------------+-------------------+------------------+-------------------+-------------------------+----------------------+
| Fedora 41           | PASS               | PASS              | PASS             | SKIPPED           | SKIPPED                 | SKIPPED              |
+---------------------+--------------------+-------------------+------------------+-------------------+-------------------------+----------------------+
| RHEL8               | PASS               | SKIPPED           | SKIPPED          | SKIPPED           | SKIPPED                 | SKIPPED              |
+---------------------+--------------------+-------------------+------------------+-------------------+-------------------------+----------------------+
| openSUSE Leap 15    | PASS               | SKIPPED           | SKIPPED          | SKIPPED           | SKIPPED                 | SKIPPED              |
+---------------------+--------------------+-------------------+------------------+-------------------+-------------------------+----------------------+
| RHEL9               | PASS               | SKIPPED           | SKIPPED          | SKIPPED           | SKIPPED                 | SKIPPED              |
+---------------------+--------------------+-------------------+------------------+-------------------+-------------------------+----------------------+
| Ubuntu 20.04        | PASS               | SKIPPED           | SKIPPED          | SKIPPED           | SKIPPED                 | SKIPPED              |
+---------------------+--------------------+-------------------+------------------+-------------------+-------------------------+----------------------+
| Ubuntu 22.04        | PASS               | PASS              | SKIPPED          | SKIPPED           | SKIPPED                 | SKIPPED              |
+---------------------+--------------------+-------------------+------------------+-------------------+-------------------------+----------------------+
| Ubuntu 24.04        | PASS               | PASS              | PASS             | SKIPPED           | SKIPPED                 | SKIPPED              |
+---------------------+--------------------+-------------------+------------------+-------------------+-------------------------+----------------------+
| Alpine              | PASS               | SKIPPED           | SKIPPED          | SKIPPED           | SKIPPED                 | SKIPPED              |
+---------------------+--------------------+-------------------+------------------+-------------------+-------------------------+----------------------+
| FreeBSD 13.4        | PASS               | SKIPPED           | SKIPPED          | SKIPPED           | SKIPPED                 | SKIPPED              |
+---------------------+--------------------+-------------------+------------------+-------------------+-------------------------+----------------------+
| FreeBSD 14.2        | PASS               | SKIPPED           | SKIPPED          | SKIPPED           | SKIPPED                 | SKIPPED              |
+---------------------+--------------------+-------------------+------------------+-------------------+-------------------------+----------------------+
| Windows Server 2022 | SKIPPED            | SKIPPED           | SKIPPED          | PASS              | PASS                    | PASS                 |
+---------------------+--------------------+-------------------+------------------+-------------------+-------------------------+----------------------+


CentOS Stream 9
	Kernel: Depends on container host
	Compiler: gcc 11.5.0 20240719 (Red Hat 11.5.0-2)

Debian Bullseye
	Kernel: Depends on container host
	Compiler: gcc (Debian 10.2.1-6) 10.2.1 20210110

CentOS Stream 10
	Kernel: Depends on container host
	Compiler: gcc 14.2.1 20241104 (Red Hat 14.2.1-6)

Fedora 40
	Kernel: Depends on container host
	Compiler: gcc 14.2.1 20240912 (Red Hat 14.2.1-3)

Debian 12
	Kernel: Depends on container host
	Compiler: gcc (Debian 12.2.0-14) 12.2.0

Fedora 40 (Clang)
	Kernel: Depends on container host
	Compiler: clang 18.1.8 (Fedora 18.1.8-1.fc40)

Fedora 41 (Clang)
	Kernel: Depends on container host
	Compiler: clang 19.1.5 (Fedora 19.1.5-1.fc41)

Fedora 41
	Kernel: Depends on container host
	Compiler: gcc 14.2.1 20240912 (Red Hat 14.2.1-3)

RHEL8
	Kernel: Depends on container host
	Compiler: gcc 8.5.0 20210514 (Red Hat 8.5.0-22)

openSUSE Leap 15
	Kernel: Depends on container host
	Compiler: gcc (SUSE Linux) 7.5.0

RHEL9
	Kernel: Depends on container host
	Compiler: gcc 11.5.0 20240719 (Red Hat 11.5.0-2)

Ubuntu 20.04
	Kernel: Depends on container host
	Compiler: gcc (Ubuntu 9.4.0-1ubuntu1~20.04.2) 9.4.0

Ubuntu 22.04
	Kernel: Depends on container host
	Compiler: gcc (Ubuntu 11.4.0-1ubuntu1~22.04) 11.4.0

Ubuntu 24.04
	Kernel: Depends on container host
	Compiler: gcc (Ubuntu 13.3.0-6ubuntu2~24.04) 13.3.0

Alpine
	Kernel: Depends on container host
	Compiler: gcc (Alpine 14.2.0) 14.2.0

FreeBSD 13.4
	Kernel: 13.4-RELEASE-p1
	Compiler: clang 18.1.6

FreeBSD 14.2
	Kernel: 14.2-RELEASE
	Compiler: clang 18.1.6

Windows Server 2022
	Kernel: 10.0.20348.2031
	Compiler: clang 15.0.7, gcc 14.1.0 (MinGW), and MSVC VS 19.39.33521

To view detailed results, visit:
https://lab.dpdk.org/results/dashboard/patchsets/32613/

UNH-IOL DPDK Community Lab

To manage your email subscriptions, visit: 
https://lab.dpdk.org/results/dashboard/preferences/subscriptions/