From mboxrd@z Thu Jan 1 00:00:00 1970 Return-Path: Received: from mails.dpdk.org (mails.dpdk.org [217.70.189.124]) by inbox.dpdk.org (Postfix) with ESMTP id 978DC46271 for ; Thu, 20 Feb 2025 06:58:26 +0100 (CET) Received: from mails.dpdk.org (localhost [127.0.0.1]) by mails.dpdk.org (Postfix) with ESMTP id 5A0114014F; Thu, 20 Feb 2025 06:58:26 +0100 (CET) Received: from mail-yw1-f227.google.com (mail-yw1-f227.google.com [209.85.128.227]) by mails.dpdk.org (Postfix) with ESMTP id 8F48340041 for ; Thu, 20 Feb 2025 06:58:25 +0100 (CET) Received: by mail-yw1-f227.google.com with SMTP id 00721157ae682-6fbaa0582a6so10863177b3.1 for ; Wed, 19 Feb 2025 21:58:25 -0800 (PST) DKIM-Signature: v=1; a=rsa-sha256; c=relaxed/relaxed; d=iol.unh.edu; s=unh-iol; t=1740031105; x=1740635905; darn=dpdk.org; h=references:in-reply-to:cc:to:from:subject:message-id:date:from:to :cc:subject:date:message-id:reply-to; bh=UQf4aO/J9wGKpgYaBYCdYllqtrU8PcmWXFi8Ota27OI=; b=ewYu9BWnAOoeyyIvAyM3MrmcG6X6Nz0Tg1DId2kCz6P8cghfeipAHKcz3jG2n2SLRR ZEgwFuwx6O9sgqMvnuRcPd33l1V3nOnmwqELc+PlYr/bggO2mbQFsVeosz2rI/3ptvN/ KmMd8g10ZniGVSLS/yfPUfrhz58/ONDDKDjNw= X-Google-DKIM-Signature: v=1; a=rsa-sha256; c=relaxed/relaxed; d=1e100.net; s=20230601; t=1740031105; x=1740635905; h=references:in-reply-to:cc:to:from:subject:message-id:date :x-gm-message-state:from:to:cc:subject:date:message-id:reply-to; bh=UQf4aO/J9wGKpgYaBYCdYllqtrU8PcmWXFi8Ota27OI=; b=OIJinBxaVQqW5BxBDO1IiGv99aHOdXpfDKvkqDqioyh0M9hugRkkvyVEZVFfq+LfHG HMeKJtLA81zKVpUDlo+gkAMTePkRyvEcrqf+K7+JEHDvrB7mPLiMOHFpOJEtznobHfEq xayjMM7Fh32z1bnR6JqqD4zCZ1K5btdG3T8PZISDgHZTXHLWUK8M0dnFFtWp4PVTJk36 u/EAU7YVIn+TIwl8Jw6GO+Lva0MUxTE83Gl3ubTCXkcpVZ+Xoh1khK2hJ9d2UEZo3qUc lWvfRZ7HQrizFPgqOD7sCUG7A4RcDqBdh8hmHD5gj81k27KmfHA4LDARqrwsabpHaTCK x0DA== X-Gm-Message-State: AOJu0YyHpf7PzwRnITrSZixWE0E/2164PPTNCubma9ww2FwpowYfvmch 3hDGSXBwIFcoySWuYbclD193tUGDiVbJhZy6rRqB/HZkYtK+9JeM8U7ydlDsFvtzedkEsopVbwb 0EEBA1vuad7XkpWgYyAn6ITaY0ozSVkrZQEYbMBWa X-Gm-Gg: ASbGncu3Zdk3jh6z8/oL/l1LSLKISl71Q1CiJFvYJjPKqtUIohnBsq4FdRzT5hoZmdc bbrVIVf//i9dYmh3C8PDK/GStZ3blG5kNjjajBsglvrwPCwugHF981sPN3y6Xb+WZVpfyXIsXrI Ujpt9v+MHuQvLA5679gkDRpx/BVwOqpZ0TKc4elbFEy90XJuX9ae38MXrdQwnI0vUBLhuDn2TLk d91f0IAx/F2PmSIIinlL+c1xdeION9Lzwt7N59wfTN1sN9se3phfuNEFEK9ug3qz3ZHV/OH8LEA gN1GFuhg9e9/olv8tGKjM5mrK9HgNw== X-Google-Smtp-Source: AGHT+IFhSiumF9RX0xS9hWfd+tofK8LxY4roEKdwhAqky8SK4zOCJoapywwNRkZ9lsJkfYBaYHAi9L7FpyZW X-Received: by 2002:a05:690c:290a:b0:6f9:e4e1:a86 with SMTP id 00721157ae682-6fbb79d3ddcmr15024767b3.16.1740031104848; Wed, 19 Feb 2025 21:58:24 -0800 (PST) Received: from postal.iol.unh.edu (postal.iol.unh.edu. [132.177.123.84]) by smtp-relay.gmail.com with ESMTPS id 00721157ae682-6fb45861e8fsm3976757b3.55.2025.02.19.21.58.24 (version=TLS1_2 cipher=ECDHE-ECDSA-AES128-GCM-SHA256 bits=128/128); Wed, 19 Feb 2025 21:58:24 -0800 (PST) X-Relaying-Domain: iol.unh.edu Date: Wed, 19 Feb 2025 21:58:24 -0800 (PST) Message-ID: <67b6c480.050a0220.d7402.3299SMTPIN_ADDED_MISSING@mx.google.com> Received: from [172.21.0.6] (unknown [172.18.0.240]) by postal.iol.unh.edu (Postfix) with ESMTP id 813C06052471; Thu, 20 Feb 2025 00:58:24 -0500 (EST) Subject: |SUCCESS| pw151656 [PATCH] dts: grab linter return value From: dpdklab@iol.unh.edu To: Test Report Cc: dpdk-test-reports@iol.unh.edu In-Reply-To: <20250218230746.1281585-1-luca.vizzarro@arm.com> References: <20250218230746.1281585-1-luca.vizzarro@arm.com> Content-Type: text/plain X-BeenThere: test-report@dpdk.org X-Mailman-Version: 2.1.29 Precedence: list List-Id: automatic DPDK test reports List-Unsubscribe: , List-Archive: List-Post: List-Help: List-Subscribe: , Errors-To: test-report-bounces@dpdk.org Test-Label: iol-abi-testing Test-Status: SUCCESS http://dpdk.org/patch/151656 _Testing PASS_ Submitter: Luca Vizzarro Date: Tuesday, February 18 2025 23:07:46 DPDK git baseline: Repo:dpdk Branch: master CommitID:e8c317d6041c25dd8ec572017fed2362a1bf5c8a 151656 --> testing pass Upstream job id: Generic-DPDK-Compile-ABI#116816 Test environment and result as below: +-------------------+----------+ | Environment | abi_test | +===================+==========+ | CentOS Stream 9 | PASS | +-------------------+----------+ | CentOS Stream 10 | PASS | +-------------------+----------+ | Debian Bullseye | PASS | +-------------------+----------+ | Debian 12 | PASS | +-------------------+----------+ | Fedora 40 (Clang) | PASS | +-------------------+----------+ | Fedora 40 | PASS | +-------------------+----------+ | Fedora 41 (Clang) | PASS | +-------------------+----------+ | Fedora 41 | PASS | +-------------------+----------+ | RHEL8 | PASS | +-------------------+----------+ | Ubuntu 22.04 | PASS | +-------------------+----------+ | RHEL9 | PASS | +-------------------+----------+ | Ubuntu 24.04 | PASS | +-------------------+----------+ | openSUSE Leap 15 | PASS | +-------------------+----------+ CentOS Stream 9 Kernel: Depends on container host Compiler: gcc 11.5.0 20240719 (Red Hat 11.5.0-2) CentOS Stream 10 Kernel: Depends on container host Compiler: gcc 14.2.1 20241104 (Red Hat 14.2.1-6) Debian Bullseye Kernel: Depends on container host Compiler: gcc (Debian 10.2.1-6) 10.2.1 20210110 Debian 12 Kernel: Depends on container host Compiler: gcc (Debian 12.2.0-14) 12.2.0 Fedora 40 (Clang) Kernel: Depends on container host Compiler: clang 18.1.8 (Fedora 18.1.8-1.fc40) Fedora 40 Kernel: Depends on container host Compiler: gcc 14.2.1 20240912 (Red Hat 14.2.1-3) Fedora 41 (Clang) Kernel: Depends on container host Compiler: clang 19.1.5 (Fedora 19.1.5-1.fc41) Fedora 41 Kernel: Depends on container host Compiler: gcc 14.2.1 20240912 (Red Hat 14.2.1-3) RHEL8 Kernel: Depends on container host Compiler: gcc 8.5.0 20210514 (Red Hat 8.5.0-22) Ubuntu 22.04 Kernel: Depends on container host Compiler: gcc (Ubuntu 11.4.0-1ubuntu1~22.04) 11.4.0 RHEL9 Kernel: Depends on container host Compiler: gcc 11.5.0 20240719 (Red Hat 11.5.0-2) Ubuntu 24.04 Kernel: Depends on container host Compiler: gcc (Ubuntu 13.3.0-6ubuntu2~24.04) 13.3.0 openSUSE Leap 15 Kernel: Depends on container host Compiler: gcc (SUSE Linux) 7.5.0 To view detailed results, visit: https://lab.dpdk.org/results/dashboard/patchsets/32614/ UNH-IOL DPDK Community Lab To manage your email subscriptions, visit: https://lab.dpdk.org/results/dashboard/preferences/subscriptions/