From mboxrd@z Thu Jan 1 00:00:00 1970 Return-Path: Received: from mails.dpdk.org (mails.dpdk.org [217.70.189.124]) by inbox.dpdk.org (Postfix) with ESMTP id 165F246271 for ; Thu, 20 Feb 2025 07:00:43 +0100 (CET) Received: from mails.dpdk.org (localhost [127.0.0.1]) by mails.dpdk.org (Postfix) with ESMTP id E9CB94014F; Thu, 20 Feb 2025 07:00:42 +0100 (CET) Received: from mail-il1-f225.google.com (mail-il1-f225.google.com [209.85.166.225]) by mails.dpdk.org (Postfix) with ESMTP id 951FA40041 for ; Thu, 20 Feb 2025 07:00:41 +0100 (CET) Received: by mail-il1-f225.google.com with SMTP id e9e14a558f8ab-3d2a8c2467eso1861915ab.3 for ; Wed, 19 Feb 2025 22:00:41 -0800 (PST) DKIM-Signature: v=1; a=rsa-sha256; c=relaxed/relaxed; d=iol.unh.edu; s=unh-iol; t=1740031241; x=1740636041; darn=dpdk.org; h=references:in-reply-to:cc:to:from:subject:message-id:date:from:to :cc:subject:date:message-id:reply-to; bh=QtU/+hNyeyZPw0gvTUUqhjuTsq3Agpbl0inTrzT/yCo=; b=Y6Q35DGLlNiuW4ENtT+T/n684OcxPHYTdLqnbFL3ulSy5yfVuZQ1jMRsoN9Ne71xxB 2rcBpufsioLL71UUvJ47iSSqWD0e2lz1I0r8XVyf8rUh7Q/agPYwoFDJvwmgZu/EHLgo xppt+k3Czp41xpaVtMahKcUlEk+ev96pKZFz4= X-Google-DKIM-Signature: v=1; a=rsa-sha256; c=relaxed/relaxed; d=1e100.net; s=20230601; t=1740031241; x=1740636041; h=references:in-reply-to:cc:to:from:subject:message-id:date :x-gm-message-state:from:to:cc:subject:date:message-id:reply-to; bh=QtU/+hNyeyZPw0gvTUUqhjuTsq3Agpbl0inTrzT/yCo=; b=s+SwHph3JA5a56guo2lTzlS5XCyRnxDN9jqgbyTph690QYb+YY9/nsJQ8Po88wMaZx WSuKboVApAhI2PiFemHA6iIy3H9jDMo3dZ5Tq4+iyhai2vY7PIhsWdcuIbHElC5w/g/S UApH/Vr573qhJzk8j/EpEBDv3DFweCGm/Ck3EHkcnwKoLUre0GeqzMCiatmYpJ/N9SdS DL3t3kc5bTiTSd57acVTU7zZu5uUK0LxY77FlpfKwq6clZ48tJqBm5I4gep/x4rYTUsv L1PRvVYpEHXUH3kxsa5KQ2Ds2yQv6H0yqcjePj4gCZloawMY8VQmTHROX+QkL1pP6Mb8 jJww== X-Gm-Message-State: AOJu0YzNvaANFkodOIpKO4I1XwH4+L9X2iKFIJ5XK/oNq168u4Zft5Ux WMV6KwMg73Dd4e/fn00p8H1xyvxlAk90TQMg+xqMrrxSAvmKCgbH6QZlQQV+s4MtEb05YNvZ9D5 qhjjX1oTxdm48xRhtSrAU9l39HR8nWHOoYQZT05xOJr9VJH8R8uG/y/W8 X-Gm-Gg: ASbGncsKnnY4qrlTerFoTwG/yb/BYmidtJt5cX/FXaKTO6eqf0qNeI+QkOPcDJXsy+m K87ub9ry7nvZGWYuwPHsDpTWKTpPnt5WIWZuhMWUiYumLY/vgOGHxGSK5CXCWdJr6bgsRWfSlOC 8lE/R30xpJjmWKpqzLT0NaEZWWjC2AXeNsL5121KFaGlTn/bCCwIKehxOekG7L77Yd+C8FWZRDr L7enVGeMMlVknQzVpLxOlFUJBcC+DvShTCyOf81zvWDAexIglnm4wppq6Igmr8kOvhFUv/ZO6jd T9yFboOr3O6oLWqoqMq9rzQT6ER7Fr8xNswgjCEISQ== X-Google-Smtp-Source: AGHT+IEAxM7wnsFCz5TreF0bV91aBgxf45bFoG9CSJjOmC2p/Ggz/KkaZJTE+vHZA4AqQHHbxzpUHmPxRdmI X-Received: by 2002:a05:6e02:160c:b0:3d2:b7b6:e808 with SMTP id e9e14a558f8ab-3d2b7b6ea00mr46272835ab.17.1740031240880; Wed, 19 Feb 2025 22:00:40 -0800 (PST) Received: from postal.iol.unh.edu (postal.iol.unh.edu. [2606:4100:3880:1234::84]) by smtp-relay.gmail.com with ESMTPS id e9e14a558f8ab-3d18fb7c5fbsm8923395ab.46.2025.02.19.22.00.40 (version=TLS1_2 cipher=ECDHE-ECDSA-AES128-GCM-SHA256 bits=128/128); Wed, 19 Feb 2025 22:00:40 -0800 (PST) X-Relaying-Domain: iol.unh.edu Date: Wed, 19 Feb 2025 22:00:40 -0800 (PST) Message-ID: <67b6c508.050a0220.58ce9.a33fSMTPIN_ADDED_MISSING@mx.google.com> Received: from [172.21.0.5] (unknown [172.18.0.240]) by postal.iol.unh.edu (Postfix) with ESMTP id 7E1316052471; Thu, 20 Feb 2025 01:00:40 -0500 (EST) Subject: |SUCCESS| pw151656 [PATCH] dts: grab linter return value From: dpdklab@iol.unh.edu To: Test Report Cc: dpdk-test-reports@iol.unh.edu In-Reply-To: <20250218230746.1281585-1-luca.vizzarro@arm.com> References: <20250218230746.1281585-1-luca.vizzarro@arm.com> Content-Type: text/plain X-BeenThere: test-report@dpdk.org X-Mailman-Version: 2.1.29 Precedence: list List-Id: automatic DPDK test reports List-Unsubscribe: , List-Archive: List-Post: List-Help: List-Subscribe: , Errors-To: test-report-bounces@dpdk.org Test-Label: iol-abi-testing Test-Status: SUCCESS http://dpdk.org/patch/151656 _Testing PASS_ Submitter: Luca Vizzarro Date: Tuesday, February 18 2025 23:07:46 DPDK git baseline: Repo:dpdk Branch: master CommitID:e8c317d6041c25dd8ec572017fed2362a1bf5c8a 151656 --> testing pass Upstream job id: Generic-DPDK-Compile-ABI#116815 Test environment and result as below: +-------------------+----------+ | Environment | abi_test | +===================+==========+ | CentOS Stream 9 | PASS | +-------------------+----------+ | CentOS Stream 10 | PASS | +-------------------+----------+ | Debian Bullseye | PASS | +-------------------+----------+ | Debian 12 | PASS | +-------------------+----------+ | Fedora 40 (Clang) | PASS | +-------------------+----------+ | Fedora 40 | PASS | +-------------------+----------+ | Fedora 41 (Clang) | PASS | +-------------------+----------+ | Fedora 41 | PASS | +-------------------+----------+ | RHEL8 | PASS | +-------------------+----------+ | Ubuntu 22.04 | PASS | +-------------------+----------+ | RHEL9 | PASS | +-------------------+----------+ | Ubuntu 24.04 | PASS | +-------------------+----------+ | openSUSE Leap 15 | PASS | +-------------------+----------+ CentOS Stream 9 Kernel: Depends on container host Compiler: gcc 11.5.0 20240719 (Red Hat 11.5.0-2) CentOS Stream 10 Kernel: Depends on container host Compiler: gcc 14.2.1 20241104 (Red Hat 14.2.1-6) Debian Bullseye Kernel: Depends on container host Compiler: gcc (Debian 10.2.1-6) 10.2.1 20210110 Debian 12 Kernel: Depends on container host Compiler: gcc (Debian 12.2.0-14) 12.2.0 Fedora 40 (Clang) Kernel: Depends on container host Compiler: clang 18.1.8 (Fedora 18.1.8-1.fc40) Fedora 40 Kernel: Depends on container host Compiler: gcc 14.2.1 20240912 (Red Hat 14.2.1-3) Fedora 41 (Clang) Kernel: Depends on container host Compiler: clang 19.1.5 (Fedora 19.1.5-1.fc41) Fedora 41 Kernel: Depends on container host Compiler: gcc 14.2.1 20240912 (Red Hat 14.2.1-3) RHEL8 Kernel: Depends on container host Compiler: gcc 8.5.0 20210514 (Red Hat 8.5.0-22) Ubuntu 22.04 Kernel: Depends on container host Compiler: gcc (Ubuntu 11.4.0-1ubuntu1~22.04) 11.4.0 RHEL9 Kernel: Depends on container host Compiler: gcc 11.5.0 20240719 (Red Hat 11.5.0-2) Ubuntu 24.04 Kernel: Depends on container host Compiler: gcc (Ubuntu 13.3.0-6ubuntu2~24.04) 13.3.0 openSUSE Leap 15 Kernel: Depends on container host Compiler: gcc (SUSE Linux) 7.5.0 To view detailed results, visit: https://lab.dpdk.org/results/dashboard/patchsets/32614/ UNH-IOL DPDK Community Lab To manage your email subscriptions, visit: https://lab.dpdk.org/results/dashboard/preferences/subscriptions/