From mboxrd@z Thu Jan 1 00:00:00 1970 Return-Path: Received: from mails.dpdk.org (mails.dpdk.org [217.70.189.124]) by inbox.dpdk.org (Postfix) with ESMTP id BFEC046271 for ; Thu, 20 Feb 2025 07:16:16 +0100 (CET) Received: from mails.dpdk.org (localhost [127.0.0.1]) by mails.dpdk.org (Postfix) with ESMTP id BAB1A4014F; Thu, 20 Feb 2025 07:16:16 +0100 (CET) Received: from mail-pl1-f225.google.com (mail-pl1-f225.google.com [209.85.214.225]) by mails.dpdk.org (Postfix) with ESMTP id 9A6C840041 for ; Thu, 20 Feb 2025 07:16:14 +0100 (CET) Received: by mail-pl1-f225.google.com with SMTP id d9443c01a7336-21c2f1b610dso14339585ad.0 for ; Wed, 19 Feb 2025 22:16:14 -0800 (PST) DKIM-Signature: v=1; a=rsa-sha256; c=relaxed/relaxed; d=iol.unh.edu; s=unh-iol; t=1740032174; x=1740636974; darn=dpdk.org; h=references:in-reply-to:cc:to:from:subject:message-id:date:from:to :cc:subject:date:message-id:reply-to; bh=CQs9t1WXHFlRQWVx3XWVb3qDCwa4LuEzfVlzVr4LFgY=; b=T6Jl2QLmmfQNn3D/9Rc650/cGqB2L1KHSe2XJxylumPgPfNB3BdN3Jn6req1yex54y cdPCFVG8i6wquBqcrb9H5+m2qCUJwmcZ4/EOG8kEGZ3zjoJk1p9JnvJ+C+JOxA7nL+n9 sbCJsnEWHkzn9Tld6NdQOw9wl1f6hOwOQiCgM= X-Google-DKIM-Signature: v=1; a=rsa-sha256; c=relaxed/relaxed; d=1e100.net; s=20230601; t=1740032174; x=1740636974; h=references:in-reply-to:cc:to:from:subject:message-id:date :x-gm-message-state:from:to:cc:subject:date:message-id:reply-to; bh=CQs9t1WXHFlRQWVx3XWVb3qDCwa4LuEzfVlzVr4LFgY=; b=U2ZcwBMLsBzvwlOY9yaqTxvN3vVaL6pTL3ACIsmvqwI1JBKoH8CvUpnoa8l1zUuo3T 4cOV7D7YxyVEvACPFLQJ3+XNHisSYBHkJPi12cR5FzxAz4hVOVQIe/Qx7bspA07Euq5D +QhKT38dtmDoKCMoZHCO8uTLg5B8ygvBLt/XxyNN6D0ts2klalDOC5TogHYXCy7NgEq3 Z7p9XzRu5MBwfty2Shts52ct3zDt4eFJKv3rwVwYvu695gGXDIT+nNUt+QVUmWE8EJxp 6ty5/IsByN5u63QRT2l+pF8iWlrVe0iLgMCwB1J7CAqV64ZNBwIxQw9pgN8DfU5eAfAt aQjw== X-Gm-Message-State: AOJu0YzfjXnUQvWdDicqDLvZVXQBJ1rODbK2+76KgqzLjFuPmjLd78Fs 0ef0mui95O//OJr8BD766CQRVJX0NXV+aTRQPvfTpfSG75TQJDhvgZLtjJInkSmL7ktzivkKnlS 8OpDeBkiymXiYXvUfs8Ce49ZEC1FCa0zrzVEKYO810WwNylKtgw9jdEMa X-Gm-Gg: ASbGnctTzMkCQm9oVkJ5MPVjN5XOb7HXySTFG2hdDhYmuZKTs7mpYX5vk9XLKmO1MpU 0TYB5p+kKawXkxTtAo3RS6pAK1V9LnYE9YNDtp9Iz+kZDxUEV/0hio4rVcsEtGaXqdTY0BX++G3 OvMucCDsIcaC+lUBik3/X5tdgPL71B59If3HXNI9VL++2msLSoMLdlcQLgVj0JJZstCp5N8rK+j XuYH63IT1RJMk4Y82KklalqlXjvg371Rp2eZW7hqUTDULAkNfQMOboeh0Nw2/OC8ylkFlo+MxuV f5xRD4mkJ3aOcU5PCIDLtH6IS3sCd32dWUgUGnXE3A== X-Google-Smtp-Source: AGHT+IGmr4VSSu2vrIFYZ62Lnqmx1ni31ge8htkJC8o21r+RX8yFyteCUaZ9X8RivctCBgUrD3WImdgYA4Ts X-Received: by 2002:a17:903:41c3:b0:21f:baa:80c1 with SMTP id d9443c01a7336-221040d74e3mr365286425ad.53.1740032173727; Wed, 19 Feb 2025 22:16:13 -0800 (PST) Received: from postal.iol.unh.edu (postal.iol.unh.edu. [2606:4100:3880:1234::84]) by smtp-relay.gmail.com with ESMTPS id d9443c01a7336-220d5201e40sm6969275ad.25.2025.02.19.22.16.13 (version=TLS1_2 cipher=ECDHE-ECDSA-AES128-GCM-SHA256 bits=128/128); Wed, 19 Feb 2025 22:16:13 -0800 (PST) X-Relaying-Domain: iol.unh.edu Date: Wed, 19 Feb 2025 22:16:13 -0800 (PST) Message-ID: <67b6c8ad.170a0220.3c2f17.1be5SMTPIN_ADDED_MISSING@mx.google.com> Received: from [172.21.0.7] (unknown [172.18.0.240]) by postal.iol.unh.edu (Postfix) with ESMTP id D5EDB6052471; Thu, 20 Feb 2025 01:16:12 -0500 (EST) Subject: |SUCCESS| pw151652-151655 [PATCH] [RFC,v7,4/4] eventdev: documentati From: dpdklab@iol.unh.edu To: Test Report Cc: dpdk-test-reports@iol.unh.edu In-Reply-To: <20250219134325.1195531-5-luka.jankovic@ericsson.com> References: <20250219134325.1195531-5-luka.jankovic@ericsson.com> Content-Type: text/plain X-BeenThere: test-report@dpdk.org X-Mailman-Version: 2.1.29 Precedence: list List-Id: automatic DPDK test reports List-Unsubscribe: , List-Archive: List-Post: List-Help: List-Subscribe: , Errors-To: test-report-bounces@dpdk.org Test-Label: iol-compile-arm64-testing Test-Status: SUCCESS http://dpdk.org/patch/151655 _Testing PASS_ Submitter: Luka Jankovic Date: Wednesday, February 19 2025 13:43:25 DPDK git baseline: Repo:dpdk Branch: master CommitID:c0ee1640d89bf118f26e844a03e3182fb0b211c4 151652-151655 --> testing pass Upstream job id: Generic-DPDK-Compile-Meson#363161 Test environment and result as below: +----------------------------------------+--------------------+ | Environment | dpdk_meson_compile | +========================================+====================+ | RHEL9 (ARM) | PASS | +----------------------------------------+--------------------+ | Ubuntu 20.04 ARM SVE | PASS | +----------------------------------------+--------------------+ | Ubuntu 20.04 ARM GCC Cross Compile | PASS | +----------------------------------------+--------------------+ | Fedora 40 (ARM) | PASS | +----------------------------------------+--------------------+ | Debian 12 with MUSDK | PASS | +----------------------------------------+--------------------+ | Fedora 40 (ARM Clang) | PASS | +----------------------------------------+--------------------+ | Fedora 41 (ARM) | PASS | +----------------------------------------+--------------------+ | Fedora 41 (ARM Clang) | PASS | +----------------------------------------+--------------------+ | Ubuntu 22.04 (ARM) | PASS | +----------------------------------------+--------------------+ | Ubuntu 24.04 (ARM) | PASS | +----------------------------------------+--------------------+ | CentOS Stream 9 (ARM) | PASS | +----------------------------------------+--------------------+ | CentOS Stream 10 (ARM) | PASS | +----------------------------------------+--------------------+ | Debian 11 (Buster) (ARM) | PASS | +----------------------------------------+--------------------+ | Debian 12 (arm) | PASS | +----------------------------------------+--------------------+ | Ubuntu 20.04 ARM Clang Cross Compile | PASS | +----------------------------------------+--------------------+ | Ubuntu 20.04 aarch32 GCC Cross Compile | PASS | +----------------------------------------+--------------------+ | Ubuntu 20.04 (ARM) | PASS | +----------------------------------------+--------------------+ RHEL9 (ARM) Kernel: Depends on container host Compiler: gcc 11.5.0 20240719 (Red Hat 11.5.0-2) Ubuntu 20.04 ARM SVE Kernel: Depends on container host Compiler: gcc (Ubuntu 10.5.0-1ubuntu1~20.04) 10.5.0 Ubuntu 20.04 ARM GCC Cross Compile Kernel: Depends on container host Compiler: aarch64-linux-gnu-gcc (Ubuntu 9.4.0-1ubuntu1~20.04.2) 9.4.0 Fedora 40 (ARM) Kernel: Depends on container host Compiler: gcc 14.2.1 20240912 (Red Hat 14.2.1-3) Debian 12 with MUSDK Kernel: Depends on container host Compiler: gcc (Debian 12.2.0-14) 12.2.0 Fedora 40 (ARM Clang) Kernel: Depends on container host Compiler: clang 18.1.8 (Fedora 18.1.8-1.fc40) Fedora 41 (ARM) Kernel: Depends on container host Compiler: gcc 14.2.1 20240912 (Red Hat 14.2.1-3) Fedora 41 (ARM Clang) Kernel: Depends on container host Compiler: clang 19.1.5 (Fedora 19.1.5-1.fc41) Ubuntu 22.04 (ARM) Kernel: Depends on container host Compiler: gcc (Ubuntu 11.4.0-1ubuntu1~22.04) 11.4.0 Ubuntu 24.04 (ARM) Kernel: Depends on container host Compiler: gcc (Ubuntu 13.3.0-6ubuntu2~24.04) 13.3.0 CentOS Stream 9 (ARM) Kernel: Depends on container host Compiler: gcc 11.5.0 20240719 (Red Hat 11.5.0-2) CentOS Stream 10 (ARM) Kernel: Depends on container host Compiler: gcc 14.2.1 20241104 (Red Hat 14.2.1-6) Debian 11 (Buster) (ARM) Kernel: Depends on container host Compiler: gcc (Debian 10.2.1-6) 10.2.1 20210110 Debian 12 (arm) Kernel: Depends on container host Compiler: gcc (Debian 12.2.0-14) 12.2.0 Ubuntu 20.04 ARM Clang Cross Compile Kernel: Depends on container host Compiler: clang 10.0.0-4ubuntu1 Ubuntu 20.04 aarch32 GCC Cross Compile Kernel: Depends on container host Compiler: gcc 9.4.0 Ubuntu 20.04 (ARM) Kernel: Depends on container host Compiler: gcc (Ubuntu 9.4.0-1ubuntu1~20.04.2) 9.4.0 To view detailed results, visit: https://lab.dpdk.org/results/dashboard/patchsets/32613/ UNH-IOL DPDK Community Lab To manage your email subscriptions, visit: https://lab.dpdk.org/results/dashboard/preferences/subscriptions/