From mboxrd@z Thu Jan 1 00:00:00 1970 Return-Path: Received: from mails.dpdk.org (mails.dpdk.org [217.70.189.124]) by inbox.dpdk.org (Postfix) with ESMTP id E92A446271 for ; Thu, 20 Feb 2025 07:35:46 +0100 (CET) Received: from mails.dpdk.org (localhost [127.0.0.1]) by mails.dpdk.org (Postfix) with ESMTP id CD0784014F; Thu, 20 Feb 2025 07:35:46 +0100 (CET) Received: from mail-yw1-f227.google.com (mail-yw1-f227.google.com [209.85.128.227]) by mails.dpdk.org (Postfix) with ESMTP id ECD5F40041 for ; Thu, 20 Feb 2025 07:35:44 +0100 (CET) Received: by mail-yw1-f227.google.com with SMTP id 00721157ae682-6f8c58229f1so5903447b3.0 for ; Wed, 19 Feb 2025 22:35:44 -0800 (PST) DKIM-Signature: v=1; a=rsa-sha256; c=relaxed/relaxed; d=iol.unh.edu; s=unh-iol; t=1740033344; x=1740638144; darn=dpdk.org; h=references:in-reply-to:cc:to:from:subject:message-id:date:from:to :cc:subject:date:message-id:reply-to; bh=m9fhFL/nPQhEovxoPIiJ/psBYC5/3ZSAkOe1IKssNpw=; b=WmNuechCull0RC4Bs5LVmtT4GcGK+rCi+QWxamOG/AsBI3gPlErdW3f3Cqj7i/cvtD zz4c8/lEbOMD2FUnDe6bmX/f0X7h6JtY53skhTHQNfE9DlT/57gfwLBr8322+zyzhimn H+bILTx8X0+1+m60v6wUVB0ypZIkpRl4fRnFs= X-Google-DKIM-Signature: v=1; a=rsa-sha256; c=relaxed/relaxed; d=1e100.net; s=20230601; t=1740033344; x=1740638144; h=references:in-reply-to:cc:to:from:subject:message-id:date :x-gm-message-state:from:to:cc:subject:date:message-id:reply-to; bh=m9fhFL/nPQhEovxoPIiJ/psBYC5/3ZSAkOe1IKssNpw=; b=uWJCwL3chaCe5RJpJc2XlThe/YIINv++HEFnU2Hl2EGDmqTQpCaWYuN5fqr3k/rkqD JFUpOORrbszAN9/UJfY2mK7nfWSfAFDdOh+OmqFpMTLLr259VQkcAr1qK8VtpXg2saEz hyLPj0SIwR7Ml08WA+aFCpIBb+ZR6ieTNVYQzvMrYJds9JFp3hlhbLPOD5VxlIkCp567 nzPFw/bHR1aS8IMUFZH2tmdnHpfRzJ1TRE34oYh12VjRorHZ93eCXSvjZmHZqJeBYQVM 1kug5XVkqXHHF5sFPQ3rGQ25tsHXDuqGXzSiRiB7kzdiZ7wnoj7p2FSPcyp/VIGw2uHP wG/w== X-Gm-Message-State: AOJu0YzGDyiKmgahwNk8c7sv91VlVP48kF6o9wvUzUZ6sYVbdiRHdo+S cBzvyo5OchRWgXJOuEyKrnKzfrjJDwoHr3s/6dVWE8KoDM2yEMdvyO1HtkQk6gxLusgnk3vhQmm DP8pYYJ7LFlV7XtGB0i+u5Gs19DSYxReWeufpcsku X-Gm-Gg: ASbGncuneXO/C+SxT/ifUknwDSf3rkLZo0HUOb/U5wBUDGu+jZhqAcFtPkDLXke+BGk gzRNrF2IMxEaYrnToIki2Q+BaAWuAivM1fk4ETgObaFEXBWxy4VVQgOlug/ebvWeYu/WqDIR4dL 3+YAi1bJZqM6Y3J2xFHy52nkhPs4gNzh4V2aOQ0X1pgNhNYsp+0vKitXT9PwgUOfADPLtOkn7Fw iX5+N3V4R4zPY8P59or+Ap6TOEy1c73poh1SNC3QfDORTkCqh6yuIE++uuLSOX7xI5NU4d0Mv4o 1kIfVGDgEUPvbt8EnOSICTAiHvWYVQ== X-Google-Smtp-Source: AGHT+IHPUe0qiQ/YIUGiqX1KV0NN6ureQSPAaSSwpsn4hJoGIpLtv8Rtha5Egl6Ye6S6xazHjEjHw81pKbQt X-Received: by 2002:a05:690c:4903:b0:6fb:a222:6bff with SMTP id 00721157ae682-6fbb78f80bfmr16999867b3.4.1740033344254; Wed, 19 Feb 2025 22:35:44 -0800 (PST) Received: from postal.iol.unh.edu (postal.iol.unh.edu. [132.177.123.84]) by smtp-relay.gmail.com with ESMTPS id 00721157ae682-6fb35d4fcbesm4418777b3.19.2025.02.19.22.35.44 (version=TLS1_2 cipher=ECDHE-ECDSA-AES128-GCM-SHA256 bits=128/128); Wed, 19 Feb 2025 22:35:44 -0800 (PST) X-Relaying-Domain: iol.unh.edu Date: Wed, 19 Feb 2025 22:35:44 -0800 (PST) Message-ID: <67b6cd40.050a0220.dbdc6.618eSMTPIN_ADDED_MISSING@mx.google.com> Received: from [172.21.0.8] (unknown [172.18.0.240]) by postal.iol.unh.edu (Postfix) with ESMTP id EF5946052471; Thu, 20 Feb 2025 01:35:43 -0500 (EST) Subject: |SUCCESS| pw151656 [PATCH] dts: grab linter return value From: dpdklab@iol.unh.edu To: Test Report Cc: dpdk-test-reports@iol.unh.edu In-Reply-To: <20250218230746.1281585-1-luca.vizzarro@arm.com> References: <20250218230746.1281585-1-luca.vizzarro@arm.com> Content-Type: text/plain X-BeenThere: test-report@dpdk.org X-Mailman-Version: 2.1.29 Precedence: list List-Id: automatic DPDK test reports List-Unsubscribe: , List-Archive: List-Post: List-Help: List-Subscribe: , Errors-To: test-report-bounces@dpdk.org Test-Label: iol-unit-amd64-testing Test-Status: SUCCESS http://dpdk.org/patch/151656 _Testing PASS_ Submitter: Luca Vizzarro Date: Tuesday, February 18 2025 23:07:46 DPDK git baseline: Repo:dpdk Branch: master CommitID:e8c317d6041c25dd8ec572017fed2362a1bf5c8a 151656 --> testing pass Upstream job id: Generic-Unit-Test-DPDK#316383 Test environment and result as below: +---------------------+----------------+ | Environment | dpdk_unit_test | +=====================+================+ | CentOS Stream 10 | PASS | +---------------------+----------------+ | CentOS Stream 9 | PASS | +---------------------+----------------+ | Debian 12 | PASS | +---------------------+----------------+ | Fedora 40 (Clang) | PASS | +---------------------+----------------+ | Fedora 40 | PASS | +---------------------+----------------+ | Fedora 41 | PASS | +---------------------+----------------+ | Debian Bullseye | PASS | +---------------------+----------------+ | Ubuntu 22.04 | PASS | +---------------------+----------------+ | Ubuntu 20.04 | PASS | +---------------------+----------------+ | RHEL8 | PASS | +---------------------+----------------+ | Fedora 41 (Clang) | PASS | +---------------------+----------------+ | Ubuntu 24.04 | PASS | +---------------------+----------------+ | RHEL9 | PASS | +---------------------+----------------+ | Windows Server 2022 | PASS | +---------------------+----------------+ CentOS Stream 10 Kernel: Depends on container host Compiler: gcc 14.2.1 20241104 (Red Hat 14.2.1-6) CentOS Stream 9 Kernel: Depends on container host Compiler: gcc 11.5.0 20240719 (Red Hat 11.5.0-2) Debian 12 Kernel: Depends on container host Compiler: gcc (Debian 12.2.0-14) 12.2.0 Fedora 40 (Clang) Kernel: Depends on container host Compiler: clang 18.1.8 (Fedora 18.1.8-1.fc40) Fedora 40 Kernel: Depends on container host Compiler: gcc 14.2.1 20240912 (Red Hat 14.2.1-3) Fedora 41 Kernel: Depends on container host Compiler: gcc 14.2.1 20240912 (Red Hat 14.2.1-3) Debian Bullseye Kernel: Depends on container host Compiler: gcc (Debian 10.2.1-6) 10.2.1 20210110 Ubuntu 22.04 Kernel: Depends on container host Compiler: gcc (Ubuntu 11.4.0-1ubuntu1~22.04) 11.4.0 Ubuntu 20.04 Kernel: Depends on container host Compiler: gcc (Ubuntu 9.4.0-1ubuntu1~20.04.2) 9.4.0 RHEL8 Kernel: Depends on container host Compiler: gcc 8.5.0 20210514 (Red Hat 8.5.0-22) Fedora 41 (Clang) Kernel: Depends on container host Compiler: clang 19.1.5 (Fedora 19.1.5-1.fc41) Ubuntu 24.04 Kernel: Depends on container host Compiler: gcc (Ubuntu 13.3.0-6ubuntu2~24.04) 13.3.0 RHEL9 Kernel: Depends on container host Compiler: gcc 11.5.0 20240719 (Red Hat 11.5.0-2) Windows Server 2022 Kernel: 10.0.20348.2031 Compiler: clang 15.0.7, gcc 14.1.0 (MinGW), and MSVC VS 19.39.33521 To view detailed results, visit: https://lab.dpdk.org/results/dashboard/patchsets/32614/ UNH-IOL DPDK Community Lab To manage your email subscriptions, visit: https://lab.dpdk.org/results/dashboard/preferences/subscriptions/