From mboxrd@z Thu Jan 1 00:00:00 1970 Return-Path: Received: from mails.dpdk.org (mails.dpdk.org [217.70.189.124]) by inbox.dpdk.org (Postfix) with ESMTP id 3A67446273 for ; Thu, 20 Feb 2025 08:06:40 +0100 (CET) Received: from mails.dpdk.org (localhost [127.0.0.1]) by mails.dpdk.org (Postfix) with ESMTP id 312B84014F; Thu, 20 Feb 2025 08:06:40 +0100 (CET) Received: from mail-pl1-f228.google.com (mail-pl1-f228.google.com [209.85.214.228]) by mails.dpdk.org (Postfix) with ESMTP id CE39A40041 for ; Thu, 20 Feb 2025 08:06:38 +0100 (CET) Received: by mail-pl1-f228.google.com with SMTP id d9443c01a7336-220c8f38febso10394645ad.2 for ; Wed, 19 Feb 2025 23:06:38 -0800 (PST) DKIM-Signature: v=1; a=rsa-sha256; c=relaxed/relaxed; d=iol.unh.edu; s=unh-iol; t=1740035198; x=1740639998; darn=dpdk.org; h=references:in-reply-to:cc:to:from:subject:message-id:date:from:to :cc:subject:date:message-id:reply-to; bh=RdOBu2naK6/lplZfq9hnbXjelvmLCMQtvbtgM5UJEvk=; b=Hvcki1unBRrK4m11rhg9Ew6darN+rJnbHsM/buFox0hoVaHVevl+Y4wqhu2gDJ/SZz qwd46FkU10jUX8rZNu0ez78g7wNjO7lK7yl01BbalIW5AUQTRNRjzd4fV9efijlZFHTG RgD3hMjr/IlWqubkrXFq3d880BYB44X/7s1uI= X-Google-DKIM-Signature: v=1; a=rsa-sha256; c=relaxed/relaxed; d=1e100.net; s=20230601; t=1740035198; x=1740639998; h=references:in-reply-to:cc:to:from:subject:message-id:date :x-gm-message-state:from:to:cc:subject:date:message-id:reply-to; bh=RdOBu2naK6/lplZfq9hnbXjelvmLCMQtvbtgM5UJEvk=; b=AW2T9HLK7l6zQGwBZZQ81tEb72M3w90v92WnQfSfD+x1VvFejaopfWaFAFiPBCCjo5 Y5/im67tbt+pmJfPSqk0VBGoSCOG/lTnn8zO/AnL+WjJLoFy+VIz9AxLRV7zwOlJ4DtJ qQOGqahSAm26vFaaMHk5nzE7yMO6b+YldETqL0ldBrOSjyjWfb5bmdI/WjQ7wiqQy59W JFDmzw5hN/iVvSrf/eHJDLkXE3LacFgsOABjJC6TrB31PvnFKykXZHB5+qmQIZURZmZd j23MrW4oWSeb4ro+NLHVuxqbtsOSI1eO/BAkrHLCDlkrlEfnJLYP5VCv0DQ191kO8Tas rGpQ== X-Gm-Message-State: AOJu0YyFyoxGptJJkw54rgrKdKoxcYrYB9jjBohexrv6BOtciUCKP2IX U2nJCDlEzYUAZWX5zJ4WsHgXVNlxvYJwBKZ4aFlgn2AXy3DrpVVTB/C6jnjYUtkwS03XTkonSgm BKciIN2VPm1CNNn4nE8PtLetXAkCEwg4szBj87b3C X-Gm-Gg: ASbGncsyu6MKh0eG6exkFOzOn/NAxJgw8L8iOrKiEV+b7PXYxOLHlei+pvKdTTPZhNj BaP/4glcWbBGGDOoP65dwmmC8Ta0PYSFIDQTuvfgnmUcESCPrXPlZwLvxv3IIOsBTq8WtvK5uxF A9w1j+dO86r5Uw8iitUXJwZiwJXd2pQk29//PEvcFNr1PnmKTRLIbLgZ9VhOcyv9atBc0JGcicd O9nvfx+KCaFuUiPA9ZGdPau/vNbYvqSJj+aN8nRI1asp/SWkQb7KqskaonVxu2oWCmMO09ihL6J IStNa/IbOwvT/WFv3bD4ZRj65kOrgQ== X-Google-Smtp-Source: AGHT+IE5wE0Hxk/yad2d8XYUCBRKmGxsAmnxMrbd8ZXlljwnFNenBm4ZGR3goQWP4C3e/hEixbh81hoZ3ga3 X-Received: by 2002:a17:903:2f8e:b0:221:2f4:5446 with SMTP id d9443c01a7336-22190639e7cmr22727625ad.25.1740035198107; Wed, 19 Feb 2025 23:06:38 -0800 (PST) Received: from postal.iol.unh.edu (postal.iol.unh.edu. [132.177.123.84]) by smtp-relay.gmail.com with ESMTPS id d9443c01a7336-220d5201dbesm7769175ad.21.2025.02.19.23.06.37 (version=TLS1_2 cipher=ECDHE-ECDSA-AES128-GCM-SHA256 bits=128/128); Wed, 19 Feb 2025 23:06:38 -0800 (PST) X-Relaying-Domain: iol.unh.edu Date: Wed, 19 Feb 2025 23:06:38 -0800 (PST) Message-ID: <67b6d47e.170a0220.26a33e.723cSMTPIN_ADDED_MISSING@mx.google.com> Received: from [172.21.0.5] (unknown [172.18.0.240]) by postal.iol.unh.edu (Postfix) with ESMTP id 54EF26052471; Thu, 20 Feb 2025 02:06:37 -0500 (EST) Subject: |SUCCESS| pw151656 [PATCH] dts: grab linter return value From: dpdklab@iol.unh.edu To: Test Report Cc: dpdk-test-reports@iol.unh.edu In-Reply-To: <20250218230746.1281585-1-luca.vizzarro@arm.com> References: <20250218230746.1281585-1-luca.vizzarro@arm.com> Content-Type: text/plain X-BeenThere: test-report@dpdk.org X-Mailman-Version: 2.1.29 Precedence: list List-Id: automatic DPDK test reports List-Unsubscribe: , List-Archive: List-Post: List-Help: List-Subscribe: , Errors-To: test-report-bounces@dpdk.org Test-Label: iol-sample-apps-testing Test-Status: SUCCESS http://dpdk.org/patch/151656 _Testing PASS_ Submitter: Luca Vizzarro Date: Tuesday, February 18 2025 23:07:46 DPDK git baseline: Repo:dpdk Branch: master CommitID:e8c317d6041c25dd8ec572017fed2362a1bf5c8a 151656 --> testing pass Upstream job id: ACVP-FIPS-testing#8966 Test environment and result as below: +--------------------+----------------------+----------------------+ | Environment | compressdev_zlib_pmd | dpdk_fips_validation | +====================+======================+======================+ | Ubuntu 22.04 (ARM) | PASS | SKIPPED | +--------------------+----------------------+----------------------+ | Ubuntu 22.04 | PASS | SKIPPED | +--------------------+----------------------+----------------------+ | Ubuntu 20.04 | SKIPPED | PASS | +--------------------+----------------------+----------------------+ Ubuntu 22.04 (ARM) Kernel: 5.15.0-97-generic Compiler: gcc gcc (Ubuntu 11.4.0-1ubuntu1~22.04) 11.4.0 Ubuntu 22.04 Kernel: 5.15.0-100-generic Compiler: gcc gcc (Ubuntu 11.4.0-1ubuntu1~22.04) 11.4.0 Ubuntu 20.04 Kernel: Depends on container host Compiler: gcc (Ubuntu 9.4.0-1ubuntu1~20.04.2) 9.4.0 To view detailed results, visit: https://lab.dpdk.org/results/dashboard/patchsets/32614/ UNH-IOL DPDK Community Lab To manage your email subscriptions, visit: https://lab.dpdk.org/results/dashboard/preferences/subscriptions/