From mboxrd@z Thu Jan 1 00:00:00 1970 Return-Path: Received: from mails.dpdk.org (mails.dpdk.org [217.70.189.124]) by inbox.dpdk.org (Postfix) with ESMTP id 25DA546273 for ; Thu, 20 Feb 2025 08:18:08 +0100 (CET) Received: from mails.dpdk.org (localhost [127.0.0.1]) by mails.dpdk.org (Postfix) with ESMTP id 1BA8C4014F; Thu, 20 Feb 2025 08:18:08 +0100 (CET) Received: from mail-pl1-f227.google.com (mail-pl1-f227.google.com [209.85.214.227]) by mails.dpdk.org (Postfix) with ESMTP id A042440041 for ; Thu, 20 Feb 2025 08:18:07 +0100 (CET) Received: by mail-pl1-f227.google.com with SMTP id d9443c01a7336-22104c4de96so8423415ad.3 for ; Wed, 19 Feb 2025 23:18:07 -0800 (PST) DKIM-Signature: v=1; a=rsa-sha256; c=relaxed/relaxed; d=iol.unh.edu; s=unh-iol; t=1740035887; x=1740640687; darn=dpdk.org; h=references:in-reply-to:cc:to:from:subject:message-id:date:from:to :cc:subject:date:message-id:reply-to; bh=Q4VaU3PhHcSkIHxegAEO6AHgqZw0q/IBH4l9nkO9mYc=; b=bpuqVnaukYbsJklZ+ftiC7lplUdWWqE6bNx4fGCiePrhxp1JXEUdeDVM+YrESAnsLd fk9zVYJclPWOA30fjnqT7aNDSVygE0HpyYrcB9CmC9q3LNzQrSEe9/+m0rFzQO2trVn3 P3SdUgInaWRjDMfFWPW9l7dGPYkt66fHjCdHI= X-Google-DKIM-Signature: v=1; a=rsa-sha256; c=relaxed/relaxed; d=1e100.net; s=20230601; t=1740035887; x=1740640687; h=references:in-reply-to:cc:to:from:subject:message-id:date :x-gm-message-state:from:to:cc:subject:date:message-id:reply-to; bh=Q4VaU3PhHcSkIHxegAEO6AHgqZw0q/IBH4l9nkO9mYc=; b=KZ0n6hFyOmbsU4hlhMi2/tHD7BwEUl42sKvAXBHpPihmAAe2l3GhtNYtBGDQIfCxUM e7otikyQrO/4daqvZkuZu0mEDT7N+9kyYmlG/i6BE9Q6IDbwsUE/iEnXPvAmEn5R53O5 +eqTcc5ndz+Y1QOWgCszl9rnFJAWB0YWrAJbzPkw5DQwywi53C9shIV6Ye472Z1t5+Oh G0zg/Pe/a3yY+koTAOQpHn+nMCNTZi6YPk4jQ7nbXYjEGv98NC6ZOh5WLtKNI3Hrdx9L 3iVK/sLmAJ/7leciM/TKMjK2hzaow4nuPOCVvnD30ZhcufRyWVu9kf2mIS9WSvkzEHis 0yCQ== X-Gm-Message-State: AOJu0YyKiL4y9UkE67LoT41+l9CWXpY/tOAyYhl1Sdp0Xo2m+/F8t94M dZ+xvH9t7mwu5VjJF8HDZCnVSsms/uMim06ZysZmoVEhDgDh7p3U0JvFE+5ur05e8KIbJ6yv98T scR5o38N7OarOIVRpiSSCK030f5MVZpidkM8+EllJo6ZypeOApUPNhSSs X-Gm-Gg: ASbGncs/LmO6+HC+KmhgLvNEznCC7SwhqEkBhSYQXHlwdkZXHXybhP4sN8LF3nBEvaK 0cV/VsSMrdbBtBHNaIQv6C4UYBETskNNeNf7vs79W1tsmOUnX9jsBFR3hA+OhLwqHVu6X8tuiII N03g9BvP2Jle1fAHs8AlPZkn+Mt9Otct8vz/2d+9oK2+av8VfAoSF/h5AexIV003BS6Q8w1xeFG XBODwowtGxi+bSsJv7N0m+BajCXTCOEy8OTwDZ/CYg83ZWLfHg3Icxt0V7ksiGN+mKSGDe5CyxK hrp/0Az2iHkmsMfGrFVjfLuoUEsaiFwmHHN2Pam7Zg== X-Google-Smtp-Source: AGHT+IGBrjY6fhgnQ9XsDuppPFxgYpuXbwkdT3RDWnKVZJ7mZJ372ipFt+CWVJmHnjbkzlWRZh4WBTCgqO4o X-Received: by 2002:a17:903:8c5:b0:220:c63b:d945 with SMTP id d9443c01a7336-22104030d60mr339357105ad.14.1740035886935; Wed, 19 Feb 2025 23:18:06 -0800 (PST) Received: from postal.iol.unh.edu (postal.iol.unh.edu. [2606:4100:3880:1234::84]) by smtp-relay.gmail.com with ESMTPS id d9443c01a7336-220d5201ce8sm7277265ad.18.2025.02.19.23.18.06 (version=TLS1_2 cipher=ECDHE-ECDSA-AES128-GCM-SHA256 bits=128/128); Wed, 19 Feb 2025 23:18:06 -0800 (PST) X-Relaying-Domain: iol.unh.edu Date: Wed, 19 Feb 2025 23:18:06 -0800 (PST) Message-ID: <67b6d72e.170a0220.69fd5.3ae2SMTPIN_ADDED_MISSING@mx.google.com> Received: from [172.21.0.5] (unknown [172.18.0.240]) by postal.iol.unh.edu (Postfix) with ESMTP id 1CC406052471; Thu, 20 Feb 2025 02:18:06 -0500 (EST) Subject: |SUCCESS| pw151656 [PATCH] dts: grab linter return value From: dpdklab@iol.unh.edu To: Test Report Cc: dpdk-test-reports@iol.unh.edu In-Reply-To: <20250218230746.1281585-1-luca.vizzarro@arm.com> References: <20250218230746.1281585-1-luca.vizzarro@arm.com> Content-Type: text/plain X-BeenThere: test-report@dpdk.org X-Mailman-Version: 2.1.29 Precedence: list List-Id: automatic DPDK test reports List-Unsubscribe: , List-Archive: List-Post: List-Help: List-Subscribe: , Errors-To: test-report-bounces@dpdk.org Test-Label: iol-unit-arm64-testing Test-Status: SUCCESS http://dpdk.org/patch/151656 _Testing PASS_ Submitter: Luca Vizzarro Date: Tuesday, February 18 2025 23:07:46 DPDK git baseline: Repo:dpdk Branch: master CommitID:e8c317d6041c25dd8ec572017fed2362a1bf5c8a 151656 --> testing pass Upstream job id: Generic-Unit-Test-DPDK#316384 Test environment and result as below: +-----------------------------+----------------+--------------+------------------------------+---------------------------+ | Environment | dpdk_unit_test | lpm_autotest | cryptodev_sw_snow3g_autotest | cryptodev_sw_zuc_autotest | +=============================+================+==============+==============================+===========================+ | 32-bit Ubuntu 22.04.4 (ARM) | PASS | SKIPPED | SKIPPED | SKIPPED | +-----------------------------+----------------+--------------+------------------------------+---------------------------+ | CentOS Stream 9 (ARM) | PASS | SKIPPED | SKIPPED | SKIPPED | +-----------------------------+----------------+--------------+------------------------------+---------------------------+ | CentOS Stream 10 (ARM) | PASS | SKIPPED | SKIPPED | SKIPPED | +-----------------------------+----------------+--------------+------------------------------+---------------------------+ | Fedora 40 (ARM) | PASS | SKIPPED | SKIPPED | SKIPPED | +-----------------------------+----------------+--------------+------------------------------+---------------------------+ | Debian 11 (Buster) (ARM) | PASS | SKIPPED | SKIPPED | SKIPPED | +-----------------------------+----------------+--------------+------------------------------+---------------------------+ | Fedora 41 (ARM) | PASS | SKIPPED | SKIPPED | SKIPPED | +-----------------------------+----------------+--------------+------------------------------+---------------------------+ | Fedora 40 (ARM Clang) | PASS | SKIPPED | SKIPPED | SKIPPED | +-----------------------------+----------------+--------------+------------------------------+---------------------------+ | Debian 12 (arm) | PASS | SKIPPED | PASS | PASS | +-----------------------------+----------------+--------------+------------------------------+---------------------------+ | Ubuntu 22.04 (ARM) | PASS | SKIPPED | SKIPPED | SKIPPED | +-----------------------------+----------------+--------------+------------------------------+---------------------------+ | Ubuntu 20.04 (ARM) | PASS | SKIPPED | SKIPPED | SKIPPED | +-----------------------------+----------------+--------------+------------------------------+---------------------------+ | Fedora 41 (ARM Clang) | PASS | SKIPPED | SKIPPED | SKIPPED | +-----------------------------+----------------+--------------+------------------------------+---------------------------+ | Ubuntu 24.04 (ARM) | PASS | SKIPPED | SKIPPED | SKIPPED | +-----------------------------+----------------+--------------+------------------------------+---------------------------+ | RHEL9 (ARM) | PASS | SKIPPED | SKIPPED | SKIPPED | +-----------------------------+----------------+--------------+------------------------------+---------------------------+ | Ubuntu 20.04 ARM SVE | SKIPPED | PASS | SKIPPED | SKIPPED | +-----------------------------+----------------+--------------+------------------------------+---------------------------+ 32-bit Ubuntu 22.04.4 (ARM) Kernel: 5.15.83+ aarch64 Compiler: gcc (Ubuntu 11.4.0-1ubuntu1~22.04) 11.4.0 CentOS Stream 9 (ARM) Kernel: Depends on container host Compiler: gcc 11.5.0 20240719 (Red Hat 11.5.0-2) CentOS Stream 10 (ARM) Kernel: Depends on container host Compiler: gcc 14.2.1 20241104 (Red Hat 14.2.1-6) Fedora 40 (ARM) Kernel: Depends on container host Compiler: gcc 14.2.1 20240912 (Red Hat 14.2.1-3) Debian 11 (Buster) (ARM) Kernel: Depends on container host Compiler: gcc (Debian 10.2.1-6) 10.2.1 20210110 Fedora 41 (ARM) Kernel: Depends on container host Compiler: gcc 14.2.1 20240912 (Red Hat 14.2.1-3) Fedora 40 (ARM Clang) Kernel: Depends on container host Compiler: clang 18.1.8 (Fedora 18.1.8-1.fc40) Debian 12 (arm) Kernel: Depends on container host Compiler: gcc (Debian 12.2.0-14) 12.2.0 Ubuntu 22.04 (ARM) Kernel: Depends on container host Compiler: gcc (Ubuntu 11.4.0-1ubuntu1~22.04) 11.4.0 Ubuntu 20.04 (ARM) Kernel: Depends on container host Compiler: gcc (Ubuntu 9.4.0-1ubuntu1~20.04.2) 9.4.0 Fedora 41 (ARM Clang) Kernel: Depends on container host Compiler: clang 19.1.5 (Fedora 19.1.5-1.fc41) Ubuntu 24.04 (ARM) Kernel: Depends on container host Compiler: gcc (Ubuntu 13.3.0-6ubuntu2~24.04) 13.3.0 RHEL9 (ARM) Kernel: Depends on container host Compiler: gcc 11.5.0 20240719 (Red Hat 11.5.0-2) Ubuntu 20.04 ARM SVE Kernel: Depends on container host Compiler: gcc (Ubuntu 10.5.0-1ubuntu1~20.04) 10.5.0 To view detailed results, visit: https://lab.dpdk.org/results/dashboard/patchsets/32614/ UNH-IOL DPDK Community Lab To manage your email subscriptions, visit: https://lab.dpdk.org/results/dashboard/preferences/subscriptions/