From mboxrd@z Thu Jan 1 00:00:00 1970 Return-Path: Received: from mails.dpdk.org (mails.dpdk.org [217.70.189.124]) by inbox.dpdk.org (Postfix) with ESMTP id A70BB46273 for ; Thu, 20 Feb 2025 09:28:19 +0100 (CET) Received: from mails.dpdk.org (localhost [127.0.0.1]) by mails.dpdk.org (Postfix) with ESMTP id 987BC40263; Thu, 20 Feb 2025 09:28:19 +0100 (CET) Received: from mail-il1-f225.google.com (mail-il1-f225.google.com [209.85.166.225]) by mails.dpdk.org (Postfix) with ESMTP id 42D2E4014F for ; Thu, 20 Feb 2025 09:28:18 +0100 (CET) Received: by mail-il1-f225.google.com with SMTP id e9e14a558f8ab-3ce87d31480so2022925ab.2 for ; Thu, 20 Feb 2025 00:28:18 -0800 (PST) DKIM-Signature: v=1; a=rsa-sha256; c=relaxed/relaxed; d=iol.unh.edu; s=unh-iol; t=1740040097; x=1740644897; darn=dpdk.org; h=cc:to:from:subject:message-id:date:from:to:cc:subject:date :message-id:reply-to; bh=x+VkdDoUBgfbC5nheJbIk7+RhmGRjq7u67zWFaJT3GQ=; b=fLI1rABNue+EAR8S23117qrNYm1W1lVfQ5ObgEKeZDsh7bxDP9AA5BWILjA//jNGt2 LR2hAoOmDbdBCpTjuSnVNVpEJOg08/TDWCFwu4d8fxjQqs4aQXVjvfIfFz4mk4oOQ2Vb ofBH4UMDyao4fRDWaLMoXwr1TFstt7QzNUatE= X-Google-DKIM-Signature: v=1; a=rsa-sha256; c=relaxed/relaxed; d=1e100.net; s=20230601; t=1740040097; x=1740644897; h=cc:to:from:subject:message-id:date:x-gm-message-state:from:to:cc :subject:date:message-id:reply-to; bh=x+VkdDoUBgfbC5nheJbIk7+RhmGRjq7u67zWFaJT3GQ=; b=KaBYPS7uM7bpN8SIWEbf6hhxvqBAAscbeOE59OYSpUuRp6UjB8RPhN60CSqTcTbz/v n10oRBIrw9m7sjhGNTahfHJAkm4rsa2joHEf4nV5u6sMz/xnmxoWXm88gtKJBoGxQT9o 43w2Mi8Pb7GAMdfkPbYKDDhgNeqf0QeqASxwUlakXkrLUuIS93r6epORopDZuyZFIBxD O3z4am2ZdFPGZpxmou22YtcOKJCiuvJw7i4oMbhVUQNsCsQJyjK32uTMzsxFd4dOiCv5 ej60pKguVT8gGmiTJMStZX2B16LXdaflHP20boaPGtBePBYVibnOfpG1yZ5DR3RiQU3W 9MFg== X-Gm-Message-State: AOJu0YyTlGQ/vwF2eaO7I/VqR6x65bi9j9HMxmioN405HrtHHkyPBqtZ 0t6eQEhPdZ8OhG/ar121nNetH/ikeLSAm/gTdfS6reN3RDs2BreevUQbPiigVmPXPUH+WmyrdnR IsdZCmTfdFrrxUUZr43dMUBfbJc2U3REj1OsDYutuQCuO9X9c X-Gm-Gg: ASbGncsWbwVr6JoznJtsiH2ZpJEwuO1edBnWm8AupjFIh5QcU9ImsrzlaUJEe6BotTy 6iJ00HQeQpWpTTLFojmI63cl9ldkYzF+nnlwqG4XKoeBqZcqsfkZ8zUaOGUQQ1OdvasGUhJJ5ma +VJOb03PFm8RI6QyXbB/nUY6d9svVAjzLArS7GNPqnqdNyTcus1zSQMHNIpSo/n6ExdNZjYCo75 uQleJmE21dqcO68ZP2HkxiX47Ymy888GaMHWunFwVf00t34T5pgwd6XqrO1IhZyeNifEkd7L+U0 Wcmp1L86L5schg6++oIotSoYW8xoOklr+qgFtv6MWA== X-Google-Smtp-Source: AGHT+IGbrlH8JnlfV18NuKF9IvbQMYYpTO4doodNefmFxfgGMRDy3EMbQqckhe4Z3P6zFdFVgDDInfcvuEax X-Received: by 2002:a05:6e02:1a4d:b0:3d1:a34b:4d01 with SMTP id e9e14a558f8ab-3d28078f2e5mr207668315ab.8.1740040096460; Thu, 20 Feb 2025 00:28:16 -0800 (PST) Received: from postal.iol.unh.edu (postal.iol.unh.edu. [2606:4100:3880:1234::84]) by smtp-relay.gmail.com with ESMTPS id 8926c6da1cb9f-4eea1e60842sm446867173.62.2025.02.20.00.28.16 (version=TLS1_2 cipher=ECDHE-ECDSA-AES128-GCM-SHA256 bits=128/128); Thu, 20 Feb 2025 00:28:16 -0800 (PST) X-Relaying-Domain: iol.unh.edu Date: Thu, 20 Feb 2025 00:28:16 -0800 (PST) Message-ID: <67b6e7a0.050a0220.1e0d6c.4e5aSMTPIN_ADDED_MISSING@mx.google.com> Received: from [172.21.0.6] (unknown [172.18.0.240]) by postal.iol.unh.edu (Postfix) with ESMTP id F1DC26052471; Thu, 20 Feb 2025 03:28:15 -0500 (EST) Subject: |SUCCESS| [GIT MASTER] c66daa12e76d7b4912cfb7109a761856a7a873ab From: dpdklab@iol.unh.edu To: Test Report Cc: dpdk-test-reports@iol.unh.edu, Xueming Li , Christian Ehrhardt , Kevin Traynor , Luca Boccassi Content-Type: text/plain X-BeenThere: test-report@dpdk.org X-Mailman-Version: 2.1.29 Precedence: list List-Id: automatic DPDK test reports List-Unsubscribe: , List-Archive: List-Post: List-Help: List-Subscribe: , Errors-To: test-report-bounces@dpdk.org _Testing PASS_ Branch: tags/v23.11 c66daa12e76d7b4912cfb7109a761856a7a873ab --> testing pass Upstream job id: Generic-Unit-Test-DPDK#316411 Test environment and result as below: +-----------------------------+----------------+------------------------------+---------------------------+--------------+ | Environment | dpdk_unit_test | cryptodev_sw_snow3g_autotest | cryptodev_sw_zuc_autotest | lpm_autotest | +=============================+================+==============================+===========================+==============+ | CentOS Stream 9 (ARM) | PASS | SKIPPED | SKIPPED | SKIPPED | +-----------------------------+----------------+------------------------------+---------------------------+--------------+ | Debian 11 (Buster) (ARM) | PASS | SKIPPED | SKIPPED | SKIPPED | +-----------------------------+----------------+------------------------------+---------------------------+--------------+ | CentOS Stream 10 (ARM) | PASS | SKIPPED | SKIPPED | SKIPPED | +-----------------------------+----------------+------------------------------+---------------------------+--------------+ | Debian 12 (arm) | PASS | PASS | PASS | SKIPPED | +-----------------------------+----------------+------------------------------+---------------------------+--------------+ | Fedora 41 (ARM) | PASS | SKIPPED | SKIPPED | SKIPPED | +-----------------------------+----------------+------------------------------+---------------------------+--------------+ | Fedora 40 (ARM) | PASS | SKIPPED | SKIPPED | SKIPPED | +-----------------------------+----------------+------------------------------+---------------------------+--------------+ | Fedora 40 (ARM Clang) | PASS | SKIPPED | SKIPPED | SKIPPED | +-----------------------------+----------------+------------------------------+---------------------------+--------------+ | RHEL9 (ARM) | PASS | SKIPPED | SKIPPED | SKIPPED | +-----------------------------+----------------+------------------------------+---------------------------+--------------+ | Fedora 41 (ARM Clang) | PASS | SKIPPED | SKIPPED | SKIPPED | +-----------------------------+----------------+------------------------------+---------------------------+--------------+ | Ubuntu 20.04 (ARM) | PASS | SKIPPED | SKIPPED | SKIPPED | +-----------------------------+----------------+------------------------------+---------------------------+--------------+ | Ubuntu 22.04 (ARM) | PASS | SKIPPED | SKIPPED | SKIPPED | +-----------------------------+----------------+------------------------------+---------------------------+--------------+ | Ubuntu 24.04 (ARM) | PASS | SKIPPED | SKIPPED | SKIPPED | +-----------------------------+----------------+------------------------------+---------------------------+--------------+ | 32-bit Ubuntu 22.04.4 (ARM) | PASS | SKIPPED | SKIPPED | SKIPPED | +-----------------------------+----------------+------------------------------+---------------------------+--------------+ | Ubuntu 20.04 ARM SVE | SKIPPED | SKIPPED | SKIPPED | PASS | +-----------------------------+----------------+------------------------------+---------------------------+--------------+ CentOS Stream 9 (ARM) Kernel: Depends on container host Compiler: gcc 11.5.0 20240719 (Red Hat 11.5.0-2) Debian 11 (Buster) (ARM) Kernel: Depends on container host Compiler: gcc (Debian 10.2.1-6) 10.2.1 20210110 CentOS Stream 10 (ARM) Kernel: Depends on container host Compiler: gcc 14.2.1 20241104 (Red Hat 14.2.1-6) Debian 12 (arm) Kernel: Depends on container host Compiler: gcc (Debian 12.2.0-14) 12.2.0 Fedora 41 (ARM) Kernel: Depends on container host Compiler: gcc 14.2.1 20240912 (Red Hat 14.2.1-3) Fedora 40 (ARM) Kernel: Depends on container host Compiler: gcc 14.2.1 20240912 (Red Hat 14.2.1-3) Fedora 40 (ARM Clang) Kernel: Depends on container host Compiler: clang 18.1.8 (Fedora 18.1.8-1.fc40) RHEL9 (ARM) Kernel: Depends on container host Compiler: gcc 11.5.0 20240719 (Red Hat 11.5.0-2) Fedora 41 (ARM Clang) Kernel: Depends on container host Compiler: clang 19.1.5 (Fedora 19.1.5-1.fc41) Ubuntu 20.04 (ARM) Kernel: Depends on container host Compiler: gcc (Ubuntu 9.4.0-1ubuntu1~20.04.2) 9.4.0 Ubuntu 22.04 (ARM) Kernel: Depends on container host Compiler: gcc (Ubuntu 11.4.0-1ubuntu1~22.04) 11.4.0 Ubuntu 24.04 (ARM) Kernel: Depends on container host Compiler: gcc (Ubuntu 13.3.0-6ubuntu2~24.04) 13.3.0 32-bit Ubuntu 22.04.4 (ARM) Kernel: 5.15.83+ aarch64 Compiler: gcc (Ubuntu 11.4.0-1ubuntu1~22.04) 11.4.0 Ubuntu 20.04 ARM SVE Kernel: Depends on container host Compiler: gcc (Ubuntu 10.5.0-1ubuntu1~20.04) 10.5.0 To view detailed results, visit: https://lab.dpdk.org/results/dashboard/tarballs/32630/ UNH-IOL DPDK Community Lab To manage your email subscriptions, visit: https://lab.dpdk.org/results/dashboard/preferences/subscriptions/