From mboxrd@z Thu Jan 1 00:00:00 1970 Return-Path: Received: from mails.dpdk.org (mails.dpdk.org [217.70.189.124]) by inbox.dpdk.org (Postfix) with ESMTP id BC8F846273 for ; Thu, 20 Feb 2025 09:28:44 +0100 (CET) Received: from mails.dpdk.org (localhost [127.0.0.1]) by mails.dpdk.org (Postfix) with ESMTP id B877C4026D; Thu, 20 Feb 2025 09:28:44 +0100 (CET) Received: from mail-il1-f228.google.com (mail-il1-f228.google.com [209.85.166.228]) by mails.dpdk.org (Postfix) with ESMTP id 7FFA54014F for ; Thu, 20 Feb 2025 09:28:43 +0100 (CET) Received: by mail-il1-f228.google.com with SMTP id e9e14a558f8ab-3d2b15760adso2195685ab.1 for ; Thu, 20 Feb 2025 00:28:43 -0800 (PST) DKIM-Signature: v=1; a=rsa-sha256; c=relaxed/relaxed; d=iol.unh.edu; s=unh-iol; t=1740040123; x=1740644923; darn=dpdk.org; h=references:in-reply-to:cc:to:from:subject:message-id:date:from:to :cc:subject:date:message-id:reply-to; bh=WXb9iw7O5wWPM2KCv3V3LzB4kXIp2p5GBuYcEew3jwU=; b=K5D8+BjUXtcU8Bcp0cuyy/rhFf1ZpzNoNLtVFEdfZSOyA9qHMM+CeA/75NKrqD1WwK rz+L2ZiIZG98mbHofY6DjLoEQcjOuIxq8rWY5R7KDwnkyCs67phEIHHgeHO6SAhMBH9n xRg/bh3F0aNZe5bQIAVwbrqlDee3Xu4woIF9k= X-Google-DKIM-Signature: v=1; a=rsa-sha256; c=relaxed/relaxed; d=1e100.net; s=20230601; t=1740040123; x=1740644923; h=references:in-reply-to:cc:to:from:subject:message-id:date :x-gm-message-state:from:to:cc:subject:date:message-id:reply-to; bh=WXb9iw7O5wWPM2KCv3V3LzB4kXIp2p5GBuYcEew3jwU=; b=WkxUnrgprnp+qDQrdASnU6pgLWu8nTUk6EUKLluJ4rHACaFtD7dFjm4c4XOWT2y0J4 ZMMr7TAnhoPodgaU1pL8+WegtzvmnlTuzL3/wFdGQ50yt4D5gjL8o1+pqHqPe5MBWbIr 3o7cQ/UITdVnHhFq+t9w83+z6BgrNXymkfGRKXQo6fdmr+6Gt0ldinNdNO7kd+2vFk79 DucBt12d9ZTY997uV7QGspSOPCAowipf5ulgKV2JLviMbfbpEbW+I1XEoTn/Jv0rv+1f gtDOZea3Qvid+iEUieBeDW5P3NFvZUTrSEbTs1vDBiRkT+uDUpYAtMlCgC5OTnvu4WMa AhEw== X-Gm-Message-State: AOJu0Yx5zHMfU9jByb66kI1PjlB+DQeOUvkycSV2OgeaPDmMJknRpn4r YNDOA/RxDMD4ERvXA80qTUGhhlrTFy1TrF0Fg3nCAJBGpokdzg+ufOTDMAG8BYKz93ZuVOZFUQz 6Gcw1wcRNH+ZoWSg1eOVnqcCt9ld7Ir1MVgdxIeaJZVn1zKcLe9bXoVMD X-Gm-Gg: ASbGncskMN18x2/9qMlIbO9U0K1WlLsm1/O5ch/jCnSQpo/5OIm9b01xRoxWM4t7juc JKSFC+P/GEuaeR06+vFT1Iry03Ac3H1z/fjNQe9GfM99B3djZvQZXUHM9BRboobzlHQ102v+xfA PUVEfbTZGhoAU0Hu9NxzxJmnGFcNSFZUpaXlakmSdx50rsZnDGFYfpwzLRG0Qu0qfpcX0USuYjR 7LojAXtkI4IKRBLkV4zqaacmMW4wn5sec0qdtnrEe96I8MXAPA+sOCGc31Lp4DkQ9VfcNFluXZ5 cFJTIymqDu1d4D88M6xgKrjgLkBjt/WWpmp9UxVx1Q== X-Google-Smtp-Source: AGHT+IHwZ+JC1lkhhQROMNbnIJvfuwl94AuJowPBx1k/qN52HGtHvgFzvVpK0F089rOfInghw3OFH/+uTsNp X-Received: by 2002:a05:6e02:4614:b0:3d2:af07:c8f with SMTP id e9e14a558f8ab-3d2af070d80mr81954215ab.7.1740040122849; Thu, 20 Feb 2025 00:28:42 -0800 (PST) Received: from postal.iol.unh.edu (postal.iol.unh.edu. [2606:4100:3880:1234::84]) by smtp-relay.gmail.com with ESMTPS id 8926c6da1cb9f-4ee9b7e4a65sm539297173.43.2025.02.20.00.28.42 (version=TLS1_2 cipher=ECDHE-ECDSA-AES128-GCM-SHA256 bits=128/128); Thu, 20 Feb 2025 00:28:42 -0800 (PST) X-Relaying-Domain: iol.unh.edu Date: Thu, 20 Feb 2025 00:28:42 -0800 (PST) Message-ID: <67b6e7ba.050a0220.2896ad.aa91SMTPIN_ADDED_MISSING@mx.google.com> Received: from [172.21.0.6] (unknown [172.18.0.240]) by postal.iol.unh.edu (Postfix) with ESMTP id 7D31C6052471; Thu, 20 Feb 2025 03:28:42 -0500 (EST) Subject: |SUCCESS| pw151656 [PATCH] dts: grab linter return value From: dpdklab@iol.unh.edu To: Test Report Cc: dpdk-test-reports@iol.unh.edu In-Reply-To: <20250218230746.1281585-1-luca.vizzarro@arm.com> References: <20250218230746.1281585-1-luca.vizzarro@arm.com> Content-Type: text/plain X-BeenThere: test-report@dpdk.org X-Mailman-Version: 2.1.29 Precedence: list List-Id: automatic DPDK test reports List-Unsubscribe: , List-Archive: List-Post: List-Help: List-Subscribe: , Errors-To: test-report-bounces@dpdk.org Test-Label: iol-compile-arm64-testing Test-Status: SUCCESS http://dpdk.org/patch/151656 _Testing PASS_ Submitter: Luca Vizzarro Date: Tuesday, February 18 2025 23:07:46 DPDK git baseline: Repo:dpdk Branch: master CommitID:e8c317d6041c25dd8ec572017fed2362a1bf5c8a 151656 --> testing pass Upstream job id: Generic-DPDK-Compile-Meson#363183 Test environment and result as below: +----------------------------------------+--------------------+ | Environment | dpdk_meson_compile | +========================================+====================+ | RHEL9 (ARM) | PASS | +----------------------------------------+--------------------+ | Ubuntu 20.04 ARM GCC Cross Compile | PASS | +----------------------------------------+--------------------+ | Ubuntu 20.04 ARM SVE | PASS | +----------------------------------------+--------------------+ | Fedora 40 (ARM) | PASS | +----------------------------------------+--------------------+ | Debian 12 with MUSDK | PASS | +----------------------------------------+--------------------+ | Fedora 40 (ARM Clang) | PASS | +----------------------------------------+--------------------+ | Fedora 41 (ARM) | PASS | +----------------------------------------+--------------------+ | Fedora 41 (ARM Clang) | PASS | +----------------------------------------+--------------------+ | Ubuntu 20.04 (ARM) | PASS | +----------------------------------------+--------------------+ | Ubuntu 22.04 (ARM) | PASS | +----------------------------------------+--------------------+ | Ubuntu 24.04 (ARM) | PASS | +----------------------------------------+--------------------+ | CentOS Stream 9 (ARM) | PASS | +----------------------------------------+--------------------+ | CentOS Stream 10 (ARM) | PASS | +----------------------------------------+--------------------+ | Ubuntu 20.04 ARM Clang Cross Compile | PASS | +----------------------------------------+--------------------+ | Debian 12 (arm) | PASS | +----------------------------------------+--------------------+ | Ubuntu 20.04 aarch32 GCC Cross Compile | PASS | +----------------------------------------+--------------------+ | Debian 11 (Buster) (ARM) | PASS | +----------------------------------------+--------------------+ RHEL9 (ARM) Kernel: Depends on container host Compiler: gcc 11.5.0 20240719 (Red Hat 11.5.0-2) Ubuntu 20.04 ARM GCC Cross Compile Kernel: Depends on container host Compiler: aarch64-linux-gnu-gcc (Ubuntu 9.4.0-1ubuntu1~20.04.2) 9.4.0 Ubuntu 20.04 ARM SVE Kernel: Depends on container host Compiler: gcc (Ubuntu 10.5.0-1ubuntu1~20.04) 10.5.0 Fedora 40 (ARM) Kernel: Depends on container host Compiler: gcc 14.2.1 20240912 (Red Hat 14.2.1-3) Debian 12 with MUSDK Kernel: Depends on container host Compiler: gcc (Debian 12.2.0-14) 12.2.0 Fedora 40 (ARM Clang) Kernel: Depends on container host Compiler: clang 18.1.8 (Fedora 18.1.8-1.fc40) Fedora 41 (ARM) Kernel: Depends on container host Compiler: gcc 14.2.1 20240912 (Red Hat 14.2.1-3) Fedora 41 (ARM Clang) Kernel: Depends on container host Compiler: clang 19.1.5 (Fedora 19.1.5-1.fc41) Ubuntu 20.04 (ARM) Kernel: Depends on container host Compiler: gcc (Ubuntu 9.4.0-1ubuntu1~20.04.2) 9.4.0 Ubuntu 22.04 (ARM) Kernel: Depends on container host Compiler: gcc (Ubuntu 11.4.0-1ubuntu1~22.04) 11.4.0 Ubuntu 24.04 (ARM) Kernel: Depends on container host Compiler: gcc (Ubuntu 13.3.0-6ubuntu2~24.04) 13.3.0 CentOS Stream 9 (ARM) Kernel: Depends on container host Compiler: gcc 11.5.0 20240719 (Red Hat 11.5.0-2) CentOS Stream 10 (ARM) Kernel: Depends on container host Compiler: gcc 14.2.1 20241104 (Red Hat 14.2.1-6) Ubuntu 20.04 ARM Clang Cross Compile Kernel: Depends on container host Compiler: clang 10.0.0-4ubuntu1 Debian 12 (arm) Kernel: Depends on container host Compiler: gcc (Debian 12.2.0-14) 12.2.0 Ubuntu 20.04 aarch32 GCC Cross Compile Kernel: Depends on container host Compiler: gcc 9.4.0 Debian 11 (Buster) (ARM) Kernel: Depends on container host Compiler: gcc (Debian 10.2.1-6) 10.2.1 20210110 To view detailed results, visit: https://lab.dpdk.org/results/dashboard/patchsets/32614/ UNH-IOL DPDK Community Lab To manage your email subscriptions, visit: https://lab.dpdk.org/results/dashboard/preferences/subscriptions/