From mboxrd@z Thu Jan 1 00:00:00 1970 Return-Path: Received: from mails.dpdk.org (mails.dpdk.org [217.70.189.124]) by inbox.dpdk.org (Postfix) with ESMTP id 7713146273 for ; Thu, 20 Feb 2025 09:32:58 +0100 (CET) Received: from mails.dpdk.org (localhost [127.0.0.1]) by mails.dpdk.org (Postfix) with ESMTP id 6B40F40263; Thu, 20 Feb 2025 09:32:58 +0100 (CET) Received: from mail-il1-f226.google.com (mail-il1-f226.google.com [209.85.166.226]) by mails.dpdk.org (Postfix) with ESMTP id BD1534014F for ; Thu, 20 Feb 2025 09:32:56 +0100 (CET) Received: by mail-il1-f226.google.com with SMTP id e9e14a558f8ab-3d1987cce10so4981145ab.3 for ; Thu, 20 Feb 2025 00:32:56 -0800 (PST) DKIM-Signature: v=1; a=rsa-sha256; c=relaxed/relaxed; d=iol.unh.edu; s=unh-iol; t=1740040376; x=1740645176; darn=dpdk.org; h=cc:to:from:subject:message-id:date:from:to:cc:subject:date :message-id:reply-to; bh=L+YljyM6Uyy3o3gCbif+c+7vl1Yi61XS/9LIy8BfOFI=; b=Q7cmQK9LmZYdEVSHL6WZZ+Po00+k7KeNuBAnS61yWixNclB17/nKuNmgOMGXo0u79y dxdFpOuGUMlj/V1+DNifom57weZHWsvGYxKaXmg1SAVnv7Feux2vMmyne696GkuWFIs8 NzI444+OcoE67qlc7LrFN3qil2XYT/7EOfr8s= X-Google-DKIM-Signature: v=1; a=rsa-sha256; c=relaxed/relaxed; d=1e100.net; s=20230601; t=1740040376; x=1740645176; h=cc:to:from:subject:message-id:date:x-gm-message-state:from:to:cc :subject:date:message-id:reply-to; bh=L+YljyM6Uyy3o3gCbif+c+7vl1Yi61XS/9LIy8BfOFI=; b=VupdlZMfxHRLWy/RIyQndIUGZPX3SbFC5jBPTfSYqPyIarmoaPmOHI0kIYYlkMxuL9 86EmQVdu3wPLdYHY73RDklb7Ejglmp5r0u7xAOQvEdzpeFm+9vGKDu7HXwH+zn9TQjoa uL0ZzYEIcoLt32eHp/Qfgd8e9x08SokV8wpCgGhP6ArBdjmSK39tKcnUYBTuFPYTlK71 Rf8as0aCZySzr5gXvxzKoSDCd7gEuJ/oBIxIYCrzLxumT90OFFtRxBgJqUD2N/OFJZzw hqRifAhhr3VYjv/JoVG7b00MV8rSMbmuNLMCVWIsULQOEuoQG1Ysl8Vlc6DGSwW8cTOG Kn+A== X-Gm-Message-State: AOJu0Yy4eBnOIPD1Y3irUv8alohBEZNv81bjcGgXuU9XJc67f//JpNtM 16PaKfMbjp2HXUkrQF0FuWR1OfVdx3OrMjATKgzgRXNzKTyxtsZUIuibPOu4hSf0hNH1AtlVpz+ UwVLpBap6pWjET4t6D5G4xdvzz3R0GhMqgjoet2WZqOVdn5sv X-Gm-Gg: ASbGncvRE63uj6FyC7ZPN1mcD3ClVMYmS1UL3g9qw16XE7/7YgVQs6ATHdrvPs7issh iPOzq6BGIaWgg2kTfkt/4KET2gqf0QHn83wN8WEaL648fqWwn/pY34w+ueqiCAr4jkbC+xYRlkD dtGRmul3XwWFHwCVvqJ52KSSnFoGRrEOfAGzeLPNbLDJByT2U/pYQQqg8C1to+hZzQ/94Xc8ebt 0qZnRMepnMf57xNWY4ajEzJ4uAmPl8TEUv9t9fD/eempwW5aZLYm3j/xa6dAs4H4B16l0dj4TcE 0fFiwTmwxR9XEaPGgNdbBULZ3woFQgUJrqfwGjvDiw== X-Google-Smtp-Source: AGHT+IEbSRSIZsco2/wcx8FdfORPOmmOXBOQExExANXQ6lk+MwHGUds3U77zPLK3bGe4WNimaXmSuOOyJ/iG X-Received: by 2002:a05:6e02:1c22:b0:3d1:a380:bcd with SMTP id e9e14a558f8ab-3d2c24fcea4mr15037365ab.10.1740040376096; Thu, 20 Feb 2025 00:32:56 -0800 (PST) Received: from postal.iol.unh.edu (postal.iol.unh.edu. [2606:4100:3880:1234::84]) by smtp-relay.gmail.com with ESMTPS id e9e14a558f8ab-3d19fd3f919sm7694985ab.57.2025.02.20.00.32.55 (version=TLS1_2 cipher=ECDHE-ECDSA-AES128-GCM-SHA256 bits=128/128); Thu, 20 Feb 2025 00:32:56 -0800 (PST) X-Relaying-Domain: iol.unh.edu Date: Thu, 20 Feb 2025 00:32:56 -0800 (PST) Message-ID: <67b6e8b8.050a0220.32f183.4bbbSMTPIN_ADDED_MISSING@mx.google.com> Received: from [172.21.0.7] (unknown [172.18.0.240]) by postal.iol.unh.edu (Postfix) with ESMTP id A9C8B6052471; Thu, 20 Feb 2025 03:32:55 -0500 (EST) Subject: |SUCCESS| [GIT MASTER] c66daa12e76d7b4912cfb7109a761856a7a873ab From: dpdklab@iol.unh.edu To: Test Report Cc: dpdk-test-reports@iol.unh.edu, Xueming Li , Christian Ehrhardt , Kevin Traynor , Luca Boccassi Content-Type: text/plain X-BeenThere: test-report@dpdk.org X-Mailman-Version: 2.1.29 Precedence: list List-Id: automatic DPDK test reports List-Unsubscribe: , List-Archive: List-Post: List-Help: List-Subscribe: , Errors-To: test-report-bounces@dpdk.org _Testing PASS_ Branch: tags/v23.11 c66daa12e76d7b4912cfb7109a761856a7a873ab --> testing pass Upstream job id: Generic-DPDK-Compile-Meson#363213 Test environment and result as below: +---------------------+--------------------+-------------------+------------------+-------------------+-------------------------+----------------------+ | Environment | dpdk_meson_compile | dpdk_compile_spdk | dpdk_compile_ovs | dpdk_msvc_compile | dpdk_llvm_clang_compile | dpdk_mingw64_compile | +=====================+====================+===================+==================+===================+=========================+======================+ | CentOS Stream 9 | PASS | PASS | SKIPPED | SKIPPED | SKIPPED | SKIPPED | +---------------------+--------------------+-------------------+------------------+-------------------+-------------------------+----------------------+ | CentOS Stream 10 | PASS | SKIPPED | SKIPPED | SKIPPED | SKIPPED | SKIPPED | +---------------------+--------------------+-------------------+------------------+-------------------+-------------------------+----------------------+ | Debian Bullseye | PASS | PASS | SKIPPED | SKIPPED | SKIPPED | SKIPPED | +---------------------+--------------------+-------------------+------------------+-------------------+-------------------------+----------------------+ | Debian 12 | PASS | PASS | SKIPPED | SKIPPED | SKIPPED | SKIPPED | +---------------------+--------------------+-------------------+------------------+-------------------+-------------------------+----------------------+ | Fedora 40 (Clang) | PASS | PASS | SKIPPED | SKIPPED | SKIPPED | SKIPPED | +---------------------+--------------------+-------------------+------------------+-------------------+-------------------------+----------------------+ | Fedora 40 | PASS | PASS | SKIPPED | SKIPPED | SKIPPED | SKIPPED | +---------------------+--------------------+-------------------+------------------+-------------------+-------------------------+----------------------+ | openSUSE Leap 15 | PASS | SKIPPED | SKIPPED | SKIPPED | SKIPPED | SKIPPED | +---------------------+--------------------+-------------------+------------------+-------------------+-------------------------+----------------------+ | Fedora 41 (Clang) | PASS | PASS | PASS | SKIPPED | SKIPPED | SKIPPED | +---------------------+--------------------+-------------------+------------------+-------------------+-------------------------+----------------------+ | RHEL8 | PASS | SKIPPED | SKIPPED | SKIPPED | SKIPPED | SKIPPED | +---------------------+--------------------+-------------------+------------------+-------------------+-------------------------+----------------------+ | Fedora 41 | PASS | PASS | PASS | SKIPPED | SKIPPED | SKIPPED | +---------------------+--------------------+-------------------+------------------+-------------------+-------------------------+----------------------+ | RHEL9 | PASS | SKIPPED | SKIPPED | SKIPPED | SKIPPED | SKIPPED | +---------------------+--------------------+-------------------+------------------+-------------------+-------------------------+----------------------+ | Ubuntu 20.04 | PASS | SKIPPED | SKIPPED | SKIPPED | SKIPPED | SKIPPED | +---------------------+--------------------+-------------------+------------------+-------------------+-------------------------+----------------------+ | Ubuntu 22.04 | PASS | PASS | SKIPPED | SKIPPED | SKIPPED | SKIPPED | +---------------------+--------------------+-------------------+------------------+-------------------+-------------------------+----------------------+ | Ubuntu 24.04 | PASS | PASS | PASS | SKIPPED | SKIPPED | SKIPPED | +---------------------+--------------------+-------------------+------------------+-------------------+-------------------------+----------------------+ | Alpine | PASS | SKIPPED | SKIPPED | SKIPPED | SKIPPED | SKIPPED | +---------------------+--------------------+-------------------+------------------+-------------------+-------------------------+----------------------+ | FreeBSD 13.4 | PASS | SKIPPED | SKIPPED | SKIPPED | SKIPPED | SKIPPED | +---------------------+--------------------+-------------------+------------------+-------------------+-------------------------+----------------------+ | FreeBSD 14.2 | PASS | SKIPPED | SKIPPED | SKIPPED | SKIPPED | SKIPPED | +---------------------+--------------------+-------------------+------------------+-------------------+-------------------------+----------------------+ | Windows Server 2022 | SKIPPED | SKIPPED | SKIPPED | PASS | PASS | PASS | +---------------------+--------------------+-------------------+------------------+-------------------+-------------------------+----------------------+ CentOS Stream 9 Kernel: Depends on container host Compiler: gcc 11.5.0 20240719 (Red Hat 11.5.0-2) CentOS Stream 10 Kernel: Depends on container host Compiler: gcc 14.2.1 20241104 (Red Hat 14.2.1-6) Debian Bullseye Kernel: Depends on container host Compiler: gcc (Debian 10.2.1-6) 10.2.1 20210110 Debian 12 Kernel: Depends on container host Compiler: gcc (Debian 12.2.0-14) 12.2.0 Fedora 40 (Clang) Kernel: Depends on container host Compiler: clang 18.1.8 (Fedora 18.1.8-1.fc40) Fedora 40 Kernel: Depends on container host Compiler: gcc 14.2.1 20240912 (Red Hat 14.2.1-3) openSUSE Leap 15 Kernel: Depends on container host Compiler: gcc (SUSE Linux) 7.5.0 Fedora 41 (Clang) Kernel: Depends on container host Compiler: clang 19.1.5 (Fedora 19.1.5-1.fc41) RHEL8 Kernel: Depends on container host Compiler: gcc 8.5.0 20210514 (Red Hat 8.5.0-22) Fedora 41 Kernel: Depends on container host Compiler: gcc 14.2.1 20240912 (Red Hat 14.2.1-3) RHEL9 Kernel: Depends on container host Compiler: gcc 11.5.0 20240719 (Red Hat 11.5.0-2) Ubuntu 20.04 Kernel: Depends on container host Compiler: gcc (Ubuntu 9.4.0-1ubuntu1~20.04.2) 9.4.0 Ubuntu 22.04 Kernel: Depends on container host Compiler: gcc (Ubuntu 11.4.0-1ubuntu1~22.04) 11.4.0 Ubuntu 24.04 Kernel: Depends on container host Compiler: gcc (Ubuntu 13.3.0-6ubuntu2~24.04) 13.3.0 Alpine Kernel: Depends on container host Compiler: gcc (Alpine 14.2.0) 14.2.0 FreeBSD 13.4 Kernel: 13.4-RELEASE-p1 Compiler: clang 18.1.6 FreeBSD 14.2 Kernel: 14.2-RELEASE Compiler: clang 18.1.6 Windows Server 2022 Kernel: 10.0.20348.2031 Compiler: clang 15.0.7, gcc 14.1.0 (MinGW), and MSVC VS 19.39.33521 To view detailed results, visit: https://lab.dpdk.org/results/dashboard/tarballs/32630/ UNH-IOL DPDK Community Lab To manage your email subscriptions, visit: https://lab.dpdk.org/results/dashboard/preferences/subscriptions/