From mboxrd@z Thu Jan 1 00:00:00 1970 Return-Path: Received: from mails.dpdk.org (mails.dpdk.org [217.70.189.124]) by inbox.dpdk.org (Postfix) with ESMTP id 34D3A46275 for ; Thu, 20 Feb 2025 10:57:55 +0100 (CET) Received: from mails.dpdk.org (localhost [127.0.0.1]) by mails.dpdk.org (Postfix) with ESMTP id 2F4E64014F; Thu, 20 Feb 2025 10:57:55 +0100 (CET) Received: from mail-oo1-f99.google.com (mail-oo1-f99.google.com [209.85.161.99]) by mails.dpdk.org (Postfix) with ESMTP id 9C5DC40041 for ; Thu, 20 Feb 2025 10:57:54 +0100 (CET) Received: by mail-oo1-f99.google.com with SMTP id 006d021491bc7-5fd0adce179so323686eaf.2 for ; Thu, 20 Feb 2025 01:57:54 -0800 (PST) DKIM-Signature: v=1; a=rsa-sha256; c=relaxed/relaxed; d=iol.unh.edu; s=unh-iol; t=1740045474; x=1740650274; darn=dpdk.org; h=cc:to:from:subject:message-id:date:from:to:cc:subject:date :message-id:reply-to; bh=/xBV+vZ2s1Trj6SFVy27sFuk1VZ3D5hdUjCgxMalgxM=; b=OFbVcHX42VpACy9WOJdO/bnPHK8c/3W3zyQscWxxsBgMMxg08xejEGbGjWCJGhVV72 PzJAilPxsYBMk2SC9r2xZj6w1vOQmIpIVKd8W5znWruulEG0ScOE011HB71oWzFzAuGx yavUMy055TaEfMcY8RnMck89c9ibQtgnKJhUg= X-Google-DKIM-Signature: v=1; a=rsa-sha256; c=relaxed/relaxed; d=1e100.net; s=20230601; t=1740045474; x=1740650274; h=cc:to:from:subject:message-id:date:x-gm-message-state:from:to:cc :subject:date:message-id:reply-to; bh=/xBV+vZ2s1Trj6SFVy27sFuk1VZ3D5hdUjCgxMalgxM=; b=Gc5LR/ftQ2t3RZKvQDR7SmzERjE3EOx5/RG1px6sRUn7aT34AnM7bdwGgcIHtVeTdW mPPsMfCnI72ELlE4KJN4quMO0jv8Fzswmbve6ofaAYnMg45f4U/QWrNM8KpTXAXkdkVn 6cfzNOWnIpy1pLtg2EBkvKhhGV/4MhJmpZw/hA3Uxc2oF4iOsykP13qA3+dZveNyb464 k1nv5i/LI+01HJg3toFd2zBsxmK0Po5DaonfBfKY+0kQnv7WlVnHcp30LmU47pwlYaIp roZ6IYyTDttRVkYDK+6H2ANfGoQMLPpZCBDCzLtCeWPZcFFzPzwUfwNbd5vxBU362cuA eF5A== X-Gm-Message-State: AOJu0YxMmBVBNp48nqyWVFsQsppsqiUtKawRrPRKs35nAIie1B++1hIA Vq6mmcJ6tdGwnKgHM75PUs4WDupYk7JYtgXBneoiDPGhr6Ep12ymm6Fzm16iAk61j79/LBIuDA7 hVFF6quPffZpNpo5t5rpAoNsxJuw+C5dxWcZYFMAn8xC/QTWyS69dg9JL X-Gm-Gg: ASbGncvbw4V0aMH81Svle91+L3dg+3HxWq1DakFXeLo1c+WPYyRMEPzIs2JA7jJtp4V UEzebeE7sFnV97J4v/x1QEbISl6Vma2JYIru5nMGZc4iDYEITYGjLdotdJrlibViWN0+MfvuOvB BJULxeYQQjbjJ0XZY71exZeq3ZyrcMfzBOn9a1yC0Jrt5RJlNfA2lihhJveEKBwMs7IfExNDhA3 1pTgYCcsK3YzIQ/J/qyAicZcVsJUnHbyXlEATlzRBk822oHm3BnEyIts2d3P2Lxv3qlPIrNoUkW GahruPro3QL7ed/30scujmQld+ePFcdyikylNnyR4Q== X-Google-Smtp-Source: AGHT+IF6TR51ojrEOFFum8wUXh7IC7vpshygUADSlbHnkG0xBSGUAscHF14yzJxMFeeuuxAC+Vc4wwgOcWyy X-Received: by 2002:a05:6820:2901:b0:5fc:b418:8cd1 with SMTP id 006d021491bc7-5fcfe52daeamr5587184eaf.6.1740045473722; Thu, 20 Feb 2025 01:57:53 -0800 (PST) Received: from postal.iol.unh.edu (postal.iol.unh.edu. [2606:4100:3880:1234::84]) by smtp-relay.gmail.com with ESMTPS id 006d021491bc7-5fd00bf79fcsm117693eaf.16.2025.02.20.01.57.53 (version=TLS1_2 cipher=ECDHE-ECDSA-AES128-GCM-SHA256 bits=128/128); Thu, 20 Feb 2025 01:57:53 -0800 (PST) X-Relaying-Domain: iol.unh.edu Date: Thu, 20 Feb 2025 01:57:53 -0800 (PST) Message-ID: <67b6fca1.050a0220.136a23.5fd5SMTPIN_ADDED_MISSING@mx.google.com> Received: from [172.21.0.5] (unknown [172.18.0.240]) by postal.iol.unh.edu (Postfix) with ESMTP id 2D5B86052471; Thu, 20 Feb 2025 04:57:53 -0500 (EST) Subject: |SUCCESS| [GIT MASTER] 2ada41444942b5b6562923c6250ec75c77842c2a From: dpdklab@iol.unh.edu To: Test Report Cc: dpdk-test-reports@iol.unh.edu, Stephen Hemminger Content-Type: text/plain X-BeenThere: test-report@dpdk.org X-Mailman-Version: 2.1.29 Precedence: list List-Id: automatic DPDK test reports List-Unsubscribe: , List-Archive: List-Post: List-Help: List-Subscribe: , Errors-To: test-report-bounces@dpdk.org _Testing PASS_ Branch: dpdk-next-net 2ada41444942b5b6562923c6250ec75c77842c2a --> testing pass Upstream job id: Generic-Unit-Test-DPDK#316461 Test environment and result as below: +---------------------+----------------+ | Environment | dpdk_unit_test | +=====================+================+ | CentOS Stream 9 | PASS | +---------------------+----------------+ | Debian Bullseye | PASS | +---------------------+----------------+ | CentOS Stream 10 | PASS | +---------------------+----------------+ | Debian 12 | PASS | +---------------------+----------------+ | Fedora 40 (Clang) | PASS | +---------------------+----------------+ | Fedora 41 | PASS | +---------------------+----------------+ | Fedora 40 | PASS | +---------------------+----------------+ | Fedora 41 (Clang) | PASS | +---------------------+----------------+ | Ubuntu 20.04 | PASS | +---------------------+----------------+ | RHEL8 | PASS | +---------------------+----------------+ | RHEL9 | PASS | +---------------------+----------------+ | Ubuntu 22.04 | PASS | +---------------------+----------------+ | Ubuntu 24.04 | PASS | +---------------------+----------------+ | Windows Server 2022 | PASS | +---------------------+----------------+ CentOS Stream 9 Kernel: Depends on container host Compiler: gcc 11.5.0 20240719 (Red Hat 11.5.0-2) Debian Bullseye Kernel: Depends on container host Compiler: gcc (Debian 10.2.1-6) 10.2.1 20210110 CentOS Stream 10 Kernel: Depends on container host Compiler: gcc 14.2.1 20241104 (Red Hat 14.2.1-6) Debian 12 Kernel: Depends on container host Compiler: gcc (Debian 12.2.0-14) 12.2.0 Fedora 40 (Clang) Kernel: Depends on container host Compiler: clang 18.1.8 (Fedora 18.1.8-1.fc40) Fedora 41 Kernel: Depends on container host Compiler: gcc 14.2.1 20240912 (Red Hat 14.2.1-3) Fedora 40 Kernel: Depends on container host Compiler: gcc 14.2.1 20240912 (Red Hat 14.2.1-3) Fedora 41 (Clang) Kernel: Depends on container host Compiler: clang 19.1.5 (Fedora 19.1.5-1.fc41) Ubuntu 20.04 Kernel: Depends on container host Compiler: gcc (Ubuntu 9.4.0-1ubuntu1~20.04.2) 9.4.0 RHEL8 Kernel: Depends on container host Compiler: gcc 8.5.0 20210514 (Red Hat 8.5.0-22) RHEL9 Kernel: Depends on container host Compiler: gcc 11.5.0 20240719 (Red Hat 11.5.0-2) Ubuntu 22.04 Kernel: Depends on container host Compiler: gcc (Ubuntu 11.4.0-1ubuntu1~22.04) 11.4.0 Ubuntu 24.04 Kernel: Depends on container host Compiler: gcc (Ubuntu 13.3.0-6ubuntu2~24.04) 13.3.0 Windows Server 2022 Kernel: 10.0.20348.2031 Compiler: clang 15.0.7, gcc 14.1.0 (MinGW), and MSVC VS 19.39.33521 To view detailed results, visit: https://lab.dpdk.org/results/dashboard/tarballs/32632/ UNH-IOL DPDK Community Lab To manage your email subscriptions, visit: https://lab.dpdk.org/results/dashboard/preferences/subscriptions/