From mboxrd@z Thu Jan 1 00:00:00 1970 Return-Path: Received: from mails.dpdk.org (mails.dpdk.org [217.70.189.124]) by inbox.dpdk.org (Postfix) with ESMTP id 4598446275 for ; Thu, 20 Feb 2025 10:58:08 +0100 (CET) Received: from mails.dpdk.org (localhost [127.0.0.1]) by mails.dpdk.org (Postfix) with ESMTP id 415614014F; Thu, 20 Feb 2025 10:58:08 +0100 (CET) Received: from mail-oo1-f97.google.com (mail-oo1-f97.google.com [209.85.161.97]) by mails.dpdk.org (Postfix) with ESMTP id 345C940041 for ; Thu, 20 Feb 2025 10:58:07 +0100 (CET) Received: by mail-oo1-f97.google.com with SMTP id 006d021491bc7-5fcd686fe0fso478495eaf.3 for ; Thu, 20 Feb 2025 01:58:07 -0800 (PST) DKIM-Signature: v=1; a=rsa-sha256; c=relaxed/relaxed; d=iol.unh.edu; s=unh-iol; t=1740045486; x=1740650286; darn=dpdk.org; h=cc:to:from:subject:message-id:date:from:to:cc:subject:date :message-id:reply-to; bh=cNfZjTJ6SnUn3/xwJ+cNuxQF24IMw7DptS2MixxAFmw=; b=DwGUbml5KBTiLR7iQYZDxgLUQovonvVZE1h1b6vPW1AN1o9dPpzGQp5OR8WszFAZaM EVqKLe+EWa9VX7ocFYFLgfVJ209t/7gCLh350CoJ46ZYmGLNHOn61ZKtJ8ZZU0UssN7y rlLYx3+hDqLT+lQgrr+zlx/Sj4TTvHRCDgMKM= X-Google-DKIM-Signature: v=1; a=rsa-sha256; c=relaxed/relaxed; d=1e100.net; s=20230601; t=1740045486; x=1740650286; h=cc:to:from:subject:message-id:date:x-gm-message-state:from:to:cc :subject:date:message-id:reply-to; bh=cNfZjTJ6SnUn3/xwJ+cNuxQF24IMw7DptS2MixxAFmw=; b=SkE8nObAMyO9cpj8k6ZfbImKCtK2PtxmhO1CZ/zR+zL4uX1RKwstSNuLGPCUA8f8X9 YepOcgs27gLzL+dkMjPddOC++s6Vo7hzBcVwt4ac3/uckdr82PI8DD6ZW35ddOE+5Xbi N25YsZFa9JcuewwvwLvsfT5dilZLJmhxI7ZkoQd5uSX70ZdLxiohW0p10f+++HrTOoxB mmKqJWObbdT/SfSbDoOV/zFwv7JuwMxBnQIe1+Drcu04l9f5lIZJOLjBOfVu7FqOe1nr NhSosv36m/85e2Q+Ana/ojsfDrJLS4qeG/AE/MHqtdLAHUp9zY++6FdQlDaypWjnUaib vrgA== X-Gm-Message-State: AOJu0Yx/ZGjIA6U3jXpRiEgvufis+WG0J7Ugvk9REN/2b2Z8S1imMMSC CYm09SgwT10/DJysbgcmqKLuLgc9XE5FigK6wN9SCaWI3n9qjDMDbFeu9GyOO9aSw2CnRep4Zpg 4G0xvarV4h9zXZyu3vQ+rHu0MkAHdNMVafWpxzIms X-Gm-Gg: ASbGnctdeWI3UOaTZLfxkjfBt7FS9dP5rsVMHwzGSZPMCd7TrMHNjUpY0lqLOIzJGOH y0/mQY9cUzGCAJnxOUIFq/8ZKjhwlrtwYGhh/NmvKClXMBxgfDpJIwHxE+wwzgQxkXs0a/rQAtY xuU7A/OrYZoPUsH9eZkZ2ewMQUnyPNfaT8SQHuNC0urDRFv+YVTD1HSWtloqHb+SEK4JWHAVrNP UCX+OdCXYcZGAP6Nn14okN51Wguu0Tt9Ov8bDFTNVnvpr7URR8pQTG0Uaz1jJeY8ybkc2zhXoED B5UCiS0FqeGT5FlaRciZr5NcMQ1VrA== X-Google-Smtp-Source: AGHT+IHLx2qOxw60yD0ESHqWjISiKVXYTRXcrvbLAGqNYEMoMHjcZsN9Wu9U5f23Vjl2BnkH2MfU7/WUt+OQ X-Received: by 2002:a05:6870:6b8c:b0:2a3:be8a:eebb with SMTP id 586e51a60fabf-2bd10488808mr6595423fac.35.1740045486549; Thu, 20 Feb 2025 01:58:06 -0800 (PST) Received: from postal.iol.unh.edu (postal.iol.unh.edu. [132.177.123.84]) by smtp-relay.gmail.com with ESMTPS id 586e51a60fabf-2b9548200f0sm961409fac.3.2025.02.20.01.58.06 (version=TLS1_2 cipher=ECDHE-ECDSA-AES128-GCM-SHA256 bits=128/128); Thu, 20 Feb 2025 01:58:06 -0800 (PST) X-Relaying-Domain: iol.unh.edu Date: Thu, 20 Feb 2025 01:58:06 -0800 (PST) Message-ID: <67b6fcae.050a0220.1064f9.0758SMTPIN_ADDED_MISSING@mx.google.com> Received: from [172.21.0.6] (unknown [172.18.0.240]) by postal.iol.unh.edu (Postfix) with ESMTP id 10A116052471; Thu, 20 Feb 2025 04:58:06 -0500 (EST) Subject: |SUCCESS| [GIT MASTER] 2ada41444942b5b6562923c6250ec75c77842c2a From: dpdklab@iol.unh.edu To: Test Report Cc: dpdk-test-reports@iol.unh.edu, Stephen Hemminger Content-Type: text/plain X-BeenThere: test-report@dpdk.org X-Mailman-Version: 2.1.29 Precedence: list List-Id: automatic DPDK test reports List-Unsubscribe: , List-Archive: List-Post: List-Help: List-Subscribe: , Errors-To: test-report-bounces@dpdk.org _Testing PASS_ Branch: dpdk-next-net 2ada41444942b5b6562923c6250ec75c77842c2a --> testing pass Upstream job id: Generic-Unit-Test-DPDK#316467 Test environment and result as below: +---------------------+----------------+ | Environment | dpdk_unit_test | +=====================+================+ | CentOS Stream 9 | PASS | +---------------------+----------------+ | Debian Bullseye | PASS | +---------------------+----------------+ | CentOS Stream 10 | PASS | +---------------------+----------------+ | Debian 12 | PASS | +---------------------+----------------+ | Fedora 40 (Clang) | PASS | +---------------------+----------------+ | Fedora 41 | PASS | +---------------------+----------------+ | Fedora 40 | PASS | +---------------------+----------------+ | Fedora 41 (Clang) | PASS | +---------------------+----------------+ | Ubuntu 20.04 | PASS | +---------------------+----------------+ | RHEL8 | PASS | +---------------------+----------------+ | RHEL9 | PASS | +---------------------+----------------+ | Ubuntu 22.04 | PASS | +---------------------+----------------+ | Ubuntu 24.04 | PASS | +---------------------+----------------+ | Windows Server 2022 | PASS | +---------------------+----------------+ CentOS Stream 9 Kernel: Depends on container host Compiler: gcc 11.5.0 20240719 (Red Hat 11.5.0-2) Debian Bullseye Kernel: Depends on container host Compiler: gcc (Debian 10.2.1-6) 10.2.1 20210110 CentOS Stream 10 Kernel: Depends on container host Compiler: gcc 14.2.1 20241104 (Red Hat 14.2.1-6) Debian 12 Kernel: Depends on container host Compiler: gcc (Debian 12.2.0-14) 12.2.0 Fedora 40 (Clang) Kernel: Depends on container host Compiler: clang 18.1.8 (Fedora 18.1.8-1.fc40) Fedora 41 Kernel: Depends on container host Compiler: gcc 14.2.1 20240912 (Red Hat 14.2.1-3) Fedora 40 Kernel: Depends on container host Compiler: gcc 14.2.1 20240912 (Red Hat 14.2.1-3) Fedora 41 (Clang) Kernel: Depends on container host Compiler: clang 19.1.5 (Fedora 19.1.5-1.fc41) Ubuntu 20.04 Kernel: Depends on container host Compiler: gcc (Ubuntu 9.4.0-1ubuntu1~20.04.2) 9.4.0 RHEL8 Kernel: Depends on container host Compiler: gcc 8.5.0 20210514 (Red Hat 8.5.0-22) RHEL9 Kernel: Depends on container host Compiler: gcc 11.5.0 20240719 (Red Hat 11.5.0-2) Ubuntu 22.04 Kernel: Depends on container host Compiler: gcc (Ubuntu 11.4.0-1ubuntu1~22.04) 11.4.0 Ubuntu 24.04 Kernel: Depends on container host Compiler: gcc (Ubuntu 13.3.0-6ubuntu2~24.04) 13.3.0 Windows Server 2022 Kernel: 10.0.20348.2031 Compiler: clang 15.0.7, gcc 14.1.0 (MinGW), and MSVC VS 19.39.33521 To view detailed results, visit: https://lab.dpdk.org/results/dashboard/tarballs/32632/ UNH-IOL DPDK Community Lab To manage your email subscriptions, visit: https://lab.dpdk.org/results/dashboard/preferences/subscriptions/