From mboxrd@z Thu Jan 1 00:00:00 1970 Return-Path: Received: from mails.dpdk.org (mails.dpdk.org [217.70.189.124]) by inbox.dpdk.org (Postfix) with ESMTP id 6B95E46275 for ; Thu, 20 Feb 2025 11:17:16 +0100 (CET) Received: from mails.dpdk.org (localhost [127.0.0.1]) by mails.dpdk.org (Postfix) with ESMTP id 35BCE4014F; Thu, 20 Feb 2025 11:17:16 +0100 (CET) Received: from mail-pl1-f226.google.com (mail-pl1-f226.google.com [209.85.214.226]) by mails.dpdk.org (Postfix) with ESMTP id 60F5A40041 for ; Thu, 20 Feb 2025 11:17:14 +0100 (CET) Received: by mail-pl1-f226.google.com with SMTP id d9443c01a7336-221050f3f00so13840195ad.2 for ; Thu, 20 Feb 2025 02:17:14 -0800 (PST) DKIM-Signature: v=1; a=rsa-sha256; c=relaxed/relaxed; d=iol.unh.edu; s=unh-iol; t=1740046633; x=1740651433; darn=dpdk.org; h=cc:to:from:subject:message-id:date:from:to:cc:subject:date :message-id:reply-to; bh=1XC0+L+MzFto/1QxOzM4d/kZx+HuyO8CqUACPNEl0Xc=; b=Yi/NCNnevVVnvfgmZxOki4sH40w/T/5Wgjr5ZlFBFf749ohcRcMShnIm1cXLPOC/9s xvrtn86s1N9dvdjfsvPJ7Cs2XCJBxgRj92x5lNfPBSaWtKCB/aUF8QjMpz4SwE2gjaAT SjKjo2EKe96hmiMyhuDe3qvehWl7kWDi+D0ds= X-Google-DKIM-Signature: v=1; a=rsa-sha256; c=relaxed/relaxed; d=1e100.net; s=20230601; t=1740046633; x=1740651433; h=cc:to:from:subject:message-id:date:x-gm-message-state:from:to:cc :subject:date:message-id:reply-to; bh=1XC0+L+MzFto/1QxOzM4d/kZx+HuyO8CqUACPNEl0Xc=; b=np4RO8nWzPZIFPsmNhcziuXI9nOWXojCs6H0fW6HocnM33VfiPtsJMOxO+gscHgM/S cWDHrzQY/tppMEXKnoBPOgFLdtApki9O58pdyDslGilLUb0NfvCrcu2QCepreDEObRtl k6NOXDpj2Yi0WPDr6qcw30R2Cm5IjLmj0jh5YQv4EkxKaRVu6EVwX08FkhmyS2a3og4+ RoFJWB7URQaWIZtZN5S1vthLlm2KXQ0b9U2D/KE3t+ybp+/sSqfLr3FxQqvo+HGuSxY2 mHWbzF1x5YmHCYKiwDzFHjBhJg2uzR3uFTPNsZb1A5uJ8IRffRspBsP2mY0VdxmKisP8 Hi8A== X-Gm-Message-State: AOJu0Yx84pFugbOBBKVniVcqROOmP8ylVArfSsT58z7xu3lODqq27p+Y 0r83P5QYmkgzgf/gYRS/WlodeaPt+7lbI2PFdki0EvAEYJj3nQvW4Dj2CLqs89r4PIBfaVTBu7/ W0FJx9AdBGRrkWjEx3ZrUXT5Sx/9nQ+Mp X-Gm-Gg: ASbGnctOeg+S4KA8k9U09eDbZS69XqVYDG4V+AfcFwFfy3vUdUSrVXtOdhtXpmY4zXf Z8Pp4YWZrnWov1/67e1GxzLsoOE7QiQr5rDVcy9dOlOQZP6G6OjubrjF98O9XdaGrMerG4q5HXt ReCrJP9KUPDXcBRAsNkHxj2wdgWP/mKP2J8RUb7n3B5xhRL/XS2EEvGdo5f6clPz2BRfrRB8Mw4 /61/0GLM3zjw64xTwqFyiyXIVCckBZBo3fmIL8HAFLeFR8WXp8KTe/9nXDJi0MbztAfw0QWTQCN 4nJVCQpFtGeSYiJvKJM0FYIgeZqHmA== X-Google-Smtp-Source: AGHT+IHw6iFgzS/xP3evLhZpWkb9S2CmWpy4yZyFzFZ1HVd9iewmaKP/x2l7hmE0f+rZo6kOjba/L7X18rIh X-Received: by 2002:a05:6a20:7fa7:b0:1ee:e17c:9665 with SMTP id adf61e73a8af0-1eee17c9a3cmr6170969637.15.1740046633248; Thu, 20 Feb 2025 02:17:13 -0800 (PST) Received: from postal.iol.unh.edu (postal.iol.unh.edu. [132.177.123.84]) by smtp-relay.gmail.com with ESMTPS id 41be03b00d2f7-add1edfd3fesm781265a12.16.2025.02.20.02.17.13 (version=TLS1_2 cipher=ECDHE-ECDSA-AES128-GCM-SHA256 bits=128/128); Thu, 20 Feb 2025 02:17:13 -0800 (PST) X-Relaying-Domain: iol.unh.edu Date: Thu, 20 Feb 2025 02:17:13 -0800 (PST) Message-ID: <67b70129.630a0220.15c40f.82b6SMTPIN_ADDED_MISSING@mx.google.com> Received: from [172.21.0.5] (unknown [172.18.0.240]) by postal.iol.unh.edu (Postfix) with ESMTP id C81C16052471; Thu, 20 Feb 2025 05:17:11 -0500 (EST) Subject: |SUCCESS| [GIT MASTER] f2eea2f37a82bb73fb01d56350708f7d70e21379 From: dpdklab@iol.unh.edu To: Test Report Cc: dpdk-test-reports@iol.unh.edu, Xueming Li , Christian Ehrhardt , Kevin Traynor , Luca Boccassi Content-Type: text/plain X-BeenThere: test-report@dpdk.org X-Mailman-Version: 2.1.29 Precedence: list List-Id: automatic DPDK test reports List-Unsubscribe: , List-Archive: List-Post: List-Help: List-Subscribe: , Errors-To: test-report-bounces@dpdk.org _Testing PASS_ Branch: tags/v24.11 f2eea2f37a82bb73fb01d56350708f7d70e21379 --> testing pass Upstream job id: Generic-DPDK-Compile-Meson#363261 Test environment and result as below: +------------------------------------+--------------------+ | Environment | dpdk_meson_compile | +====================================+====================+ | RHEL9 (ARM) | PASS | +------------------------------------+--------------------+ | Ubuntu 20.04 ARM GCC Cross Compile | PASS | +------------------------------------+--------------------+ | Ubuntu 20.04 ARM SVE | PASS | +------------------------------------+--------------------+ | Debian 12 with MUSDK | PASS | +------------------------------------+--------------------+ | Fedora 40 (ARM) | PASS | +------------------------------------+--------------------+ | Fedora 40 (ARM Clang) | PASS | +------------------------------------+--------------------+ | Ubuntu 24.04 (ARM) | PASS | +------------------------------------+--------------------+ | CentOS Stream 9 (ARM) | PASS | +------------------------------------+--------------------+ | Ubuntu 22.04 (ARM) | PASS | +------------------------------------+--------------------+ | Debian 11 (Buster) (ARM) | PASS | +------------------------------------+--------------------+ | Fedora 41 (ARM) | PASS | +------------------------------------+--------------------+ | Fedora 41 (ARM Clang) | PASS | +------------------------------------+--------------------+ | Ubuntu 20.04 (ARM) | PASS | +------------------------------------+--------------------+ | Debian 12 (arm) | PASS | +------------------------------------+--------------------+ | CentOS Stream 10 (ARM) | PASS | +------------------------------------+--------------------+ RHEL9 (ARM) Kernel: Depends on container host Compiler: gcc 11.5.0 20240719 (Red Hat 11.5.0-2) Ubuntu 20.04 ARM GCC Cross Compile Kernel: Depends on container host Compiler: aarch64-linux-gnu-gcc (Ubuntu 9.4.0-1ubuntu1~20.04.2) 9.4.0 Ubuntu 20.04 ARM SVE Kernel: Depends on container host Compiler: gcc (Ubuntu 10.5.0-1ubuntu1~20.04) 10.5.0 Debian 12 with MUSDK Kernel: Depends on container host Compiler: gcc (Debian 12.2.0-14) 12.2.0 Fedora 40 (ARM) Kernel: Depends on container host Compiler: gcc 14.2.1 20240912 (Red Hat 14.2.1-3) Fedora 40 (ARM Clang) Kernel: Depends on container host Compiler: clang 18.1.8 (Fedora 18.1.8-1.fc40) Ubuntu 24.04 (ARM) Kernel: Depends on container host Compiler: gcc (Ubuntu 13.3.0-6ubuntu2~24.04) 13.3.0 CentOS Stream 9 (ARM) Kernel: Depends on container host Compiler: gcc 11.5.0 20240719 (Red Hat 11.5.0-2) Ubuntu 22.04 (ARM) Kernel: Depends on container host Compiler: gcc (Ubuntu 11.4.0-1ubuntu1~22.04) 11.4.0 Debian 11 (Buster) (ARM) Kernel: Depends on container host Compiler: gcc (Debian 10.2.1-6) 10.2.1 20210110 Fedora 41 (ARM) Kernel: Depends on container host Compiler: gcc 14.2.1 20240912 (Red Hat 14.2.1-3) Fedora 41 (ARM Clang) Kernel: Depends on container host Compiler: clang 19.1.5 (Fedora 19.1.5-1.fc41) Ubuntu 20.04 (ARM) Kernel: Depends on container host Compiler: gcc (Ubuntu 9.4.0-1ubuntu1~20.04.2) 9.4.0 Debian 12 (arm) Kernel: Depends on container host Compiler: gcc (Debian 12.2.0-14) 12.2.0 CentOS Stream 10 (ARM) Kernel: Depends on container host Compiler: gcc 14.2.1 20241104 (Red Hat 14.2.1-6) To view detailed results, visit: https://lab.dpdk.org/results/dashboard/tarballs/32631/ UNH-IOL DPDK Community Lab To manage your email subscriptions, visit: https://lab.dpdk.org/results/dashboard/preferences/subscriptions/