From mboxrd@z Thu Jan 1 00:00:00 1970 Return-Path: Received: from mails.dpdk.org (mails.dpdk.org [217.70.189.124]) by inbox.dpdk.org (Postfix) with ESMTP id A540A46275 for ; Thu, 20 Feb 2025 11:19:03 +0100 (CET) Received: from mails.dpdk.org (localhost [127.0.0.1]) by mails.dpdk.org (Postfix) with ESMTP id A188F4026D; Thu, 20 Feb 2025 11:19:03 +0100 (CET) Received: from mail-oa1-f100.google.com (mail-oa1-f100.google.com [209.85.160.100]) by mails.dpdk.org (Postfix) with ESMTP id 6C57D40041 for ; Thu, 20 Feb 2025 11:19:02 +0100 (CET) Received: by mail-oa1-f100.google.com with SMTP id 586e51a60fabf-2aa17010cbcso494146fac.3 for ; Thu, 20 Feb 2025 02:19:02 -0800 (PST) DKIM-Signature: v=1; a=rsa-sha256; c=relaxed/relaxed; d=iol.unh.edu; s=unh-iol; t=1740046741; x=1740651541; darn=dpdk.org; h=cc:to:from:subject:message-id:date:from:to:cc:subject:date :message-id:reply-to; bh=cJlmRl9hDfVSrYPyvKTIGvs3sQQSpMyr1Y+t4xWXPmo=; b=HYNsem0waVMuVxik2rl/pnQmrABuRvBISsiFT559s52Ka1qOIwd1LE4bkP8nshsU1b wLlpQfDLXeadO0wowtAd6BNjCc4c+nL57VXWVX6yO0EssP+NnxvQ8stMAtsR/jIuMSZ1 ptyUPwZkcTkJe/uSYstN0MYTtANeVU0OgjgaI= X-Google-DKIM-Signature: v=1; a=rsa-sha256; c=relaxed/relaxed; d=1e100.net; s=20230601; t=1740046741; x=1740651541; h=cc:to:from:subject:message-id:date:x-gm-message-state:from:to:cc :subject:date:message-id:reply-to; bh=cJlmRl9hDfVSrYPyvKTIGvs3sQQSpMyr1Y+t4xWXPmo=; b=ejUoc+Yvdk7RWpgSaoWSSkzzeP/k7KbITED1tqNWCnHTHsd8UjMjTMF8ULy9WCfoz1 3Si13i1szNFEYvA986A8v6XvgsOe4dceinF/e89ZlnOTGxCSFQY3JX9E+FivelXFBzUm ZHcAQiL7bt0qKLJyI+CH4IZsmWIHWEDA/TaIqcXK8a7jL06umScvki+jNN19FgDSoXmh Yj05xOX2Y69qowVsftFHWB3Ns2ABGTn3DHLQ047auCksalECaVeL0HL7zgxgSR9FgFdX 5fmF5MV+E4VZ8PyScMGJ4iTCGS75ZLTyO/sTQxuQoq3PT41S+CfTuguPdY5/hSixvRjo QocA== X-Gm-Message-State: AOJu0YwVf9CH20zBRfYks42FNsZc4N+01GGhjdBzN4sehCuIk1zohiNB iN7OXQSSsb6Mkv/1UJzrxWegQidaVJvsyVIywk4I+Ho1QZvZljteVvzMbhvz85ls7kc3mziZ03w tdZMzgV4xrz9K2ROOqIaxMNJsxH9XrMQ0n03PiaXHJWUPD3y/ X-Gm-Gg: ASbGncvclVFd78VkA73MZOatTk6TEs9+TsFwF4zhi0mj0e8X/Ny60e3wEqEoiD3Mfod tAVOh9yQO/Ry5Hvx7h5g1MKHUUfKS2uhvGEE/mZWlP45b2ra0VbaVpRlTBiN+54JhJqlo/RrOUI 5GhrjRZZH9uZfMwRrvjxbHNGCF8Sj1CNnCrrXwJFrNa+1BX1Yuhgfkynk1DrTZF5uk0VPrw+6Xp 3ZwqSWmccsI03fbjV/bHsXfoNI3Ww7Z9TmLofSJcpVYSEl/rdK4MbLf6AEWOcqFM16sCsoCAa7X zSsyY94AQrGYdzlCefp0sPacdGwdJZ0QBGk9DLZk8Q== X-Google-Smtp-Source: AGHT+IHpLANp50Qdjofhxuvl59sBpL8qK8XKtlPL7GKUonQdu9eu8FV0xBeaH9K+fd1NFxQrutuAz8Mhht9E X-Received: by 2002:a05:6871:aa0e:b0:2bc:69a9:2ef4 with SMTP id 586e51a60fabf-2bd103f8661mr4858704fac.25.1740046741488; Thu, 20 Feb 2025 02:19:01 -0800 (PST) Received: from postal.iol.unh.edu (postal.iol.unh.edu. [2606:4100:3880:1234::84]) by smtp-relay.gmail.com with ESMTPS id 586e51a60fabf-2b95486cf5esm874814fac.14.2025.02.20.02.19.01 (version=TLS1_2 cipher=ECDHE-ECDSA-AES128-GCM-SHA256 bits=128/128); Thu, 20 Feb 2025 02:19:01 -0800 (PST) X-Relaying-Domain: iol.unh.edu Date: Thu, 20 Feb 2025 02:19:01 -0800 (PST) Message-ID: <67b70195.050a0220.bd2ee.c106SMTPIN_ADDED_MISSING@mx.google.com> Received: from [172.21.0.5] (unknown [172.18.0.240]) by postal.iol.unh.edu (Postfix) with ESMTP id E690E6052471; Thu, 20 Feb 2025 05:19:00 -0500 (EST) Subject: |SUCCESS| [GIT MASTER] f2eea2f37a82bb73fb01d56350708f7d70e21379 From: dpdklab@iol.unh.edu To: Test Report Cc: dpdk-test-reports@iol.unh.edu, Xueming Li , Christian Ehrhardt , Kevin Traynor , Luca Boccassi Content-Type: text/plain X-BeenThere: test-report@dpdk.org X-Mailman-Version: 2.1.29 Precedence: list List-Id: automatic DPDK test reports List-Unsubscribe: , List-Archive: List-Post: List-Help: List-Subscribe: , Errors-To: test-report-bounces@dpdk.org _Testing PASS_ Branch: tags/v24.11 f2eea2f37a82bb73fb01d56350708f7d70e21379 --> testing pass Upstream job id: Generic-DPDK-Compile-Meson#363259 Test environment and result as below: +------------------------------------+--------------------+ | Environment | dpdk_meson_compile | +====================================+====================+ | RHEL9 (ARM) | PASS | +------------------------------------+--------------------+ | Ubuntu 20.04 ARM GCC Cross Compile | PASS | +------------------------------------+--------------------+ | Ubuntu 20.04 ARM SVE | PASS | +------------------------------------+--------------------+ | Debian 12 with MUSDK | PASS | +------------------------------------+--------------------+ | Fedora 40 (ARM) | PASS | +------------------------------------+--------------------+ | Fedora 40 (ARM Clang) | PASS | +------------------------------------+--------------------+ | Ubuntu 24.04 (ARM) | PASS | +------------------------------------+--------------------+ | CentOS Stream 9 (ARM) | PASS | +------------------------------------+--------------------+ | Ubuntu 22.04 (ARM) | PASS | +------------------------------------+--------------------+ | Debian 11 (Buster) (ARM) | PASS | +------------------------------------+--------------------+ | Fedora 41 (ARM) | PASS | +------------------------------------+--------------------+ | Fedora 41 (ARM Clang) | PASS | +------------------------------------+--------------------+ | Ubuntu 20.04 (ARM) | PASS | +------------------------------------+--------------------+ | Debian 12 (arm) | PASS | +------------------------------------+--------------------+ | CentOS Stream 10 (ARM) | PASS | +------------------------------------+--------------------+ RHEL9 (ARM) Kernel: Depends on container host Compiler: gcc 11.5.0 20240719 (Red Hat 11.5.0-2) Ubuntu 20.04 ARM GCC Cross Compile Kernel: Depends on container host Compiler: aarch64-linux-gnu-gcc (Ubuntu 9.4.0-1ubuntu1~20.04.2) 9.4.0 Ubuntu 20.04 ARM SVE Kernel: Depends on container host Compiler: gcc (Ubuntu 10.5.0-1ubuntu1~20.04) 10.5.0 Debian 12 with MUSDK Kernel: Depends on container host Compiler: gcc (Debian 12.2.0-14) 12.2.0 Fedora 40 (ARM) Kernel: Depends on container host Compiler: gcc 14.2.1 20240912 (Red Hat 14.2.1-3) Fedora 40 (ARM Clang) Kernel: Depends on container host Compiler: clang 18.1.8 (Fedora 18.1.8-1.fc40) Ubuntu 24.04 (ARM) Kernel: Depends on container host Compiler: gcc (Ubuntu 13.3.0-6ubuntu2~24.04) 13.3.0 CentOS Stream 9 (ARM) Kernel: Depends on container host Compiler: gcc 11.5.0 20240719 (Red Hat 11.5.0-2) Ubuntu 22.04 (ARM) Kernel: Depends on container host Compiler: gcc (Ubuntu 11.4.0-1ubuntu1~22.04) 11.4.0 Debian 11 (Buster) (ARM) Kernel: Depends on container host Compiler: gcc (Debian 10.2.1-6) 10.2.1 20210110 Fedora 41 (ARM) Kernel: Depends on container host Compiler: gcc 14.2.1 20240912 (Red Hat 14.2.1-3) Fedora 41 (ARM Clang) Kernel: Depends on container host Compiler: clang 19.1.5 (Fedora 19.1.5-1.fc41) Ubuntu 20.04 (ARM) Kernel: Depends on container host Compiler: gcc (Ubuntu 9.4.0-1ubuntu1~20.04.2) 9.4.0 Debian 12 (arm) Kernel: Depends on container host Compiler: gcc (Debian 12.2.0-14) 12.2.0 CentOS Stream 10 (ARM) Kernel: Depends on container host Compiler: gcc 14.2.1 20241104 (Red Hat 14.2.1-6) To view detailed results, visit: https://lab.dpdk.org/results/dashboard/tarballs/32631/ UNH-IOL DPDK Community Lab To manage your email subscriptions, visit: https://lab.dpdk.org/results/dashboard/preferences/subscriptions/