From mboxrd@z Thu Jan 1 00:00:00 1970 Return-Path: Received: from mails.dpdk.org (mails.dpdk.org [217.70.189.124]) by inbox.dpdk.org (Postfix) with ESMTP id 22EA746275 for ; Thu, 20 Feb 2025 11:33:19 +0100 (CET) Received: from mails.dpdk.org (localhost [127.0.0.1]) by mails.dpdk.org (Postfix) with ESMTP id 1AE714014F; Thu, 20 Feb 2025 11:33:19 +0100 (CET) Received: from mail-io1-f98.google.com (mail-io1-f98.google.com [209.85.166.98]) by mails.dpdk.org (Postfix) with ESMTP id A3CA740041 for ; Thu, 20 Feb 2025 11:33:17 +0100 (CET) Received: by mail-io1-f98.google.com with SMTP id ca18e2360f4ac-851c4f1fb18so34922839f.2 for ; Thu, 20 Feb 2025 02:33:17 -0800 (PST) DKIM-Signature: v=1; a=rsa-sha256; c=relaxed/relaxed; d=iol.unh.edu; s=unh-iol; t=1740047597; x=1740652397; darn=dpdk.org; h=references:in-reply-to:cc:to:from:subject:message-id:date:from:to :cc:subject:date:message-id:reply-to; bh=QXKF19eaSAkR0LwwE5QHXQd2eaJnduGRjFRR9aONORk=; b=gBc52Cno+lY9QKcR1sHxMIvWGujAaG463Bo8t1az5APah/SbV6Il3g9ZIgepN7sWJG V0Q1t7f60U+p3NMTT5SqF3sq6eAHRwEIemvoe9ReQwHj9stZNT6LXMhOKQWCBazUpJQf Mh9Fk1deSzIi24xxwqfFUra2sLVb5A9/Xk+IA= X-Google-DKIM-Signature: v=1; a=rsa-sha256; c=relaxed/relaxed; d=1e100.net; s=20230601; t=1740047597; x=1740652397; h=references:in-reply-to:cc:to:from:subject:message-id:date :x-gm-message-state:from:to:cc:subject:date:message-id:reply-to; bh=QXKF19eaSAkR0LwwE5QHXQd2eaJnduGRjFRR9aONORk=; b=eBheP2qkSXiB0fr/cDIlaekSng8ClPsdWlw0Z94B382lyYGjm84kLXifzge72uMbJ6 Rp8xCOLi8/F7LFs4ZNTk2slPi+P2j+g/GgTYzWu3GNFbbrtJ0eMNFLZydEv8BcQwdUNm LZasycOzDjWNKtF+5Co+zMH6s8kGTcBW52CMwDuv7Li0bvic/yXhptUplOwKk/vGtYXT dEuiRMZbUtU64hy8LWL8n5sHF84y7tZPV8lRSeqtsAC5Jqk8Mi8h/gYM3Vn5YXPqAl2t OtvdXWQMjKt4a8iX6Ay7e+YdmOQ95PN0qKgzIOUlkpXhlE1lG6Jqh/13QSnSKHK7Isbw 0dFg== X-Gm-Message-State: AOJu0Ywz6HSTlVin+LhR/vt4XplA8Pj27CMHzvz1nbrJTvQvrtVG88O/ VrgTCcgEpTGonZ9u/KlrcjXEDIsJxOtDdW0EICdP2lRYg4OkTfxUiGK3Rvnb/95f1MHWTTc3Tn1 C2odFMv37U+ckalEFuv8p0QrtyaAUITjiaBlYI5waLxRnJ1EteW9PMX3Z X-Gm-Gg: ASbGncsxuEDmuhFPzPheELxrgMZfvb23krYCk2fRQV+NplQEjK+jMVo8+hZcXtEjZW/ hYV8sl0wu8oBbhWt9W+YbH8+oew/Wb9TEY6bri5TXWvC0+MfSqI3t++dRO5a/MjuwVbYTbNk27w Skz0CgWk6u79Zy6ExATRw63/az7ABjjOkyESccQ5mAlOHPiMIwt/06obl+4gq3HipTU6lKXaPCO 0FPqzqbsUeSta7CFPtXbaJSz6gZ7G/nfsowFkTVMG1PkHzZq5HGAEYIaD3aEwfOcrseSPBoQsPB cYCNyNHUurGaRF+t5JMFW76YK80WIfLueVDSb0wslA== X-Google-Smtp-Source: AGHT+IGdhvschRJbRnCPkxIPetyRQiYlMXvo4pmzGglcuEay1zUu/3Sd3FWwAbRWGCLJtCGw6PWySliLypAl X-Received: by 2002:a05:6e02:3684:b0:3d1:78c6:2088 with SMTP id e9e14a558f8ab-3d2b537bbb4mr74468075ab.19.1740047596645; Thu, 20 Feb 2025 02:33:16 -0800 (PST) Received: from postal.iol.unh.edu (postal.iol.unh.edu. [2606:4100:3880:1234::84]) by smtp-relay.gmail.com with ESMTPS id e9e14a558f8ab-3d2b766e2ccsm2052605ab.2.2025.02.20.02.33.16 (version=TLS1_2 cipher=ECDHE-ECDSA-AES128-GCM-SHA256 bits=128/128); Thu, 20 Feb 2025 02:33:16 -0800 (PST) X-Relaying-Domain: iol.unh.edu Date: Thu, 20 Feb 2025 02:33:16 -0800 (PST) Message-ID: <67b704ec.050a0220.3141ff.a68dSMTPIN_ADDED_MISSING@mx.google.com> Received: from [172.17.0.5] (unknown [172.18.0.217]) by postal.iol.unh.edu (Postfix) with ESMTP id 1EFEF6052471; Thu, 20 Feb 2025 05:33:16 -0500 (EST) Subject: |SUCCESS| pw151683 [PATCH] net/mlx5: fix err message overwrite for a From: dpdklab@iol.unh.edu To: Test Report Cc: dpdk-test-reports@iol.unh.edu In-Reply-To: <20250220070850.6661-1-junfengg@nvidia.com> References: <20250220070850.6661-1-junfengg@nvidia.com> Content-Type: text/plain X-BeenThere: test-report@dpdk.org X-Mailman-Version: 2.1.29 Precedence: list List-Id: automatic DPDK test reports List-Unsubscribe: , List-Archive: List-Post: List-Help: List-Subscribe: , Errors-To: test-report-bounces@dpdk.org Test-Label: iol-abi-testing Test-Status: SUCCESS http://dpdk.org/patch/151683 _Testing PASS_ Submitter: Junfeng Guo Date: Thursday, February 20 2025 07:08:50 DPDK git baseline: Repo:dpdk Branch: master CommitID:046cca99c3fd03bfb95d3e27a56aab40c2c8f45a 151683 --> testing pass Upstream job id: Generic-DPDK-Compile-ABI#116857 Test environment and result as below: +-------------------+----------+ | Environment | abi_test | +===================+==========+ | CentOS Stream 10 | PASS | +-------------------+----------+ | Debian 12 | PASS | +-------------------+----------+ | Debian Bullseye | PASS | +-------------------+----------+ | Fedora 40 (Clang) | PASS | +-------------------+----------+ | Fedora 41 (Clang) | PASS | +-------------------+----------+ | Fedora 40 | PASS | +-------------------+----------+ | openSUSE Leap 15 | PASS | +-------------------+----------+ | RHEL8 | PASS | +-------------------+----------+ | Fedora 41 | PASS | +-------------------+----------+ | RHEL9 | PASS | +-------------------+----------+ | Ubuntu 22.04 | PASS | +-------------------+----------+ | Ubuntu 24.04 | PASS | +-------------------+----------+ CentOS Stream 10 Kernel: Depends on container host Compiler: gcc 14.2.1 20241104 (Red Hat 14.2.1-6) Debian 12 Kernel: Depends on container host Compiler: gcc (Debian 12.2.0-14) 12.2.0 Debian Bullseye Kernel: Depends on container host Compiler: gcc (Debian 10.2.1-6) 10.2.1 20210110 Fedora 40 (Clang) Kernel: Depends on container host Compiler: clang 18.1.8 (Fedora 18.1.8-1.fc40) Fedora 41 (Clang) Kernel: Depends on container host Compiler: clang 19.1.5 (Fedora 19.1.5-1.fc41) Fedora 40 Kernel: Depends on container host Compiler: gcc 14.2.1 20240912 (Red Hat 14.2.1-3) openSUSE Leap 15 Kernel: Depends on container host Compiler: gcc (SUSE Linux) 7.5.0 RHEL8 Kernel: Depends on container host Compiler: gcc 8.5.0 20210514 (Red Hat 8.5.0-22) Fedora 41 Kernel: Depends on container host Compiler: gcc 14.2.1 20240912 (Red Hat 14.2.1-3) RHEL9 Kernel: Depends on container host Compiler: gcc 11.5.0 20240719 (Red Hat 11.5.0-2) Ubuntu 22.04 Kernel: Depends on container host Compiler: gcc (Ubuntu 11.4.0-1ubuntu1~22.04) 11.4.0 Ubuntu 24.04 Kernel: Depends on container host Compiler: gcc (Ubuntu 13.3.0-6ubuntu2~24.04) 13.3.0 To view detailed results, visit: https://lab.dpdk.org/results/dashboard/patchsets/32618/ UNH-IOL DPDK Community Lab To manage your email subscriptions, visit: https://lab.dpdk.org/results/dashboard/preferences/subscriptions/