From mboxrd@z Thu Jan 1 00:00:00 1970 Return-Path: Received: from mails.dpdk.org (mails.dpdk.org [217.70.189.124]) by inbox.dpdk.org (Postfix) with ESMTP id 4738C46275 for ; Thu, 20 Feb 2025 11:42:37 +0100 (CET) Received: from mails.dpdk.org (localhost [127.0.0.1]) by mails.dpdk.org (Postfix) with ESMTP id 3F59F4014F; Thu, 20 Feb 2025 11:42:37 +0100 (CET) Received: from mail-il1-f226.google.com (mail-il1-f226.google.com [209.85.166.226]) by mails.dpdk.org (Postfix) with ESMTP id A7DA740041 for ; Thu, 20 Feb 2025 11:42:35 +0100 (CET) Received: by mail-il1-f226.google.com with SMTP id e9e14a558f8ab-3d191bfeafbso2529345ab.0 for ; Thu, 20 Feb 2025 02:42:35 -0800 (PST) DKIM-Signature: v=1; a=rsa-sha256; c=relaxed/relaxed; d=iol.unh.edu; s=unh-iol; t=1740048155; x=1740652955; darn=dpdk.org; h=cc:to:from:subject:message-id:date:from:to:cc:subject:date :message-id:reply-to; bh=/NaO7acx1TEhbBRmyn/VR1dV9mv1GURD5kShJSjPzco=; b=Vv3xe8k9WK0nWha0+0RMxzfDiMeIgXNNndPiWDhRfQ3ki2oIkEhgVVBbtdRymD/xRn /5uuoI8v5/eLhg6xdig4rwpzNz5CUdt37nA+6a5Ah9J8umPGLXJU01erpwf/+yIGEsA2 pGIRDr5IwtaJn43KwQg/yOKbkT8utbpe31jaM= X-Google-DKIM-Signature: v=1; a=rsa-sha256; c=relaxed/relaxed; d=1e100.net; s=20230601; t=1740048155; x=1740652955; h=cc:to:from:subject:message-id:date:x-gm-message-state:from:to:cc :subject:date:message-id:reply-to; bh=/NaO7acx1TEhbBRmyn/VR1dV9mv1GURD5kShJSjPzco=; b=DEqSEJHvh0EbN2+0QyfNGJvMkQFitXE9SbJ7kj75plUp2s6A9KHH9qQg7bQfwSJx8d P4VUXppmH5T9UviwVjrjz+vkoxS8K7+B0osSaBWrOaj00kXH/Rh0YtYaWi8GGuOX+jUC 2EUgwkPTY/dltKAefeSriSfu9KJJ1v9K6eFEp4zFSgMW/vhHqPw9IZpTT3X2NxtyZu1p FH3DNn2HyysIfN2SuGJ8FhtbPHyoQ64vo0uUdf1OeMbQo6SObbpZIUzt1FXPjXrvKZ1i 6UrMIwRL7X5BItt9t9ifn7U4Vho1cMPXHZdUN2KfkhXJf3GPWAedtEXZjMJNbnvvS3Qo VcbQ== X-Gm-Message-State: AOJu0Ywq8lvZ0KUeDKpCqERn73wr5SV1gnQn6QgMhsiTT08BWKsIHURe zqkjMVM8qPtJQq1Wqtp6RU3p7bH2FkSiiLxeBwlzaB/nh404WjtwO3HTDv7pbXus1C21Lt3SGky 7nS23XdtY53Ga0PeO50qEUrVV4NVS7Ae/8JyiK3qW X-Gm-Gg: ASbGnctJ/nPgWZ3zr//j4kaG4fVUiSQspNe7DmxCcqZrw9OJ8vxBV5ZFliznGD9Uibe ru07EZQ/PugvP4DUffebwoDXPWWVSqqlZy29BoBw+tsyUiLMFhDUCxtJfIdgMCzGQUiw0pw1H28 kJy+qh9j2cwq7d/WYgUAcpgJPh06H7Ir/Mb+BguHiNgvNy0iWgSc/vzer64sVdGQPt8lFHVOdh2 YabY4UjjAoEKtL2MuE8roZoGkZKWnTT64hyqMxy80MCGT/a51T1hQUXqeZxEawCvpLvOBldblLF AT+vqWvAv+JvIau+oaD29yMVUo0T4Q== X-Google-Smtp-Source: AGHT+IHlKmMdy1B+NBPTGtO9ohZsK9+a2y/weCKsF38w59yUG7TvMWBCh76g7QODTm6ya2wy5SKhRTAASe0d X-Received: by 2002:a05:6e02:1689:b0:3d0:4eaa:e480 with SMTP id e9e14a558f8ab-3d280763d29mr220144045ab.3.1740048155018; Thu, 20 Feb 2025 02:42:35 -0800 (PST) Received: from postal.iol.unh.edu (postal.iol.unh.edu. [132.177.123.84]) by smtp-relay.gmail.com with ESMTPS id e9e14a558f8ab-3d2853163c2sm7071765ab.25.2025.02.20.02.42.34 (version=TLS1_2 cipher=ECDHE-ECDSA-AES128-GCM-SHA256 bits=128/128); Thu, 20 Feb 2025 02:42:35 -0800 (PST) X-Relaying-Domain: iol.unh.edu Date: Thu, 20 Feb 2025 02:42:35 -0800 (PST) Message-ID: <67b7071b.050a0220.9aa80.2375SMTPIN_ADDED_MISSING@mx.google.com> Received: from [172.17.0.6] (unknown [172.18.0.217]) by postal.iol.unh.edu (Postfix) with ESMTP id 83E2E6052471; Thu, 20 Feb 2025 05:42:34 -0500 (EST) Subject: |SUCCESS| [GIT MASTER] 2ada41444942b5b6562923c6250ec75c77842c2a From: dpdklab@iol.unh.edu To: Test Report Cc: dpdk-test-reports@iol.unh.edu, Stephen Hemminger Content-Type: text/plain X-BeenThere: test-report@dpdk.org X-Mailman-Version: 2.1.29 Precedence: list List-Id: automatic DPDK test reports List-Unsubscribe: , List-Archive: List-Post: List-Help: List-Subscribe: , Errors-To: test-report-bounces@dpdk.org _Testing PASS_ Branch: dpdk-next-net 2ada41444942b5b6562923c6250ec75c77842c2a --> testing pass Upstream job id: Generic-Unit-Test-DPDK#316459 Test environment and result as below: +-----------------------------+----------------+--------------+------------------------------+---------------------------+ | Environment | dpdk_unit_test | lpm_autotest | cryptodev_sw_snow3g_autotest | cryptodev_sw_zuc_autotest | +=============================+================+==============+==============================+===========================+ | CentOS Stream 9 (ARM) | PASS | SKIPPED | SKIPPED | SKIPPED | +-----------------------------+----------------+--------------+------------------------------+---------------------------+ | CentOS Stream 10 (ARM) | PASS | SKIPPED | SKIPPED | SKIPPED | +-----------------------------+----------------+--------------+------------------------------+---------------------------+ | Debian 11 (Buster) (ARM) | PASS | SKIPPED | SKIPPED | SKIPPED | +-----------------------------+----------------+--------------+------------------------------+---------------------------+ | 32-bit Ubuntu 22.04.4 (ARM) | PASS | SKIPPED | SKIPPED | SKIPPED | +-----------------------------+----------------+--------------+------------------------------+---------------------------+ | Debian 12 (arm) | PASS | SKIPPED | PASS | PASS | +-----------------------------+----------------+--------------+------------------------------+---------------------------+ | Fedora 40 (ARM Clang) | PASS | SKIPPED | SKIPPED | SKIPPED | +-----------------------------+----------------+--------------+------------------------------+---------------------------+ | Fedora 40 (ARM) | PASS | SKIPPED | SKIPPED | SKIPPED | +-----------------------------+----------------+--------------+------------------------------+---------------------------+ | Fedora 41 (ARM) | PASS | SKIPPED | SKIPPED | SKIPPED | +-----------------------------+----------------+--------------+------------------------------+---------------------------+ | RHEL9 (ARM) | PASS | SKIPPED | SKIPPED | SKIPPED | +-----------------------------+----------------+--------------+------------------------------+---------------------------+ | Ubuntu 22.04 (ARM) | PASS | SKIPPED | SKIPPED | SKIPPED | +-----------------------------+----------------+--------------+------------------------------+---------------------------+ | Ubuntu 24.04 (ARM) | PASS | SKIPPED | SKIPPED | SKIPPED | +-----------------------------+----------------+--------------+------------------------------+---------------------------+ | Ubuntu 20.04 (ARM) | PASS | SKIPPED | SKIPPED | SKIPPED | +-----------------------------+----------------+--------------+------------------------------+---------------------------+ | Fedora 41 (ARM Clang) | PASS | SKIPPED | SKIPPED | SKIPPED | +-----------------------------+----------------+--------------+------------------------------+---------------------------+ | Ubuntu 20.04 ARM SVE | SKIPPED | PASS | SKIPPED | SKIPPED | +-----------------------------+----------------+--------------+------------------------------+---------------------------+ CentOS Stream 9 (ARM) Kernel: Depends on container host Compiler: gcc 11.5.0 20240719 (Red Hat 11.5.0-2) CentOS Stream 10 (ARM) Kernel: Depends on container host Compiler: gcc 14.2.1 20241104 (Red Hat 14.2.1-6) Debian 11 (Buster) (ARM) Kernel: Depends on container host Compiler: gcc (Debian 10.2.1-6) 10.2.1 20210110 32-bit Ubuntu 22.04.4 (ARM) Kernel: 5.15.83+ aarch64 Compiler: gcc (Ubuntu 11.4.0-1ubuntu1~22.04) 11.4.0 Debian 12 (arm) Kernel: Depends on container host Compiler: gcc (Debian 12.2.0-14) 12.2.0 Fedora 40 (ARM Clang) Kernel: Depends on container host Compiler: clang 18.1.8 (Fedora 18.1.8-1.fc40) Fedora 40 (ARM) Kernel: Depends on container host Compiler: gcc 14.2.1 20240912 (Red Hat 14.2.1-3) Fedora 41 (ARM) Kernel: Depends on container host Compiler: gcc 14.2.1 20240912 (Red Hat 14.2.1-3) RHEL9 (ARM) Kernel: Depends on container host Compiler: gcc 11.5.0 20240719 (Red Hat 11.5.0-2) Ubuntu 22.04 (ARM) Kernel: Depends on container host Compiler: gcc (Ubuntu 11.4.0-1ubuntu1~22.04) 11.4.0 Ubuntu 24.04 (ARM) Kernel: Depends on container host Compiler: gcc (Ubuntu 13.3.0-6ubuntu2~24.04) 13.3.0 Ubuntu 20.04 (ARM) Kernel: Depends on container host Compiler: gcc (Ubuntu 9.4.0-1ubuntu1~20.04.2) 9.4.0 Fedora 41 (ARM Clang) Kernel: Depends on container host Compiler: clang 19.1.5 (Fedora 19.1.5-1.fc41) Ubuntu 20.04 ARM SVE Kernel: Depends on container host Compiler: gcc (Ubuntu 10.5.0-1ubuntu1~20.04) 10.5.0 To view detailed results, visit: https://lab.dpdk.org/results/dashboard/tarballs/32632/ UNH-IOL DPDK Community Lab To manage your email subscriptions, visit: https://lab.dpdk.org/results/dashboard/preferences/subscriptions/