From mboxrd@z Thu Jan 1 00:00:00 1970 Return-Path: Received: from mails.dpdk.org (mails.dpdk.org [217.70.189.124]) by inbox.dpdk.org (Postfix) with ESMTP id C7F8C46276 for ; Thu, 20 Feb 2025 12:16:14 +0100 (CET) Received: from mails.dpdk.org (localhost [127.0.0.1]) by mails.dpdk.org (Postfix) with ESMTP id A28B24014F; Thu, 20 Feb 2025 12:16:14 +0100 (CET) Received: from mail-oo1-f97.google.com (mail-oo1-f97.google.com [209.85.161.97]) by mails.dpdk.org (Postfix) with ESMTP id C018840041 for ; Thu, 20 Feb 2025 12:16:13 +0100 (CET) Received: by mail-oo1-f97.google.com with SMTP id 006d021491bc7-5fcef5dc791so305924eaf.1 for ; Thu, 20 Feb 2025 03:16:13 -0800 (PST) DKIM-Signature: v=1; a=rsa-sha256; c=relaxed/relaxed; d=iol.unh.edu; s=unh-iol; t=1740050173; x=1740654973; darn=dpdk.org; h=cc:to:from:subject:message-id:date:from:to:cc:subject:date :message-id:reply-to; bh=lICwBNq9fhks4g1iRl0pZcUplgBu4lBQbgx4DMJ5IMM=; b=eRf2vxhLTxV6pIiNdFdo0+rqcQnxa6WV9wl1baskdTyAdDjOl3wN6hDGQuqYgJx3Wu 4gvA4mvxg2zunxZOYzfcT9e8Oh7iWrwz0iswFC6gcPelCkUctwJpUPudU+FedEB1bL2q VSs7KHtSgUovDvZ2NpKTx7G7bWJrAG+QPDwNs= X-Google-DKIM-Signature: v=1; a=rsa-sha256; c=relaxed/relaxed; d=1e100.net; s=20230601; t=1740050173; x=1740654973; h=cc:to:from:subject:message-id:date:x-gm-message-state:from:to:cc :subject:date:message-id:reply-to; bh=lICwBNq9fhks4g1iRl0pZcUplgBu4lBQbgx4DMJ5IMM=; b=ACg7oGlOSVNHYpWfyVZsrg656+NcwHG3Puso2Jrh/8QprIS2IYIbI/InvsGq8MCCH/ pLu3zEmfILqej59srmOMyd9aS8BDRdMJVDtZRhjBMXGiKKwHJ93Vyw2waee800eaylJD 5ivKaXYrfrPKN2/iLRL9S8WySTZY8hueLQOKCu4VGpzlytQYmxVoS+Kepl2x5TK7Mqzf W5FTEhoM1WREIltEkvjTYqP/lasD6j/4kdU6yVmQQHfiL007lgg/DVHXeqAaMLlX881+ J8qSXla5FeKAM1ihGMalPuAquj02qG4hbKB/J7VFp3XcgMslsQLR1p9eq8nR3GdWS9Zp LJ3g== X-Gm-Message-State: AOJu0YzuZhW7enzmTn+um/Ux1rX1R8b2eQxtZPEl1VYQKyJkfIjrAMvW pTcdsnIjMwCZ04dX0v2fptRzmaDIDFaeUCWfOygkZI9kNhrIRx66mvglkk9Qi/IqewWSwo3VzV/ 8TUmn8mFyyq5UCQ+keoBLm6eNB6Zj+m9V X-Gm-Gg: ASbGnctX0FPIB2u154blC+P6z267Bg0ItzQOYROniR09o1eOmiNUe57h96SMooRU736 xVv2xrkLrgKwiV77zKCKcvUG+6eG5luvE8kPX8lkppJsDhHjfX5IvTPTmK14HhJ9A/aE7SmEZoW gclNxHfjXa4twV8NbKyxLoD/d45epT4kiiM13pvGtjV/MqjtupY8aRbCtdzrZM9z7OlpgPbeQmA VfrGDctSKjWAEHOJ5LIMZRHvjuQhF+UmSe9cPTdKST7zqP+hElUrOKx99uJRLNtj2kLUhl63g87 z6n9RJN1pVM2vZkqIxj54cRaKhcP7g== X-Google-Smtp-Source: AGHT+IGJXC/hDthm52unuiFsgyOYDViqZ59euMe1MCI+QpDwpx/wHtii1at8KT3aEVkoTXnV+SD/+LyFZwRt X-Received: by 2002:a05:6871:58d:b0:29e:2695:5214 with SMTP id 586e51a60fabf-2bc99cf5d3emr13854287fac.25.1740050172823; Thu, 20 Feb 2025 03:16:12 -0800 (PST) Received: from postal.iol.unh.edu (postal.iol.unh.edu. [132.177.123.84]) by smtp-relay.gmail.com with ESMTPS id 586e51a60fabf-2b963a07db1sm969537fac.34.2025.02.20.03.16.12 (version=TLS1_2 cipher=ECDHE-ECDSA-AES128-GCM-SHA256 bits=128/128); Thu, 20 Feb 2025 03:16:12 -0800 (PST) X-Relaying-Domain: iol.unh.edu Date: Thu, 20 Feb 2025 03:16:12 -0800 (PST) Message-ID: <67b70efc.050a0220.2c201b.188aSMTPIN_ADDED_MISSING@mx.google.com> Received: from [172.21.0.5] (unknown [172.18.0.240]) by postal.iol.unh.edu (Postfix) with ESMTP id 1A15E6052471; Thu, 20 Feb 2025 06:16:12 -0500 (EST) Subject: |SUCCESS| [GIT MASTER] f2eea2f37a82bb73fb01d56350708f7d70e21379 From: dpdklab@iol.unh.edu To: Test Report Cc: dpdk-test-reports@iol.unh.edu, Xueming Li , Christian Ehrhardt , Kevin Traynor , Luca Boccassi Content-Type: text/plain X-BeenThere: test-report@dpdk.org X-Mailman-Version: 2.1.29 Precedence: list List-Id: automatic DPDK test reports List-Unsubscribe: , List-Archive: List-Post: List-Help: List-Subscribe: , Errors-To: test-report-bounces@dpdk.org _Testing PASS_ Branch: tags/v24.11 f2eea2f37a82bb73fb01d56350708f7d70e21379 --> testing pass Upstream job id: ACVP-FIPS-testing#8968 Test environment and result as below: +--------------------+----------------------+----------------------+ | Environment | compressdev_zlib_pmd | dpdk_fips_validation | +====================+======================+======================+ | Ubuntu 22.04 (ARM) | PASS | SKIPPED | +--------------------+----------------------+----------------------+ | Ubuntu 22.04 | PASS | SKIPPED | +--------------------+----------------------+----------------------+ | Ubuntu 20.04 | SKIPPED | PASS | +--------------------+----------------------+----------------------+ Ubuntu 22.04 (ARM) Kernel: 5.15.0-97-generic Compiler: gcc gcc (Ubuntu 11.4.0-1ubuntu1~22.04) 11.4.0 Ubuntu 22.04 Kernel: 5.15.0-100-generic Compiler: gcc gcc (Ubuntu 11.4.0-1ubuntu1~22.04) 11.4.0 Ubuntu 20.04 Kernel: Depends on container host Compiler: gcc (Ubuntu 9.4.0-1ubuntu1~20.04.2) 9.4.0 To view detailed results, visit: https://lab.dpdk.org/results/dashboard/tarballs/32631/ UNH-IOL DPDK Community Lab To manage your email subscriptions, visit: https://lab.dpdk.org/results/dashboard/preferences/subscriptions/