From mboxrd@z Thu Jan 1 00:00:00 1970 Return-Path: Received: from mails.dpdk.org (mails.dpdk.org [217.70.189.124]) by inbox.dpdk.org (Postfix) with ESMTP id 846AE46276 for ; Thu, 20 Feb 2025 12:26:25 +0100 (CET) Received: from mails.dpdk.org (localhost [127.0.0.1]) by mails.dpdk.org (Postfix) with ESMTP id 6109D4014F; Thu, 20 Feb 2025 12:26:25 +0100 (CET) Received: from mail-qk1-f226.google.com (mail-qk1-f226.google.com [209.85.222.226]) by mails.dpdk.org (Postfix) with ESMTP id C753A402B2 for ; Thu, 20 Feb 2025 12:26:24 +0100 (CET) Received: by mail-qk1-f226.google.com with SMTP id af79cd13be357-7c07cd527e4so72161085a.3 for ; Thu, 20 Feb 2025 03:26:24 -0800 (PST) DKIM-Signature: v=1; a=rsa-sha256; c=relaxed/relaxed; d=iol.unh.edu; s=unh-iol; t=1740050784; x=1740655584; darn=dpdk.org; h=cc:to:from:subject:message-id:date:from:to:cc:subject:date :message-id:reply-to; bh=EeSNRxKS9frgCZn62TryPTgWXW3xyELQhmj7hFjtmC0=; b=ZIHQ2NQn9xQrXUghrx4jpQCxxdVEl6/NdXrp3YMz+dbnd4+soMRVglQPVea13Ihu4t E4ynmRVhlTR486ohQe0WHGowlHN5ROVtwWZWiaF9DGoiGwc3qnn7NApEIHY9kb1nhTDO wYKDBV3TZOXbelvA4xQx1nvyntaZGh7I/F+Cs= X-Google-DKIM-Signature: v=1; a=rsa-sha256; c=relaxed/relaxed; d=1e100.net; s=20230601; t=1740050784; x=1740655584; h=cc:to:from:subject:message-id:date:x-gm-message-state:from:to:cc :subject:date:message-id:reply-to; bh=EeSNRxKS9frgCZn62TryPTgWXW3xyELQhmj7hFjtmC0=; b=Dn+r7qkNsaKWcr9U/R0F5s+0+7Z99D4nLo+88A5wVxWhKXiyfFo/BT9qgpCibbHboO t4T5EYQ8v8EJCsHxeYuRWTG5/2V/pHMxerFhJgkdHVBTxbH8hRfHRNnyZlHYfBDsBeEi axxygJ2G1GNQ8fhuP1CnA0r2dni/zRXxyrdZWu3kkA9AMDCdGN8JZYnh5KCf6vz+jezw knobK8j/uHdDYQxH8rKCEp6Kc3+IX8fQ8CdXRJ0UI2NKK1cXU/FPe236q2UxcUYlHsyJ C85irqxGdUCg6sSPUdUDqpPCsXA090QHvxxvcT7i1nIqTreqQQRGhyA5s58+OYmkj5dz /DrQ== X-Gm-Message-State: AOJu0YzEQtsq7AbOeBXnKNIA7GfZV9iBgs5k3f5zelqiVHeEO2BVoJlj 3T/ZDYtkFXyBA89kUMCO7g6DAqyYADW+19Tcn4Ogu9I3Xgiaq9g23+BFiZ9/bfcvn1Et1gXA7/4 3/O3Rlif1xzALqmSIKiDBuQPL4EgYSocusQdXaVO1 X-Gm-Gg: ASbGnctCtnr7yrqHsJ8Q0+O+VFJH6C7e7BGGL6hgwByQDsFV2fz1/FWsbaQmddvNAi1 RnXvkq9UL3YNjEiPA8rVvXmKG1Pn2oVxAZ/O9mxsxxKhlVjiyK7v1ipcCoyLNcgbY6CZsi9LJl0 d1qgT/YU0kMSDpCxbJuHFB1CrzOi64446WaZQHtSaHpbrevfTcUzai8kWLbmA7jFNZJdAuKPPx0 NYrrPMODxZE45cxgDfwS+w1O7ejAHjdL+BF7K/B+CXwxWu1Hhk5u9BdOIF8WbLQmSkK0Hz7NHn4 zl+Qf71+JY/RPqoFJADMGdqFis9qXw== X-Google-Smtp-Source: AGHT+IE4eRQwz0Mynzi1qoFLjmX/4J1Ov965KZm7l0931L1HcXFMA2GSDqt6rffItLeanILDJk6W7RpCtluF X-Received: by 2002:a05:620a:2952:b0:7c0:abe0:ce39 with SMTP id af79cd13be357-7c0c42acc3dmr186296485a.24.1740050784188; Thu, 20 Feb 2025 03:26:24 -0800 (PST) Received: from postal.iol.unh.edu (postal.iol.unh.edu. [132.177.123.84]) by smtp-relay.gmail.com with ESMTPS id 6a1803df08f44-6e65d7a349fsm6451766d6.61.2025.02.20.03.26.24 (version=TLS1_2 cipher=ECDHE-ECDSA-AES128-GCM-SHA256 bits=128/128); Thu, 20 Feb 2025 03:26:24 -0800 (PST) X-Relaying-Domain: iol.unh.edu Date: Thu, 20 Feb 2025 03:26:24 -0800 (PST) Message-ID: <67b71160.d40a0220.2dec72.fc00SMTPIN_ADDED_MISSING@mx.google.com> Received: from [172.21.0.5] (unknown [172.18.0.240]) by postal.iol.unh.edu (Postfix) with ESMTP id D46B66052471; Thu, 20 Feb 2025 06:26:23 -0500 (EST) Subject: |SUCCESS| [GIT MASTER] 2ada41444942b5b6562923c6250ec75c77842c2a From: dpdklab@iol.unh.edu To: Test Report Cc: dpdk-test-reports@iol.unh.edu, Stephen Hemminger Content-Type: text/plain X-BeenThere: test-report@dpdk.org X-Mailman-Version: 2.1.29 Precedence: list List-Id: automatic DPDK test reports List-Unsubscribe: , List-Archive: List-Post: List-Help: List-Subscribe: , Errors-To: test-report-bounces@dpdk.org _Testing PASS_ Branch: dpdk-next-net 2ada41444942b5b6562923c6250ec75c77842c2a --> testing pass Upstream job id: Generic-DPDK-Compile-Meson#363270 Test environment and result as below: +---------------------+--------------------+-------------------+------------------+-------------------+ | Environment | dpdk_meson_compile | dpdk_compile_spdk | dpdk_compile_ovs | dpdk_msvc_compile | +=====================+====================+===================+==================+===================+ | CentOS Stream 9 | PASS | PASS | SKIPPED | SKIPPED | +---------------------+--------------------+-------------------+------------------+-------------------+ | Fedora 40 (Clang) | PASS | PASS | SKIPPED | SKIPPED | +---------------------+--------------------+-------------------+------------------+-------------------+ | CentOS Stream 10 | PASS | SKIPPED | SKIPPED | SKIPPED | +---------------------+--------------------+-------------------+------------------+-------------------+ | Debian Bullseye | PASS | PASS | SKIPPED | SKIPPED | +---------------------+--------------------+-------------------+------------------+-------------------+ | Debian 12 | PASS | PASS | SKIPPED | SKIPPED | +---------------------+--------------------+-------------------+------------------+-------------------+ | Fedora 40 | PASS | PASS | SKIPPED | SKIPPED | +---------------------+--------------------+-------------------+------------------+-------------------+ | Fedora 41 (Clang) | PASS | PASS | PASS | SKIPPED | +---------------------+--------------------+-------------------+------------------+-------------------+ | Fedora 41 | PASS | PASS | PASS | SKIPPED | +---------------------+--------------------+-------------------+------------------+-------------------+ | openSUSE Leap 15 | PASS | SKIPPED | SKIPPED | SKIPPED | +---------------------+--------------------+-------------------+------------------+-------------------+ | RHEL8 | PASS | SKIPPED | SKIPPED | SKIPPED | +---------------------+--------------------+-------------------+------------------+-------------------+ | Ubuntu 20.04 | PASS | SKIPPED | SKIPPED | SKIPPED | +---------------------+--------------------+-------------------+------------------+-------------------+ | RHEL9 | PASS | SKIPPED | SKIPPED | SKIPPED | +---------------------+--------------------+-------------------+------------------+-------------------+ | Ubuntu 24.04 | PASS | PASS | PASS | SKIPPED | +---------------------+--------------------+-------------------+------------------+-------------------+ | Ubuntu 22.04 | PASS | PASS | SKIPPED | SKIPPED | +---------------------+--------------------+-------------------+------------------+-------------------+ | Alpine | PASS | SKIPPED | SKIPPED | SKIPPED | +---------------------+--------------------+-------------------+------------------+-------------------+ | FreeBSD 13.4 | PASS | SKIPPED | SKIPPED | SKIPPED | +---------------------+--------------------+-------------------+------------------+-------------------+ | FreeBSD 14.2 | PASS | SKIPPED | SKIPPED | SKIPPED | +---------------------+--------------------+-------------------+------------------+-------------------+ | Windows Server 2022 | SKIPPED | SKIPPED | SKIPPED | PASS | +---------------------+--------------------+-------------------+------------------+-------------------+ CentOS Stream 9 Kernel: Depends on container host Compiler: gcc 11.5.0 20240719 (Red Hat 11.5.0-2) Fedora 40 (Clang) Kernel: Depends on container host Compiler: clang 18.1.8 (Fedora 18.1.8-1.fc40) CentOS Stream 10 Kernel: Depends on container host Compiler: gcc 14.2.1 20241104 (Red Hat 14.2.1-6) Debian Bullseye Kernel: Depends on container host Compiler: gcc (Debian 10.2.1-6) 10.2.1 20210110 Debian 12 Kernel: Depends on container host Compiler: gcc (Debian 12.2.0-14) 12.2.0 Fedora 40 Kernel: Depends on container host Compiler: gcc 14.2.1 20240912 (Red Hat 14.2.1-3) Fedora 41 (Clang) Kernel: Depends on container host Compiler: clang 19.1.5 (Fedora 19.1.5-1.fc41) Fedora 41 Kernel: Depends on container host Compiler: gcc 14.2.1 20240912 (Red Hat 14.2.1-3) openSUSE Leap 15 Kernel: Depends on container host Compiler: gcc (SUSE Linux) 7.5.0 RHEL8 Kernel: Depends on container host Compiler: gcc 8.5.0 20210514 (Red Hat 8.5.0-22) Ubuntu 20.04 Kernel: Depends on container host Compiler: gcc (Ubuntu 9.4.0-1ubuntu1~20.04.2) 9.4.0 RHEL9 Kernel: Depends on container host Compiler: gcc 11.5.0 20240719 (Red Hat 11.5.0-2) Ubuntu 24.04 Kernel: Depends on container host Compiler: gcc (Ubuntu 13.3.0-6ubuntu2~24.04) 13.3.0 Ubuntu 22.04 Kernel: Depends on container host Compiler: gcc (Ubuntu 11.4.0-1ubuntu1~22.04) 11.4.0 Alpine Kernel: Depends on container host Compiler: gcc (Alpine 14.2.0) 14.2.0 FreeBSD 13.4 Kernel: 13.4-RELEASE-p1 Compiler: clang 18.1.6 FreeBSD 14.2 Kernel: 14.2-RELEASE Compiler: clang 18.1.6 Windows Server 2022 Kernel: 10.0.20348.2031 Compiler: clang 15.0.7, gcc 14.1.0 (MinGW), and MSVC VS 19.39.33521 To view detailed results, visit: https://lab.dpdk.org/results/dashboard/tarballs/32632/ UNH-IOL DPDK Community Lab To manage your email subscriptions, visit: https://lab.dpdk.org/results/dashboard/preferences/subscriptions/