From: dpdklab@iol.unh.edu
To: Test Report <test-report@dpdk.org>
Cc: dpdk-test-reports@iol.unh.edu
Subject: |SUCCESS| pw151683 [PATCH] net/mlx5: fix err message overwrite for a
Date: Thu, 20 Feb 2025 03:44:27 -0800 (PST) [thread overview]
Message-ID: <67b7159b.170a0220.2490fe.2c29SMTPIN_ADDED_MISSING@mx.google.com> (raw)
In-Reply-To: <20250220070850.6661-1-junfengg@nvidia.com>
Test-Label: iol-unit-amd64-testing
Test-Status: SUCCESS
http://dpdk.org/patch/151683
_Testing PASS_
Submitter: Junfeng Guo <junfengg@nvidia.com>
Date: Thursday, February 20 2025 07:08:50
DPDK git baseline: Repo:dpdk
Branch: master
CommitID:046cca99c3fd03bfb95d3e27a56aab40c2c8f45a
151683 --> testing pass
Upstream job id: Generic-VM-Unit-Test-DPDK#27289
Test environment and result as below:
+---------------------+----------------+
| Environment | dpdk_unit_test |
+=====================+================+
| Debian Bullseye | PASS |
+---------------------+----------------+
| CentOS Stream 10 | PASS |
+---------------------+----------------+
| CentOS Stream 9 | PASS |
+---------------------+----------------+
| Debian 12 | PASS |
+---------------------+----------------+
| Fedora 40 | PASS |
+---------------------+----------------+
| Fedora 40 (Clang) | PASS |
+---------------------+----------------+
| Fedora 41 | PASS |
+---------------------+----------------+
| Fedora 41 (Clang) | PASS |
+---------------------+----------------+
| Ubuntu 20.04 | PASS |
+---------------------+----------------+
| RHEL9 | PASS |
+---------------------+----------------+
| Ubuntu 22.04 | PASS |
+---------------------+----------------+
| RHEL8 | PASS |
+---------------------+----------------+
| Ubuntu 24.04 | PASS |
+---------------------+----------------+
| Windows Server 2022 | PASS |
+---------------------+----------------+
Debian Bullseye
Kernel: Depends on container host
Compiler: gcc (Debian 10.2.1-6) 10.2.1 20210110
CentOS Stream 10
Kernel: Depends on container host
Compiler: gcc 14.2.1 20241104 (Red Hat 14.2.1-6)
CentOS Stream 9
Kernel: Depends on container host
Compiler: gcc 11.5.0 20240719 (Red Hat 11.5.0-2)
Debian 12
Kernel: Depends on container host
Compiler: gcc (Debian 12.2.0-14) 12.2.0
Fedora 40
Kernel: Depends on container host
Compiler: gcc 14.2.1 20240912 (Red Hat 14.2.1-3)
Fedora 40 (Clang)
Kernel: Depends on container host
Compiler: clang 18.1.8 (Fedora 18.1.8-1.fc40)
Fedora 41
Kernel: Depends on container host
Compiler: gcc 14.2.1 20240912 (Red Hat 14.2.1-3)
Fedora 41 (Clang)
Kernel: Depends on container host
Compiler: clang 19.1.5 (Fedora 19.1.5-1.fc41)
Ubuntu 20.04
Kernel: Depends on container host
Compiler: gcc (Ubuntu 9.4.0-1ubuntu1~20.04.2) 9.4.0
RHEL9
Kernel: Depends on container host
Compiler: gcc 11.5.0 20240719 (Red Hat 11.5.0-2)
Ubuntu 22.04
Kernel: Depends on container host
Compiler: gcc (Ubuntu 11.4.0-1ubuntu1~22.04) 11.4.0
RHEL8
Kernel: Depends on container host
Compiler: gcc 8.5.0 20210514 (Red Hat 8.5.0-22)
Ubuntu 24.04
Kernel: Depends on container host
Compiler: gcc (Ubuntu 13.3.0-6ubuntu2~24.04) 13.3.0
Windows Server 2022
Kernel: 10.0.20348.2031
Compiler: clang 15.0.7, gcc 14.1.0 (MinGW), and MSVC VS 19.39.33521
To view detailed results, visit:
https://lab.dpdk.org/results/dashboard/patchsets/32618/
UNH-IOL DPDK Community Lab
To manage your email subscriptions, visit:
https://lab.dpdk.org/results/dashboard/preferences/subscriptions/
next prev parent reply other threads:[~2025-02-20 11:44 UTC|newest]
Thread overview: 22+ messages / expand[flat|nested] mbox.gz Atom feed top
[not found] <20250220070850.6661-1-junfengg@nvidia.com>
2025-02-20 6:39 ` |SUCCESS| pw151683 [PATCH] net/mlx5: fix err message overwrite for actions translation qemudev
2025-02-20 6:43 ` qemudev
2025-02-20 7:10 ` checkpatch
2025-02-20 8:04 ` 0-day Robot
2025-02-20 8:52 ` |SUCCESS| pw151683 [PATCH] net/mlx5: fix err message overwrite for a dpdklab
2025-02-20 8:52 ` dpdklab
2025-02-20 9:00 ` dpdklab
2025-02-20 9:02 ` dpdklab
2025-02-20 9:08 ` |PENDING| " dpdklab
2025-02-20 9:37 ` |SUCCESS| " dpdklab
2025-02-20 10:20 ` |PENDING| " dpdklab
2025-02-20 10:27 ` dpdklab
2025-02-20 10:33 ` |SUCCESS| " dpdklab
2025-02-20 11:05 ` dpdklab
2025-02-20 11:13 ` |PENDING| " dpdklab
2025-02-20 11:44 ` dpdklab [this message]
2025-02-20 12:11 ` |SUCCESS| " dpdklab
2025-02-20 12:47 ` dpdklab
2025-02-20 13:44 ` dpdklab
2025-02-20 14:01 ` dpdklab
2025-02-20 14:33 ` dpdklab
2025-02-20 14:33 ` dpdklab
Reply instructions:
You may reply publicly to this message via plain-text email
using any one of the following methods:
* Save the following mbox file, import it into your mail client,
and reply-to-all from there: mbox
Avoid top-posting and favor interleaved quoting:
https://en.wikipedia.org/wiki/Posting_style#Interleaved_style
* Reply using the --to, --cc, and --in-reply-to
switches of git-send-email(1):
git send-email \
--in-reply-to=67b7159b.170a0220.2490fe.2c29SMTPIN_ADDED_MISSING@mx.google.com \
--to=dpdklab@iol.unh.edu \
--cc=dpdk-test-reports@iol.unh.edu \
--cc=test-report@dpdk.org \
/path/to/YOUR_REPLY
https://kernel.org/pub/software/scm/git/docs/git-send-email.html
* If your mail client supports setting the In-Reply-To header
via mailto: links, try the mailto: link
Be sure your reply has a Subject: header at the top and a blank line
before the message body.
This is a public inbox, see mirroring instructions
for how to clone and mirror all data and code used for this inbox;
as well as URLs for NNTP newsgroup(s).