From mboxrd@z Thu Jan 1 00:00:00 1970 Return-Path: Received: from mails.dpdk.org (mails.dpdk.org [217.70.189.124]) by inbox.dpdk.org (Postfix) with ESMTP id A1B4846278 for ; Thu, 20 Feb 2025 12:53:48 +0100 (CET) Received: from mails.dpdk.org (localhost [127.0.0.1]) by mails.dpdk.org (Postfix) with ESMTP id 8D5E94014F; Thu, 20 Feb 2025 12:53:48 +0100 (CET) Received: from mail-yb1-f225.google.com (mail-yb1-f225.google.com [209.85.219.225]) by mails.dpdk.org (Postfix) with ESMTP id 4096740041 for ; Thu, 20 Feb 2025 12:53:47 +0100 (CET) Received: by mail-yb1-f225.google.com with SMTP id 3f1490d57ef6-e545c1e8a15so949974276.1 for ; Thu, 20 Feb 2025 03:53:47 -0800 (PST) DKIM-Signature: v=1; a=rsa-sha256; c=relaxed/relaxed; d=iol.unh.edu; s=unh-iol; t=1740052426; x=1740657226; darn=dpdk.org; h=references:in-reply-to:cc:to:from:subject:message-id:date:from:to :cc:subject:date:message-id:reply-to; bh=5jyI+kngyeYq+zVsRXbSGBS3N7MpQigNwtF3fZfKZBU=; b=RAFsiBVD95fnL2Szi0Rf1bsTeUzxc/Y3l1Ono9LqZQOu/s3P+Ly12Zz8S/eferbJRq 7jV3ItaHEAebi2hEwSw8J5fBRfp03UZEFC4PdSG7AWWXV67QSmYZkstWDhli8E5/KMO5 bx5Hq8cwL5XbGghe3En4ygYJiK3Q1rOMgNez4= X-Google-DKIM-Signature: v=1; a=rsa-sha256; c=relaxed/relaxed; d=1e100.net; s=20230601; t=1740052426; x=1740657226; h=references:in-reply-to:cc:to:from:subject:message-id:date :x-gm-message-state:from:to:cc:subject:date:message-id:reply-to; bh=5jyI+kngyeYq+zVsRXbSGBS3N7MpQigNwtF3fZfKZBU=; b=LSoWGgo1c6ryPp55+zcDCdds56llDO+Op43qvW8iK4zu+AObz1LYHyMh9q47sBmOYA 98xp5O5T1EbdNTpD/cGNlgvl/Ik6eyhqKhcsdMV8ACnBXLvXDyA3IYmBRRb8b/4u5yef aKP5HkLKJyEuCAEbdep4fwLDKp578QvMdmvPy3qWcxTxKtMZAzAUkGZWVAVUw8ruzoFb H/Fitp+Eoy+DQzF2hJhVabRNXmln0SclIrY+8t45xRwH12RjZpWd7o/ADbDleXQCDaDM VPRcZsBbs4jOfpLKU+BOXp4mCoByjo+Iyv7/oG6HiwbHCZ47PufMhcNOtIW6zwbBX1Gy UA5A== X-Gm-Message-State: AOJu0YxPMUH8yzzFK8GhMyJq4g0vwF2Zzzz0VbMTva6/lANGnvT7q/up eli3I/ZRqKg1wCUpS46l8fxMpogejPJH9ydUty5nePdpq90q38+a6dPedwHgiZYIdv9sBXYWI8q LVTimHB9FoB3GLGD+K2ZEyXAd137hlUBkXZ3oLSmJXhabkhapIzBT72ti X-Gm-Gg: ASbGncvIMyJW0G6DQ5nn0U/O+3lElSACVJA1ecCeATcY7mM/TvZ2P+GSHrAtgguO2QY djkgeNR+NESHQOTx+woyDNJVYVhnpbF7kYsYmztFFZOKhcqsJvAjyRu3tvS9yh2sjlK0jn4IDzA cf9gxoZjHCTFjWVQzB9ditzs3Q1wPnItjEFXBVthmsToVXIXhaejhVKwefz2V7MzuC4FeLGgbjd JNI6JPLQ97fTRVGAa0p57hHUuTdRxb3GOx6xzvX/zk38xLP84qTOFVYTw2ior3JeUBtJMJr7kOp uaIlknAK5nShNdeGi7W8E9uGdm2fqTHmVSIYb4kQ7Q== X-Google-Smtp-Source: AGHT+IEsH2Swe7TgBD7gQPQ6P+vj7coLy2Ud1701NK4uTE83r83YwkjviExMwam5JBhL9axyKrvi2hZfqTcy X-Received: by 2002:a05:6902:2803:b0:e4d:89e9:6a96 with SMTP id 3f1490d57ef6-e5dc904779bmr14847025276.18.1740052426578; Thu, 20 Feb 2025 03:53:46 -0800 (PST) Received: from postal.iol.unh.edu (postal.iol.unh.edu. [2606:4100:3880:1234::84]) by smtp-relay.gmail.com with ESMTPS id 3f1490d57ef6-e5dae155ea4sm788547276.27.2025.02.20.03.53.46 (version=TLS1_2 cipher=ECDHE-ECDSA-AES128-GCM-SHA256 bits=128/128); Thu, 20 Feb 2025 03:53:46 -0800 (PST) X-Relaying-Domain: iol.unh.edu Date: Thu, 20 Feb 2025 03:53:46 -0800 (PST) Message-ID: <67b717ca.250a0220.317968.90cdSMTPIN_ADDED_MISSING@mx.google.com> Received: from [172.17.0.4] (unknown [172.18.0.217]) by postal.iol.unh.edu (Postfix) with ESMTP id 227C46052471; Thu, 20 Feb 2025 06:53:46 -0500 (EST) Subject: |SUCCESS| pw151681-151682 [PATCH] [2/2] app/testpmd: fix segment fau From: dpdklab@iol.unh.edu To: Test Report Cc: dpdk-test-reports@iol.unh.edu In-Reply-To: <20250220070651.42123-3-fengchengwen@huawei.com> References: <20250220070651.42123-3-fengchengwen@huawei.com> Content-Type: text/plain X-BeenThere: test-report@dpdk.org X-Mailman-Version: 2.1.29 Precedence: list List-Id: automatic DPDK test reports List-Unsubscribe: , List-Archive: List-Post: List-Help: List-Subscribe: , Errors-To: test-report-bounces@dpdk.org Test-Label: iol-abi-testing Test-Status: SUCCESS http://dpdk.org/patch/151682 _Testing PASS_ Submitter: Chengwen Feng Date: Thursday, February 20 2025 07:06:51 DPDK git baseline: Repo:dpdk Branch: master CommitID:2ada41444942b5b6562923c6250ec75c77842c2a 151681-151682 --> testing pass Upstream job id: Generic-DPDK-Compile-ABI#116870 Test environment and result as below: +-------------------+----------+ | Environment | abi_test | +===================+==========+ | CentOS Stream 9 | PASS | +-------------------+----------+ | CentOS Stream 10 | PASS | +-------------------+----------+ | Debian Bullseye | PASS | +-------------------+----------+ | Fedora 40 (Clang) | PASS | +-------------------+----------+ | Fedora 41 | PASS | +-------------------+----------+ | Debian 12 | PASS | +-------------------+----------+ | Fedora 41 (Clang) | PASS | +-------------------+----------+ | Fedora 40 | PASS | +-------------------+----------+ | openSUSE Leap 15 | PASS | +-------------------+----------+ | RHEL8 | PASS | +-------------------+----------+ | RHEL9 | PASS | +-------------------+----------+ | Ubuntu 22.04 | PASS | +-------------------+----------+ | Ubuntu 24.04 | PASS | +-------------------+----------+ CentOS Stream 9 Kernel: Depends on container host Compiler: gcc 11.5.0 20240719 (Red Hat 11.5.0-2) CentOS Stream 10 Kernel: Depends on container host Compiler: gcc 14.2.1 20241104 (Red Hat 14.2.1-6) Debian Bullseye Kernel: Depends on container host Compiler: gcc (Debian 10.2.1-6) 10.2.1 20210110 Fedora 40 (Clang) Kernel: Depends on container host Compiler: clang 18.1.8 (Fedora 18.1.8-1.fc40) Fedora 41 Kernel: Depends on container host Compiler: gcc 14.2.1 20240912 (Red Hat 14.2.1-3) Debian 12 Kernel: Depends on container host Compiler: gcc (Debian 12.2.0-14) 12.2.0 Fedora 41 (Clang) Kernel: Depends on container host Compiler: clang 19.1.5 (Fedora 19.1.5-1.fc41) Fedora 40 Kernel: Depends on container host Compiler: gcc 14.2.1 20240912 (Red Hat 14.2.1-3) openSUSE Leap 15 Kernel: Depends on container host Compiler: gcc (SUSE Linux) 7.5.0 RHEL8 Kernel: Depends on container host Compiler: gcc 8.5.0 20210514 (Red Hat 8.5.0-22) RHEL9 Kernel: Depends on container host Compiler: gcc 11.5.0 20240719 (Red Hat 11.5.0-2) Ubuntu 22.04 Kernel: Depends on container host Compiler: gcc (Ubuntu 11.4.0-1ubuntu1~22.04) 11.4.0 Ubuntu 24.04 Kernel: Depends on container host Compiler: gcc (Ubuntu 13.3.0-6ubuntu2~24.04) 13.3.0 To view detailed results, visit: https://lab.dpdk.org/results/dashboard/patchsets/32617/ UNH-IOL DPDK Community Lab To manage your email subscriptions, visit: https://lab.dpdk.org/results/dashboard/preferences/subscriptions/