From mboxrd@z Thu Jan 1 00:00:00 1970 Return-Path: Received: from mails.dpdk.org (mails.dpdk.org [217.70.189.124]) by inbox.dpdk.org (Postfix) with ESMTP id 6624546278 for ; Thu, 20 Feb 2025 13:00:50 +0100 (CET) Received: from mails.dpdk.org (localhost [127.0.0.1]) by mails.dpdk.org (Postfix) with ESMTP id 4735D4014F; Thu, 20 Feb 2025 13:00:50 +0100 (CET) Received: from mail-pl1-f228.google.com (mail-pl1-f228.google.com [209.85.214.228]) by mails.dpdk.org (Postfix) with ESMTP id 07F3040041 for ; Thu, 20 Feb 2025 13:00:49 +0100 (CET) Received: by mail-pl1-f228.google.com with SMTP id d9443c01a7336-2211acda7f6so15372945ad.3 for ; Thu, 20 Feb 2025 04:00:48 -0800 (PST) DKIM-Signature: v=1; a=rsa-sha256; c=relaxed/relaxed; d=iol.unh.edu; s=unh-iol; t=1740052848; x=1740657648; darn=dpdk.org; h=cc:to:from:subject:message-id:date:from:to:cc:subject:date :message-id:reply-to; bh=B6NLiFektjrFxtbgBzgRVWwqHi31pgaqumS7rGTMRVo=; b=D2GaJTIn7zjBLKn7BlTtjKNGbjyf5QBu6ma7HFHrX7picXbIYfQYnVFHJs2pIwu+hW EsT5o+mkm1C/dGMtuilqhdOcNihW48FW6mKKvOwUXRsu2VowfLvAuRnuVDHCQfmPYUKB jBKZz3XTTNt9E2w93uqDwj5sjWLUQfMvcb7lM= X-Google-DKIM-Signature: v=1; a=rsa-sha256; c=relaxed/relaxed; d=1e100.net; s=20230601; t=1740052848; x=1740657648; h=cc:to:from:subject:message-id:date:x-gm-message-state:from:to:cc :subject:date:message-id:reply-to; bh=B6NLiFektjrFxtbgBzgRVWwqHi31pgaqumS7rGTMRVo=; b=HCer7Djd6hnUAeCO+PSZPVTn/okhXvACYEUi37zyUGN+TKgvtA+ikWCPZ/2xaFI/Os K975Vp4oLB+ajX48cJLxNhha2eeBN4AFIR3/iKGsP7j20XLBfeDmt5MV/Q1k5IR62K0Q eZgzh8sAZBbOCQydBSCMH1g9wbnfM42iZ5+35Rx4pfsgR6ZkPAJsOnRocdDZb/DOUVqQ dgBCIAW1iw4GvhPmfOpZiy49621yB7DKaWhQr5hJ3zWzOl6ez/nSeeGwrs650gXlX4jn gkcAqWBISFeEbi0e/Id1/CMflNcTREnhMnfKq6NXv8Eo5QBvFzzJs2K32cj+0ufKAwPk AKaA== X-Gm-Message-State: AOJu0YwkkK5xeLn8EIBILFqtn6dX3c+mb223a5Jhp7sg+rrJWgENPmGT qtb/yJYZsPw687CMUVl+PH5h087C48dTqMUk8hSLIL6KwskZ/2qHJEP+4JFNiop9WmYNHW/E2LM OvkoI9pjpf8eadzoMHQuhy0sPbGUzSBZ4BynCPeAl X-Gm-Gg: ASbGnctUFWKIrkwf7Rya4GBvw3pMKb+OvqoBV2t8hO0msc2Lpw9OPyf7l2b40a8dFfW fH7j3bya3SG9atM/Xa9vGTjWFcjUFG6KvhgNhc0LPmBYaJr2vCrQ5H9leOu6edIWD4xQpBl8Mli +bEJ+RBn6OKvPElsDxCn9NqHAUmmgUq26gQP+Ws33nC+07+t6tpPtV9FP9NwwTdX3L4Q3STyIh4 XxvbkPLmmn3/MfnLwAWEA9MYhsTjruEnCk3pCDMvRTyevoFE7FRC+zukEynX7t/DUeF2NIvIGTf MnTQm4tDKjqIZ+8LZg5dS5T2X9ACrA== X-Google-Smtp-Source: AGHT+IHNRk7u5S8QURTb8BzL0KbozY5szBxuvLlSKjTNXEOn0ZDu87G0jueWfKh9b24oz9Y4Sgj8/cZBbcAG X-Received: by 2002:a05:6a21:692:b0:1ee:615c:6c99 with SMTP id adf61e73a8af0-1eed4e53178mr11714465637.5.1740052847889; Thu, 20 Feb 2025 04:00:47 -0800 (PST) Received: from postal.iol.unh.edu (postal.iol.unh.edu. [132.177.123.84]) by smtp-relay.gmail.com with ESMTPS id d2e1a72fcca58-732425461a5sm1157592b3a.5.2025.02.20.04.00.47 (version=TLS1_2 cipher=ECDHE-ECDSA-AES128-GCM-SHA256 bits=128/128); Thu, 20 Feb 2025 04:00:47 -0800 (PST) X-Relaying-Domain: iol.unh.edu Date: Thu, 20 Feb 2025 04:00:47 -0800 (PST) Message-ID: <67b7196f.050a0220.d5e85.8df7SMTPIN_ADDED_MISSING@mx.google.com> Received: from [172.17.0.5] (unknown [172.18.0.217]) by postal.iol.unh.edu (Postfix) with ESMTP id 07BDA6052471; Thu, 20 Feb 2025 07:00:46 -0500 (EST) Subject: |SUCCESS| [GIT MASTER] 2ada41444942b5b6562923c6250ec75c77842c2a From: dpdklab@iol.unh.edu To: Test Report Cc: dpdk-test-reports@iol.unh.edu, Stephen Hemminger Content-Type: text/plain X-BeenThere: test-report@dpdk.org X-Mailman-Version: 2.1.29 Precedence: list List-Id: automatic DPDK test reports List-Unsubscribe: , List-Archive: List-Post: List-Help: List-Subscribe: , Errors-To: test-report-bounces@dpdk.org _Testing PASS_ Branch: dpdk-next-net 2ada41444942b5b6562923c6250ec75c77842c2a --> testing pass Upstream job id: Windows-Compile-DPDK-Native#26787 Test environment and result as below: +---------------------+--------------------+-------------------+------------------+-------------------+-------------------------+ | Environment | dpdk_meson_compile | dpdk_compile_spdk | dpdk_compile_ovs | dpdk_msvc_compile | dpdk_llvm_clang_compile | +=====================+====================+===================+==================+===================+=========================+ | CentOS Stream 9 | PASS | PASS | SKIPPED | SKIPPED | SKIPPED | +---------------------+--------------------+-------------------+------------------+-------------------+-------------------------+ | Fedora 40 (Clang) | PASS | PASS | SKIPPED | SKIPPED | SKIPPED | +---------------------+--------------------+-------------------+------------------+-------------------+-------------------------+ | CentOS Stream 10 | PASS | SKIPPED | SKIPPED | SKIPPED | SKIPPED | +---------------------+--------------------+-------------------+------------------+-------------------+-------------------------+ | Debian Bullseye | PASS | PASS | SKIPPED | SKIPPED | SKIPPED | +---------------------+--------------------+-------------------+------------------+-------------------+-------------------------+ | Debian 12 | PASS | PASS | SKIPPED | SKIPPED | SKIPPED | +---------------------+--------------------+-------------------+------------------+-------------------+-------------------------+ | Fedora 40 | PASS | PASS | SKIPPED | SKIPPED | SKIPPED | +---------------------+--------------------+-------------------+------------------+-------------------+-------------------------+ | Fedora 41 (Clang) | PASS | PASS | PASS | SKIPPED | SKIPPED | +---------------------+--------------------+-------------------+------------------+-------------------+-------------------------+ | Fedora 41 | PASS | PASS | PASS | SKIPPED | SKIPPED | +---------------------+--------------------+-------------------+------------------+-------------------+-------------------------+ | openSUSE Leap 15 | PASS | SKIPPED | SKIPPED | SKIPPED | SKIPPED | +---------------------+--------------------+-------------------+------------------+-------------------+-------------------------+ | RHEL8 | PASS | SKIPPED | SKIPPED | SKIPPED | SKIPPED | +---------------------+--------------------+-------------------+------------------+-------------------+-------------------------+ | Ubuntu 20.04 | PASS | SKIPPED | SKIPPED | SKIPPED | SKIPPED | +---------------------+--------------------+-------------------+------------------+-------------------+-------------------------+ | RHEL9 | PASS | SKIPPED | SKIPPED | SKIPPED | SKIPPED | +---------------------+--------------------+-------------------+------------------+-------------------+-------------------------+ | Ubuntu 24.04 | PASS | PASS | PASS | SKIPPED | SKIPPED | +---------------------+--------------------+-------------------+------------------+-------------------+-------------------------+ | Ubuntu 22.04 | PASS | PASS | SKIPPED | SKIPPED | SKIPPED | +---------------------+--------------------+-------------------+------------------+-------------------+-------------------------+ | Alpine | PASS | SKIPPED | SKIPPED | SKIPPED | SKIPPED | +---------------------+--------------------+-------------------+------------------+-------------------+-------------------------+ | FreeBSD 13.4 | PASS | SKIPPED | SKIPPED | SKIPPED | SKIPPED | +---------------------+--------------------+-------------------+------------------+-------------------+-------------------------+ | FreeBSD 14.2 | PASS | SKIPPED | SKIPPED | SKIPPED | SKIPPED | +---------------------+--------------------+-------------------+------------------+-------------------+-------------------------+ | Windows Server 2022 | SKIPPED | SKIPPED | SKIPPED | PASS | PASS | +---------------------+--------------------+-------------------+------------------+-------------------+-------------------------+ CentOS Stream 9 Kernel: Depends on container host Compiler: gcc 11.5.0 20240719 (Red Hat 11.5.0-2) Fedora 40 (Clang) Kernel: Depends on container host Compiler: clang 18.1.8 (Fedora 18.1.8-1.fc40) CentOS Stream 10 Kernel: Depends on container host Compiler: gcc 14.2.1 20241104 (Red Hat 14.2.1-6) Debian Bullseye Kernel: Depends on container host Compiler: gcc (Debian 10.2.1-6) 10.2.1 20210110 Debian 12 Kernel: Depends on container host Compiler: gcc (Debian 12.2.0-14) 12.2.0 Fedora 40 Kernel: Depends on container host Compiler: gcc 14.2.1 20240912 (Red Hat 14.2.1-3) Fedora 41 (Clang) Kernel: Depends on container host Compiler: clang 19.1.5 (Fedora 19.1.5-1.fc41) Fedora 41 Kernel: Depends on container host Compiler: gcc 14.2.1 20240912 (Red Hat 14.2.1-3) openSUSE Leap 15 Kernel: Depends on container host Compiler: gcc (SUSE Linux) 7.5.0 RHEL8 Kernel: Depends on container host Compiler: gcc 8.5.0 20210514 (Red Hat 8.5.0-22) Ubuntu 20.04 Kernel: Depends on container host Compiler: gcc (Ubuntu 9.4.0-1ubuntu1~20.04.2) 9.4.0 RHEL9 Kernel: Depends on container host Compiler: gcc 11.5.0 20240719 (Red Hat 11.5.0-2) Ubuntu 24.04 Kernel: Depends on container host Compiler: gcc (Ubuntu 13.3.0-6ubuntu2~24.04) 13.3.0 Ubuntu 22.04 Kernel: Depends on container host Compiler: gcc (Ubuntu 11.4.0-1ubuntu1~22.04) 11.4.0 Alpine Kernel: Depends on container host Compiler: gcc (Alpine 14.2.0) 14.2.0 FreeBSD 13.4 Kernel: 13.4-RELEASE-p1 Compiler: clang 18.1.6 FreeBSD 14.2 Kernel: 14.2-RELEASE Compiler: clang 18.1.6 Windows Server 2022 Kernel: 10.0.20348.2031 Compiler: clang 15.0.7, gcc 14.1.0 (MinGW), and MSVC VS 19.39.33521 To view detailed results, visit: https://lab.dpdk.org/results/dashboard/tarballs/32632/ UNH-IOL DPDK Community Lab To manage your email subscriptions, visit: https://lab.dpdk.org/results/dashboard/preferences/subscriptions/