From mboxrd@z Thu Jan 1 00:00:00 1970 Return-Path: Received: from mails.dpdk.org (mails.dpdk.org [217.70.189.124]) by inbox.dpdk.org (Postfix) with ESMTP id 29D6F46278 for ; Thu, 20 Feb 2025 13:37:51 +0100 (CET) Received: from mails.dpdk.org (localhost [127.0.0.1]) by mails.dpdk.org (Postfix) with ESMTP id 039CA40041; Thu, 20 Feb 2025 13:37:51 +0100 (CET) Received: from mail-io1-f100.google.com (mail-io1-f100.google.com [209.85.166.100]) by mails.dpdk.org (Postfix) with ESMTP id 4183B4003C for ; Thu, 20 Feb 2025 13:37:49 +0100 (CET) Received: by mail-io1-f100.google.com with SMTP id ca18e2360f4ac-851c4f1fb18so39345939f.2 for ; Thu, 20 Feb 2025 04:37:49 -0800 (PST) DKIM-Signature: v=1; a=rsa-sha256; c=relaxed/relaxed; d=iol.unh.edu; s=unh-iol; t=1740055068; x=1740659868; darn=dpdk.org; h=cc:to:from:subject:message-id:date:from:to:cc:subject:date :message-id:reply-to; bh=BXkIOY7HAXwHXLsJjRpf2/5D2i8/tAtBpN76LDATIMA=; b=S6qDbkay3/2n9p5O7bqiZNCNUF8+5d2cDpg/iqYoZa6+8FCx4c3hUfxhxTenJaHixJ 5dojnmmwNkbislgmwgR5AILM0vrVc0d+SL5JHLB+ic65MzFkct1u4fKFWhTXcilQlrSs lTl3a0hsvqBqxq9tob7FgFPYeebAdbtmnB2iQ= X-Google-DKIM-Signature: v=1; a=rsa-sha256; c=relaxed/relaxed; d=1e100.net; s=20230601; t=1740055068; x=1740659868; h=cc:to:from:subject:message-id:date:x-gm-message-state:from:to:cc :subject:date:message-id:reply-to; bh=BXkIOY7HAXwHXLsJjRpf2/5D2i8/tAtBpN76LDATIMA=; b=KuivZ9Y9BuJffIs9nlcSkF8wzbW3Vd4tML/xfX47uSvc2EW1HhoB5N6f4zskxFycin qr/wXa+qfpRQ+GiNujpPU/20EyilPrdsV/b7hnXNWEuwtpdUxkF14kRhdEJEi65/FBE6 JPvNEkN4K+917HoTO8tyT3mdDgnesG/MyWhaXYL9qS2cmWrTHXDX1/2HwQHKVp0MQuhK bYCcjVtza22LNA8xzQMPH16mYlSCjF6f29Z8G0DFRINCBikaGxpTIkpkrmyLzGZBoJFS DVwYflBNXz9BB8olcmnc2RkQ8P2YFEmLqkp0XjztHJDr+1HTE9QMevqMv8iDjkUpeFX0 qveQ== X-Gm-Message-State: AOJu0YxfePnYhyYo6bs6QmTx4ZMilh5FJIfIdYxuoVdK8rjiU4KPf/Jo lpoY0PIpRvgQCM/lWmbqxa9B2egnQieBfjDkRr4aumaYlVTp9xOKBaKUVZuC65UepNqCnawaUEi CZThXsH0ri9KOggjJULhGdDqXrWAXCOinTR8OR2gUsy/0EUFiz3xJ/sd9 X-Gm-Gg: ASbGncst7Y6Ake6VlpDUJrLRj0vwhsdi3ZCjPHkkRzVvbWUeULuRPygxVz3qQBKH0p4 TeN6nPo8xFT141PFBMGWq11Q+iSBDv4LgiZn1XyA6H7R0a/RHgXwnTmz81cnCkYZADyMjVdf1pB QS50h6A6w5TraNYy2jnRMhiB5snHC9+ogbt4/OfY1Hmf8cu2hZOd4bio5AH88KkNLvmDwN6MOtz C5zRP7REoGFCb6qeorFssDAqnNM8URiBN2fTTi/EOS6fPwahNdAHqZbgOiDZCykH4cZY+fu+smg LN3i9UELwHgHsN/BIyrQ3H1OzYW1k+a5okA+aRc8bA== X-Google-Smtp-Source: AGHT+IF7y37jdy+XZdOaLVS3Cj9a44F9qhySFgJsamPTfvp0EEtQwQ2oE09pxufGpA20m47Vs93dG70fIkNF X-Received: by 2002:a92:c26c:0:b0:3d1:883c:6e86 with SMTP id e9e14a558f8ab-3d2b5296496mr80123445ab.8.1740055068244; Thu, 20 Feb 2025 04:37:48 -0800 (PST) Received: from postal.iol.unh.edu (postal.iol.unh.edu. [2606:4100:3880:1234::84]) by smtp-relay.gmail.com with ESMTPS id e9e14a558f8ab-3d29793a78fsm5529285ab.50.2025.02.20.04.37.48 (version=TLS1_2 cipher=ECDHE-ECDSA-AES128-GCM-SHA256 bits=128/128); Thu, 20 Feb 2025 04:37:48 -0800 (PST) X-Relaying-Domain: iol.unh.edu Date: Thu, 20 Feb 2025 04:37:48 -0800 (PST) Message-ID: <67b7221c.050a0220.338bf9.ab60SMTPIN_ADDED_MISSING@mx.google.com> Received: from [172.17.0.3] (unknown [172.18.0.217]) by postal.iol.unh.edu (Postfix) with ESMTP id AE2A36052471; Thu, 20 Feb 2025 07:37:47 -0500 (EST) Subject: |SUCCESS| [GIT MASTER] 2ada41444942b5b6562923c6250ec75c77842c2a From: dpdklab@iol.unh.edu To: Test Report Cc: dpdk-test-reports@iol.unh.edu, Stephen Hemminger Content-Type: text/plain X-BeenThere: test-report@dpdk.org X-Mailman-Version: 2.1.29 Precedence: list List-Id: automatic DPDK test reports List-Unsubscribe: , List-Archive: List-Post: List-Help: List-Subscribe: , Errors-To: test-report-bounces@dpdk.org _Testing PASS_ Branch: dpdk-next-net 2ada41444942b5b6562923c6250ec75c77842c2a --> testing pass Upstream job id: ACVP-FIPS-testing#8969 Test environment and result as below: +--------------------+----------------------+----------------------+ | Environment | compressdev_zlib_pmd | dpdk_fips_validation | +====================+======================+======================+ | Ubuntu 22.04 (ARM) | PASS | SKIPPED | +--------------------+----------------------+----------------------+ | Ubuntu 22.04 | PASS | SKIPPED | +--------------------+----------------------+----------------------+ | Ubuntu 20.04 | SKIPPED | PASS | +--------------------+----------------------+----------------------+ Ubuntu 22.04 (ARM) Kernel: 5.15.0-97-generic Compiler: gcc gcc (Ubuntu 11.4.0-1ubuntu1~22.04) 11.4.0 Ubuntu 22.04 Kernel: 5.15.0-100-generic Compiler: gcc gcc (Ubuntu 11.4.0-1ubuntu1~22.04) 11.4.0 Ubuntu 20.04 Kernel: Depends on container host Compiler: gcc (Ubuntu 9.4.0-1ubuntu1~20.04.2) 9.4.0 To view detailed results, visit: https://lab.dpdk.org/results/dashboard/tarballs/32632/ UNH-IOL DPDK Community Lab To manage your email subscriptions, visit: https://lab.dpdk.org/results/dashboard/preferences/subscriptions/