From mboxrd@z Thu Jan 1 00:00:00 1970 Return-Path: Received: from mails.dpdk.org (mails.dpdk.org [217.70.189.124]) by inbox.dpdk.org (Postfix) with ESMTP id B0B9E4627B for ; Thu, 20 Feb 2025 14:44:06 +0100 (CET) Received: from mails.dpdk.org (localhost [127.0.0.1]) by mails.dpdk.org (Postfix) with ESMTP id 9D7BB40041; Thu, 20 Feb 2025 14:44:06 +0100 (CET) Received: from mail-oo1-f97.google.com (mail-oo1-f97.google.com [209.85.161.97]) by mails.dpdk.org (Postfix) with ESMTP id 8719D4003C for ; Thu, 20 Feb 2025 14:44:04 +0100 (CET) Received: by mail-oo1-f97.google.com with SMTP id 006d021491bc7-5f89aa7a101so376291eaf.2 for ; Thu, 20 Feb 2025 05:44:04 -0800 (PST) DKIM-Signature: v=1; a=rsa-sha256; c=relaxed/relaxed; d=iol.unh.edu; s=unh-iol; t=1740059043; x=1740663843; darn=dpdk.org; h=references:in-reply-to:cc:to:from:subject:message-id:date:from:to :cc:subject:date:message-id:reply-to; bh=AMuZiI0JYx0h6aONpqtvu7KSYUb4h4Syp8gjBGnGPVk=; b=SZQjUVSljLIlil8Qwz9zGkq4/zvq2tcU/mUjdqTtQsresfL2hdir5Wd7DyYNW1o8lD Kuu/K0DKjHm8XNsJOM2d5RRGvU5Fhb6UU7RVkSTkEUIM8Vs3yKPqZtSuf1o21K8cqKHQ 2SPfcjl6SD7qS1SkYiLUOPgtFPMKQsjWAUFpI= X-Google-DKIM-Signature: v=1; a=rsa-sha256; c=relaxed/relaxed; d=1e100.net; s=20230601; t=1740059043; x=1740663843; h=references:in-reply-to:cc:to:from:subject:message-id:date :x-gm-message-state:from:to:cc:subject:date:message-id:reply-to; bh=AMuZiI0JYx0h6aONpqtvu7KSYUb4h4Syp8gjBGnGPVk=; b=Inph72Wh+r4vPmPGeJhvchW6YC4cTAAn49NBswf0RuKEIELS1Pp3F891PMuYV8HYro MekrghV01rUHFG+cqTuKh/HecR8e3Sud7veXV5g24Qn85P18zAaR7Jy0UIJjbd3bK5SB pK5pXOaP51Ax80YpWsF3d+Q2v4h4XEOI328q10eQ4rjwKgXpPvzhhdj0qU9mPJJQK5ef HiWUWifEqzs59SNb9ae6fpMAstD94hzDwzg87XL4bOs9kY1st8tALTVzIWo6O9D6Kg3S 2LcXMpOozDC6d7NJSn1xPCfuVhyAFvSolBCysh5WHgQv2Nh04TqpMcPLGPnxMjOyj9Tn t75g== X-Gm-Message-State: AOJu0Ywyi0yax/+kLpg4r2Zab0KfqoYCZE4UnWj+Watvj78zM8RlXA4g e+dJ5zTrXONi6GWGHcB933tvW3ZurlPYAEEr/UVESunAXu/CRkuCvnqJzn8nZA5v8V1u6rx5Giw ShkxOyiEqNEAH6Z0paQ6nhFVNF5Qv/EeeTsSCqfd2 X-Gm-Gg: ASbGncvQm0maTctxfeHw6zqoB3EpZ1kTB5PSsK/noh3h8ORyI5QZA2Q5iNKRRwipC+g QeHw4RSYbia2BlVX1OhM4P73nyBVLw6dYbJiFK6uJ8yTuUkVhn55L5+ZxCYEaSMbrYwy7zCuZcC /1kTzISW4h3GrJ6BcaGTeOj0WyB4P4YosnJ0vvYHmlB8XZV1hiWzJw3FbHywmVT6JU4CvnAsgl+ ZtG4JFYM1Y2RQqFek3t3wzR/u4rFcK90LrHFYiKlF6i+MJ08tyqdm/9/EgYI+iwexOMDPKSphbJ fjIwkthPKkUD/vzDlwQ1V43ZjqDicg== X-Google-Smtp-Source: AGHT+IEH0ui/+W1EXGelE8snw6lxXYTV8D/Tq+/yyKfkyrPWpM4PR8P3MbPCqNrUy5ZyA3hJCDyYf2rEDl5t X-Received: by 2002:a05:6820:1b86:b0:5fd:82c:1d5 with SMTP id 006d021491bc7-5fd082c0226mr3338873eaf.8.1740059043735; Thu, 20 Feb 2025 05:44:03 -0800 (PST) Received: from postal.iol.unh.edu (postal.iol.unh.edu. [132.177.123.84]) by smtp-relay.gmail.com with ESMTPS id 006d021491bc7-5fcdf26be06sm299629eaf.9.2025.02.20.05.44.03 (version=TLS1_2 cipher=ECDHE-ECDSA-AES128-GCM-SHA256 bits=128/128); Thu, 20 Feb 2025 05:44:03 -0800 (PST) X-Relaying-Domain: iol.unh.edu Date: Thu, 20 Feb 2025 05:44:03 -0800 (PST) Message-ID: <67b731a3.4a0a0220.1f2955.e772SMTPIN_ADDED_MISSING@mx.google.com> Received: from [172.21.0.6] (unknown [172.18.0.240]) by postal.iol.unh.edu (Postfix) with ESMTP id 2EACB6052471; Thu, 20 Feb 2025 08:44:03 -0500 (EST) Subject: |SUCCESS| pw151683 [PATCH] net/mlx5: fix err message overwrite for a From: dpdklab@iol.unh.edu To: Test Report Cc: dpdk-test-reports@iol.unh.edu In-Reply-To: <20250220070850.6661-1-junfengg@nvidia.com> References: <20250220070850.6661-1-junfengg@nvidia.com> Content-Type: text/plain X-BeenThere: test-report@dpdk.org X-Mailman-Version: 2.1.29 Precedence: list List-Id: automatic DPDK test reports List-Unsubscribe: , List-Archive: List-Post: List-Help: List-Subscribe: , Errors-To: test-report-bounces@dpdk.org Test-Label: iol-sample-apps-testing Test-Status: SUCCESS http://dpdk.org/patch/151683 _Testing PASS_ Submitter: Junfeng Guo Date: Thursday, February 20 2025 07:08:50 DPDK git baseline: Repo:dpdk Branch: master CommitID:046cca99c3fd03bfb95d3e27a56aab40c2c8f45a 151683 --> testing pass Upstream job id: ACVP-FIPS-testing#8970 Test environment and result as below: +--------------------+----------------------+----------------------+ | Environment | compressdev_zlib_pmd | dpdk_fips_validation | +====================+======================+======================+ | Ubuntu 22.04 (ARM) | PASS | SKIPPED | +--------------------+----------------------+----------------------+ | Ubuntu 22.04 | PASS | SKIPPED | +--------------------+----------------------+----------------------+ | Ubuntu 20.04 | SKIPPED | PASS | +--------------------+----------------------+----------------------+ Ubuntu 22.04 (ARM) Kernel: 5.15.0-97-generic Compiler: gcc gcc (Ubuntu 11.4.0-1ubuntu1~22.04) 11.4.0 Ubuntu 22.04 Kernel: 5.15.0-100-generic Compiler: gcc gcc (Ubuntu 11.4.0-1ubuntu1~22.04) 11.4.0 Ubuntu 20.04 Kernel: Depends on container host Compiler: gcc (Ubuntu 9.4.0-1ubuntu1~20.04.2) 9.4.0 To view detailed results, visit: https://lab.dpdk.org/results/dashboard/patchsets/32618/ UNH-IOL DPDK Community Lab To manage your email subscriptions, visit: https://lab.dpdk.org/results/dashboard/preferences/subscriptions/