From mboxrd@z Thu Jan 1 00:00:00 1970 Return-Path: Received: from mails.dpdk.org (mails.dpdk.org [217.70.189.124]) by inbox.dpdk.org (Postfix) with ESMTP id A253C4627D for ; Thu, 20 Feb 2025 14:55:18 +0100 (CET) Received: from mails.dpdk.org (localhost [127.0.0.1]) by mails.dpdk.org (Postfix) with ESMTP id 9309040041; Thu, 20 Feb 2025 14:55:18 +0100 (CET) Received: from mail-pj1-f98.google.com (mail-pj1-f98.google.com [209.85.216.98]) by mails.dpdk.org (Postfix) with ESMTP id ECD834003C for ; Thu, 20 Feb 2025 14:55:17 +0100 (CET) Received: by mail-pj1-f98.google.com with SMTP id 98e67ed59e1d1-2fc32756139so1509186a91.1 for ; Thu, 20 Feb 2025 05:55:17 -0800 (PST) DKIM-Signature: v=1; a=rsa-sha256; c=relaxed/relaxed; d=iol.unh.edu; s=unh-iol; t=1740059717; x=1740664517; darn=dpdk.org; h=references:in-reply-to:cc:to:from:subject:message-id:date:from:to :cc:subject:date:message-id:reply-to; bh=HHBSXkC5etw6QcmA+Tdaj7cqXFwoV4hceaXTDDrZAng=; b=c+KKKHabdj7j6SbnTog9g5MfgwQ6AA2oH7EnPH2KxTyPDKoDr+i5V960II7upU6/1B vyKAoV2qDqvTGefoX//q7T8+pCRIvF5BdYOnbr3ozFBgqV0XGflPFHE7FPbJ05wAoSjt OBZ+yyPI1trgQuiCnneEoPUfXaWq4xfCglBtA= X-Google-DKIM-Signature: v=1; a=rsa-sha256; c=relaxed/relaxed; d=1e100.net; s=20230601; t=1740059717; x=1740664517; h=references:in-reply-to:cc:to:from:subject:message-id:date :x-gm-message-state:from:to:cc:subject:date:message-id:reply-to; bh=HHBSXkC5etw6QcmA+Tdaj7cqXFwoV4hceaXTDDrZAng=; b=kaiA0T5vGhfE+sS+EiUrk3ZN2ngcUtxm8CL/sRKDQp6B1fUWafGhxnQ9AgmP1PHFvX VPMpkq/kilsb3GyQR8V+TOc/j1ep8yZu5UI5u1UJK1ASNMhsgSvCYjGQ24fqy9E35o2Q 0dzCS2sv52pu0VN6atl00FdMZ8mlw7zvtVkGQQw9oyKxNWlTL59zPpOdZRnLX4wnYKOq fGYuIQ2RvUW6+8OPLgUOnfwFys9dJ6PLEoz9S9r0LRFvJZLzbiPn7NU56monSq5bKSFh DeMhplDCZ1UOLGRlCS7JynLg0m4SgLoMY/w963b0hwSSgd6AbYrWq91DTspWc5597fet PNxQ== X-Gm-Message-State: AOJu0YwueJ7q42wiOFBFTXoKd8xgC7g6OogYd41VkOwkGNVgDJrPHcd4 5CyXEGP8hzjSJnAm7taLzJgLP/ZYhBYy6cE7P6MpMWg7qApbU/dWN9XLQkQvIsU8lnD92xfF+uH iMlo4pA5qaFrk7MJSZVJIWVgj8hiBrmvo5A/I0CjI X-Gm-Gg: ASbGncuZAFX5xurgt/oxovZPI9GRFTsTayC+xfg/vOuFY9cP6ShnygKuYeXMun4mp9T hEp7aN44cGHqh0FLqxOAHUOD5R2yMcRSpKlPIsBtxYC+EpL5xeSNNDLkK4fP9hCuZ/aZW47gScJ sGuvftI5cyuEkru/4AYmCrlru0cPVe/OFf4ccsxqiUhB18LF9WBM16ELSQIGhIyOwAkU9EvvFKu NsM0b0oYF5oh5yyDaLJSdb1la61IKnHVJGuDj5JNvzPf61mSQm0MQ/AvsVuJsIXn74lhySRczPg 80T4gqo4zYaLBMXN8vrVh4WdhQSKhg== X-Google-Smtp-Source: AGHT+IEORWzAza9k6Hm1C1CQu/z4uplfI7WZMpdn5gR90+CnFZS1ymfW3L1Ve/JWwsY0KURwgTN1qwEcp+j5 X-Received: by 2002:a17:90b:384d:b0:2ee:5edc:4b2 with SMTP id 98e67ed59e1d1-2fc40f22d33mr34269810a91.20.1740059717026; Thu, 20 Feb 2025 05:55:17 -0800 (PST) Received: from postal.iol.unh.edu (postal.iol.unh.edu. [132.177.123.84]) by smtp-relay.gmail.com with ESMTPS id 98e67ed59e1d1-2fc385bcf63sm717398a91.13.2025.02.20.05.55.16 (version=TLS1_2 cipher=ECDHE-ECDSA-AES128-GCM-SHA256 bits=128/128); Thu, 20 Feb 2025 05:55:17 -0800 (PST) X-Relaying-Domain: iol.unh.edu Date: Thu, 20 Feb 2025 05:55:17 -0800 (PST) Message-ID: <67b73445.170a0220.1c65df.2dbaSMTPIN_ADDED_MISSING@mx.google.com> Received: from [172.21.0.6] (unknown [172.18.0.240]) by postal.iol.unh.edu (Postfix) with ESMTP id 22D646052471; Thu, 20 Feb 2025 08:55:16 -0500 (EST) Subject: |SUCCESS| pw151667-151680 [PATCH] [v2,14/14] security: remove unnece From: dpdklab@iol.unh.edu To: Test Report Cc: dpdk-test-reports@iol.unh.edu In-Reply-To: <20250220023509.630569-15-stephen@networkplumber.org> References: <20250220023509.630569-15-stephen@networkplumber.org> Content-Type: text/plain X-BeenThere: test-report@dpdk.org X-Mailman-Version: 2.1.29 Precedence: list List-Id: automatic DPDK test reports List-Unsubscribe: , List-Archive: List-Post: List-Help: List-Subscribe: , Errors-To: test-report-bounces@dpdk.org Test-Label: iol-unit-amd64-testing Test-Status: SUCCESS http://dpdk.org/patch/151680 _Testing PASS_ Submitter: Stephen Hemminger Date: Thursday, February 20 2025 02:32:18 DPDK git baseline: Repo:dpdk Branch: master CommitID:fab31a03ba98e7457284df95dd9eef2223a4ccaa 151667-151680 --> testing pass Upstream job id: Generic-Unit-Test-DPDK#316547 Test environment and result as below: +---------------------+----------------+ | Environment | dpdk_unit_test | +=====================+================+ | CentOS Stream 9 | PASS | +---------------------+----------------+ | CentOS Stream 10 | PASS | +---------------------+----------------+ | Debian Bullseye | PASS | +---------------------+----------------+ | Fedora 40 (Clang) | PASS | +---------------------+----------------+ | Fedora 40 | PASS | +---------------------+----------------+ | Debian 12 | PASS | +---------------------+----------------+ | Fedora 41 (Clang) | PASS | +---------------------+----------------+ | RHEL9 | PASS | +---------------------+----------------+ | Fedora 41 | PASS | +---------------------+----------------+ | RHEL8 | PASS | +---------------------+----------------+ | Ubuntu 20.04 | PASS | +---------------------+----------------+ | Ubuntu 24.04 | PASS | +---------------------+----------------+ | Ubuntu 22.04 | PASS | +---------------------+----------------+ | Windows Server 2022 | PASS | +---------------------+----------------+ CentOS Stream 9 Kernel: Depends on container host Compiler: gcc 11.5.0 20240719 (Red Hat 11.5.0-2) CentOS Stream 10 Kernel: Depends on container host Compiler: gcc 14.2.1 20241104 (Red Hat 14.2.1-6) Debian Bullseye Kernel: Depends on container host Compiler: gcc (Debian 10.2.1-6) 10.2.1 20210110 Fedora 40 (Clang) Kernel: Depends on container host Compiler: clang 18.1.8 (Fedora 18.1.8-1.fc40) Fedora 40 Kernel: Depends on container host Compiler: gcc 14.2.1 20240912 (Red Hat 14.2.1-3) Debian 12 Kernel: Depends on container host Compiler: gcc (Debian 12.2.0-14) 12.2.0 Fedora 41 (Clang) Kernel: Depends on container host Compiler: clang 19.1.5 (Fedora 19.1.5-1.fc41) RHEL9 Kernel: Depends on container host Compiler: gcc 11.5.0 20240719 (Red Hat 11.5.0-2) Fedora 41 Kernel: Depends on container host Compiler: gcc 14.2.1 20240912 (Red Hat 14.2.1-3) RHEL8 Kernel: Depends on container host Compiler: gcc 8.5.0 20210514 (Red Hat 8.5.0-22) Ubuntu 20.04 Kernel: Depends on container host Compiler: gcc (Ubuntu 9.4.0-1ubuntu1~20.04.2) 9.4.0 Ubuntu 24.04 Kernel: Depends on container host Compiler: gcc (Ubuntu 13.3.0-6ubuntu2~24.04) 13.3.0 Ubuntu 22.04 Kernel: Depends on container host Compiler: gcc (Ubuntu 11.4.0-1ubuntu1~22.04) 11.4.0 Windows Server 2022 Kernel: 10.0.20348.2031 Compiler: clang 15.0.7, gcc 14.1.0 (MinGW), and MSVC VS 19.39.33521 To view detailed results, visit: https://lab.dpdk.org/results/dashboard/patchsets/32616/ UNH-IOL DPDK Community Lab To manage your email subscriptions, visit: https://lab.dpdk.org/results/dashboard/preferences/subscriptions/