From mboxrd@z Thu Jan 1 00:00:00 1970 Return-Path: Received: from mails.dpdk.org (mails.dpdk.org [217.70.189.124]) by inbox.dpdk.org (Postfix) with ESMTP id 1FCEB4627D for ; Thu, 20 Feb 2025 14:59:42 +0100 (CET) Received: from mails.dpdk.org (localhost [127.0.0.1]) by mails.dpdk.org (Postfix) with ESMTP id 1248140041; Thu, 20 Feb 2025 14:59:42 +0100 (CET) Received: from mail-pl1-f226.google.com (mail-pl1-f226.google.com [209.85.214.226]) by mails.dpdk.org (Postfix) with ESMTP id 3CF984003C for ; Thu, 20 Feb 2025 14:59:41 +0100 (CET) Received: by mail-pl1-f226.google.com with SMTP id d9443c01a7336-21c2f1b610dso25618355ad.0 for ; Thu, 20 Feb 2025 05:59:41 -0800 (PST) DKIM-Signature: v=1; a=rsa-sha256; c=relaxed/relaxed; d=iol.unh.edu; s=unh-iol; t=1740059980; x=1740664780; darn=dpdk.org; h=references:in-reply-to:cc:to:from:subject:message-id:date:from:to :cc:subject:date:message-id:reply-to; bh=V6U0ZkKGZokHZl4DXEUYroMo/wBm0m5dO7O2m25r30g=; b=SqJY0BxBx1/BcOwCwdh6wFUu+qZz4NQ3axNxFVor/U0v0izUOI+3+4r3pKk1K670Ta hBqhdoPAwpgO797wEVos6x8QT5bGav3PGCsYzdBPRAsTE39DkYQ1gTwsBsrZ7i7Bd97r 6bdPScB4uwC7RnAjGg/PfNZNPXw7XQ6jCCGtI= X-Google-DKIM-Signature: v=1; a=rsa-sha256; c=relaxed/relaxed; d=1e100.net; s=20230601; t=1740059980; x=1740664780; h=references:in-reply-to:cc:to:from:subject:message-id:date :x-gm-message-state:from:to:cc:subject:date:message-id:reply-to; bh=V6U0ZkKGZokHZl4DXEUYroMo/wBm0m5dO7O2m25r30g=; b=tHFjvY4npKob20G1n7jJCNp/udAtqws8LU4vlR6fDyhbyIYCoTRamg/XwxIr2juU0e 6o0eRDwBxRHY9qP3Lgq247vaaqkvdkijjaPc1oH+Jb5xDmf2pOwdWyMsbWrNAIYvdWwV ljrVO8nlzF4/u/odoXO5UeVwE0nADXppGZ/OExPrPW9ZJtToZlpMYhgWunf7VasIFW0O UV+PA2y48sPYyv5ppcYZzKT1FE2x/TfbOop2do3WPOVsUqK67FD4cN3xOJR1vb+VkAjw y2fjuQUclsvgB5m7Pe5e3A0AK5cQJCj7FZINVq0TVL3psNe5u8R4BC5x0zR+x6unRYt+ YoPQ== X-Gm-Message-State: AOJu0Yw2Ya6f3L5J4SwZjkt9L1uVBoFsBJ0Xkj2GEaQCPAjwrpQLo0uJ Fh2qs0A9G3HEYaty3+t53Q6c+dL7DcD80va6KaA7S4kC7i4m6vYqfKn5VeOXexQt8UYYJLPGGB0 fnTlMI5cH+YzUD9U7VUI3XgS6VD0bl1YP06mfxJW1bV08bbqLjzrWSk92 X-Gm-Gg: ASbGncsHKAzFh6H3a0sv1mzRlHfYU6SxEVY4fdXgVK/x7T2J8OC92TTbBYSWgTXOfPG 3FAwFVtpgyWkDOl7jT6G0r6GbRg7Byo9sFTbrcU1ET72TvR8MASzaaBTBcBCUMzlO/qfD5qb2A6 rVhYNLn8slHU9rT//6tqSy0e61qYy40if6NiE0y/nDMpNMG4NW2RK5ciS6LdRrl5SHfB/6fLukQ 9g+gZ8gQZ9XH+FPHQwPKlsfWA4qsosgHHx7+K07KF8lCiQudLyVtQpYzStnsR7NQXpVDrqRapOQ k71fXjj/+cf3dOmnE5C5D15ejG3V+hdwDY2vXfPujw== X-Google-Smtp-Source: AGHT+IGznMi/CC2umqOACv0NNrsI7wAlkVQSOhAv8CzkIKX07utAQcE9tXYf11MbBoc6faXInAdl9X4zHv5R X-Received: by 2002:a17:902:ce03:b0:21f:6c81:f63 with SMTP id d9443c01a7336-22104020041mr391778775ad.16.1740059980343; Thu, 20 Feb 2025 05:59:40 -0800 (PST) Received: from postal.iol.unh.edu (postal.iol.unh.edu. [2606:4100:3880:1234::84]) by smtp-relay.gmail.com with ESMTPS id d9443c01a7336-220d53fa1f4sm7265315ad.94.2025.02.20.05.59.40 (version=TLS1_2 cipher=ECDHE-ECDSA-AES128-GCM-SHA256 bits=128/128); Thu, 20 Feb 2025 05:59:40 -0800 (PST) X-Relaying-Domain: iol.unh.edu Date: Thu, 20 Feb 2025 05:59:40 -0800 (PST) Message-ID: <67b7354c.170a0220.aac0d.3e9aSMTPIN_ADDED_MISSING@mx.google.com> Received: from [172.21.0.5] (unknown [172.18.0.240]) by postal.iol.unh.edu (Postfix) with ESMTP id C148E6052471; Thu, 20 Feb 2025 08:59:39 -0500 (EST) Subject: |SUCCESS| pw151667-151680 [PATCH] [v2,14/14] security: remove unnece From: dpdklab@iol.unh.edu To: Test Report Cc: dpdk-test-reports@iol.unh.edu In-Reply-To: <20250220023509.630569-15-stephen@networkplumber.org> References: <20250220023509.630569-15-stephen@networkplumber.org> Content-Type: text/plain X-BeenThere: test-report@dpdk.org X-Mailman-Version: 2.1.29 Precedence: list List-Id: automatic DPDK test reports List-Unsubscribe: , List-Archive: List-Post: List-Help: List-Subscribe: , Errors-To: test-report-bounces@dpdk.org Test-Label: iol-abi-testing Test-Status: SUCCESS http://dpdk.org/patch/151680 _Testing PASS_ Submitter: Stephen Hemminger Date: Thursday, February 20 2025 02:32:18 DPDK git baseline: Repo:dpdk Branch: master CommitID:fab31a03ba98e7457284df95dd9eef2223a4ccaa 151667-151680 --> testing pass Upstream job id: Generic-DPDK-Compile-ABI#116877 Test environment and result as below: +-------------------+----------+ | Environment | abi_test | +===================+==========+ | CentOS Stream 9 | PASS | +-------------------+----------+ | CentOS Stream 10 | PASS | +-------------------+----------+ | Debian Bullseye | PASS | +-------------------+----------+ | Fedora 40 (Clang) | PASS | +-------------------+----------+ | Debian 12 | PASS | +-------------------+----------+ | Fedora 41 (Clang) | PASS | +-------------------+----------+ | Fedora 41 | PASS | +-------------------+----------+ | openSUSE Leap 15 | PASS | +-------------------+----------+ | RHEL8 | PASS | +-------------------+----------+ | Ubuntu 22.04 | PASS | +-------------------+----------+ | RHEL9 | PASS | +-------------------+----------+ | Ubuntu 24.04 | PASS | +-------------------+----------+ | Fedora 40 | PASS | +-------------------+----------+ CentOS Stream 9 Kernel: Depends on container host Compiler: gcc 11.5.0 20240719 (Red Hat 11.5.0-2) CentOS Stream 10 Kernel: Depends on container host Compiler: gcc 14.2.1 20241104 (Red Hat 14.2.1-6) Debian Bullseye Kernel: Depends on container host Compiler: gcc (Debian 10.2.1-6) 10.2.1 20210110 Fedora 40 (Clang) Kernel: Depends on container host Compiler: clang 18.1.8 (Fedora 18.1.8-1.fc40) Debian 12 Kernel: Depends on container host Compiler: gcc (Debian 12.2.0-14) 12.2.0 Fedora 41 (Clang) Kernel: Depends on container host Compiler: clang 19.1.5 (Fedora 19.1.5-1.fc41) Fedora 41 Kernel: Depends on container host Compiler: gcc 14.2.1 20240912 (Red Hat 14.2.1-3) openSUSE Leap 15 Kernel: Depends on container host Compiler: gcc (SUSE Linux) 7.5.0 RHEL8 Kernel: Depends on container host Compiler: gcc 8.5.0 20210514 (Red Hat 8.5.0-22) Ubuntu 22.04 Kernel: Depends on container host Compiler: gcc (Ubuntu 11.4.0-1ubuntu1~22.04) 11.4.0 RHEL9 Kernel: Depends on container host Compiler: gcc 11.5.0 20240719 (Red Hat 11.5.0-2) Ubuntu 24.04 Kernel: Depends on container host Compiler: gcc (Ubuntu 13.3.0-6ubuntu2~24.04) 13.3.0 Fedora 40 Kernel: Depends on container host Compiler: gcc 14.2.1 20240912 (Red Hat 14.2.1-3) To view detailed results, visit: https://lab.dpdk.org/results/dashboard/patchsets/32616/ UNH-IOL DPDK Community Lab To manage your email subscriptions, visit: https://lab.dpdk.org/results/dashboard/preferences/subscriptions/