From mboxrd@z Thu Jan 1 00:00:00 1970 Return-Path: Received: from mails.dpdk.org (mails.dpdk.org [217.70.189.124]) by inbox.dpdk.org (Postfix) with ESMTP id 40A8E4627D for ; Thu, 20 Feb 2025 15:33:52 +0100 (CET) Received: from mails.dpdk.org (localhost [127.0.0.1]) by mails.dpdk.org (Postfix) with ESMTP id 38C0040041; Thu, 20 Feb 2025 15:33:52 +0100 (CET) Received: from mail-il1-f228.google.com (mail-il1-f228.google.com [209.85.166.228]) by mails.dpdk.org (Postfix) with ESMTP id A91114003C for ; Thu, 20 Feb 2025 15:33:50 +0100 (CET) Received: by mail-il1-f228.google.com with SMTP id e9e14a558f8ab-3d2a869d016so2577515ab.0 for ; Thu, 20 Feb 2025 06:33:50 -0800 (PST) DKIM-Signature: v=1; a=rsa-sha256; c=relaxed/relaxed; d=iol.unh.edu; s=unh-iol; t=1740062030; x=1740666830; darn=dpdk.org; h=references:in-reply-to:cc:to:from:subject:message-id:date:from:to :cc:subject:date:message-id:reply-to; bh=R4+23SruQIWlxeb7Tud0sVQeuI9fJLGKpXMQxUGUHvA=; b=DKeEWN+D5dDy3erVVRPQqkwVyk9EyLHfTGTRwjgBKRVwR/sBjE/GNVH6PIhgn6v088 t7Yy1kt8H+nJTUEt/rFTGvlOo9n63/IgzUMPjcvVjwur/5swC1y2NrtE/XREew5Lttak 29SP/OQGgZMXB2kfawE8YEEDTqZ9YPQRtQbRA= X-Google-DKIM-Signature: v=1; a=rsa-sha256; c=relaxed/relaxed; d=1e100.net; s=20230601; t=1740062030; x=1740666830; h=references:in-reply-to:cc:to:from:subject:message-id:date :x-gm-message-state:from:to:cc:subject:date:message-id:reply-to; bh=R4+23SruQIWlxeb7Tud0sVQeuI9fJLGKpXMQxUGUHvA=; b=UhzELEP70kcTaGk8Hg1pyhFTD21ZYXwmQdx0KWW2laVS1SvWhp6uOLSu1HRPYJLAPK 2rrNupkFYnP/i4zePHtKsAl+MZhn1fMKCEhgLdXFG4VUuP3AYPjNU+E2Fa6KBLl1VVrD bLKF86/++OBnfdqcq0IU58yL8563+A9sMt50gq1iTJ38wIXLCPnWyO99NMs8ZCjM4FAi UH0M2GegjPh8J+H5yyhW40zj5YI0ypzF9iughihkepeGavMhCT3hhV2trC7TpeNo/VrR ZjHpVQcFwwja+7ieze49Qd1adsEOd2Qe6I58QGtvKKuhlQR5XgsxiHUCHYWOpeI+iQeF Jpog== X-Gm-Message-State: AOJu0Yy1XI/Z/GYJDkIup68GdjtwEwusPInWCMVAP77ki7wobeM5AJfZ dz9huo3TxTy8TsOaKOPTkg0o1iQFPm69kOznzrFA9hWae4/VjuILbSCeLPD+iTbrm7Ev+2QAHSL pDl0FfT3qnv+3Um3gtgNGnxdyNv3DgCcKTp7aCwUL X-Gm-Gg: ASbGnctKekRpS94W+vLLOX3akIeUSLDou40xE0jyw37iFhuSVthYYi6/yv5knMYc1fk GK7S5YPEf12KRC6PjCHzkBmZ01KlXXeGHTDYXHy2D3SqPrqxvA7FqRVCt6AoCWliW5DQ/j4lh9l NM6Dk0+IMHmwnmsgW3Ad0GUgnWQ6fGtBq8rS9YRXcTonoG5IN8ylRNvgri8rJLYKx6zrVcY46GE u/X2Mh6wTIaKBtDgLjtbxfo0KQBIXadFB1N3RPUozpMeD0mA0CZ47rR2nQS0ANpCqszeymqG3Ot cQ2B4xSOFjpdsUgUk+sT11vyY6fKjg== X-Google-Smtp-Source: AGHT+IEmlzFKrNu1QlXnBeNoZe+47930d6cP9hExATH5Llsolcl3ErSSxDneyZJZ67JBpl15RLeVEv/Cqikw X-Received: by 2002:a92:c247:0:b0:3d2:b4b8:bf54 with SMTP id e9e14a558f8ab-3d2b52bc919mr79419335ab.7.1740062029947; Thu, 20 Feb 2025 06:33:49 -0800 (PST) Received: from postal.iol.unh.edu (postal.iol.unh.edu. [132.177.123.84]) by smtp-relay.gmail.com with ESMTPS id 8926c6da1cb9f-4eec39d2ab0sm183412173.66.2025.02.20.06.33.49 (version=TLS1_2 cipher=ECDHE-ECDSA-AES128-GCM-SHA256 bits=128/128); Thu, 20 Feb 2025 06:33:49 -0800 (PST) X-Relaying-Domain: iol.unh.edu Date: Thu, 20 Feb 2025 06:33:49 -0800 (PST) Message-ID: <67b73d4d.050a0220.39918e.9aabSMTPIN_ADDED_MISSING@mx.google.com> Received: from [172.21.0.8] (unknown [172.18.0.240]) by postal.iol.unh.edu (Postfix) with ESMTP id 722676052471; Thu, 20 Feb 2025 09:33:47 -0500 (EST) Subject: |SUCCESS| pw151683 [PATCH] net/mlx5: fix err message overwrite for a From: dpdklab@iol.unh.edu To: Test Report Cc: dpdk-test-reports@iol.unh.edu In-Reply-To: <20250220070850.6661-1-junfengg@nvidia.com> References: <20250220070850.6661-1-junfengg@nvidia.com> Content-Type: text/plain X-BeenThere: test-report@dpdk.org X-Mailman-Version: 2.1.29 Precedence: list List-Id: automatic DPDK test reports List-Unsubscribe: , List-Archive: List-Post: List-Help: List-Subscribe: , Errors-To: test-report-bounces@dpdk.org Test-Label: iol-compile-amd64-testing Test-Status: SUCCESS http://dpdk.org/patch/151683 _Testing PASS_ Submitter: Junfeng Guo Date: Thursday, February 20 2025 07:08:50 DPDK git baseline: Repo:dpdk Branch: master CommitID:046cca99c3fd03bfb95d3e27a56aab40c2c8f45a 151683 --> testing pass Upstream job id: Windows-Compile-DPDK-Native#26790 Test environment and result as below: +---------------------+--------------------+-------------------+------------------+-------------------+-------------------------+----------------------+ | Environment | dpdk_meson_compile | dpdk_compile_spdk | dpdk_compile_ovs | dpdk_msvc_compile | dpdk_llvm_clang_compile | dpdk_mingw64_compile | +=====================+====================+===================+==================+===================+=========================+======================+ | CentOS Stream 9 | PASS | PASS | SKIPPED | SKIPPED | SKIPPED | SKIPPED | +---------------------+--------------------+-------------------+------------------+-------------------+-------------------------+----------------------+ | Fedora 40 (Clang) | PASS | PASS | SKIPPED | SKIPPED | SKIPPED | SKIPPED | +---------------------+--------------------+-------------------+------------------+-------------------+-------------------------+----------------------+ | CentOS Stream 10 | PASS | SKIPPED | SKIPPED | SKIPPED | SKIPPED | SKIPPED | +---------------------+--------------------+-------------------+------------------+-------------------+-------------------------+----------------------+ | Debian 12 | PASS | PASS | SKIPPED | SKIPPED | SKIPPED | SKIPPED | +---------------------+--------------------+-------------------+------------------+-------------------+-------------------------+----------------------+ | Fedora 41 (Clang) | PASS | PASS | PASS | SKIPPED | SKIPPED | SKIPPED | +---------------------+--------------------+-------------------+------------------+-------------------+-------------------------+----------------------+ | Fedora 40 | PASS | PASS | SKIPPED | SKIPPED | SKIPPED | SKIPPED | +---------------------+--------------------+-------------------+------------------+-------------------+-------------------------+----------------------+ | RHEL8 | PASS | SKIPPED | SKIPPED | SKIPPED | SKIPPED | SKIPPED | +---------------------+--------------------+-------------------+------------------+-------------------+-------------------------+----------------------+ | Fedora 41 | PASS | PASS | PASS | SKIPPED | SKIPPED | SKIPPED | +---------------------+--------------------+-------------------+------------------+-------------------+-------------------------+----------------------+ | openSUSE Leap 15 | PASS | SKIPPED | SKIPPED | SKIPPED | SKIPPED | SKIPPED | +---------------------+--------------------+-------------------+------------------+-------------------+-------------------------+----------------------+ | RHEL9 | PASS | SKIPPED | SKIPPED | SKIPPED | SKIPPED | SKIPPED | +---------------------+--------------------+-------------------+------------------+-------------------+-------------------------+----------------------+ | Ubuntu 20.04 | PASS | SKIPPED | SKIPPED | SKIPPED | SKIPPED | SKIPPED | +---------------------+--------------------+-------------------+------------------+-------------------+-------------------------+----------------------+ | Ubuntu 22.04 | PASS | PASS | SKIPPED | SKIPPED | SKIPPED | SKIPPED | +---------------------+--------------------+-------------------+------------------+-------------------+-------------------------+----------------------+ | Ubuntu 24.04 | PASS | PASS | PASS | SKIPPED | SKIPPED | SKIPPED | +---------------------+--------------------+-------------------+------------------+-------------------+-------------------------+----------------------+ | Alpine | PASS | SKIPPED | SKIPPED | SKIPPED | SKIPPED | SKIPPED | +---------------------+--------------------+-------------------+------------------+-------------------+-------------------------+----------------------+ | FreeBSD 13.4 | PASS | SKIPPED | SKIPPED | SKIPPED | SKIPPED | SKIPPED | +---------------------+--------------------+-------------------+------------------+-------------------+-------------------------+----------------------+ | FreeBSD 14.2 | PASS | SKIPPED | SKIPPED | SKIPPED | SKIPPED | SKIPPED | +---------------------+--------------------+-------------------+------------------+-------------------+-------------------------+----------------------+ | Debian Bullseye | PASS | PASS | SKIPPED | SKIPPED | SKIPPED | SKIPPED | +---------------------+--------------------+-------------------+------------------+-------------------+-------------------------+----------------------+ | Windows Server 2022 | SKIPPED | SKIPPED | SKIPPED | PASS | PASS | PASS | +---------------------+--------------------+-------------------+------------------+-------------------+-------------------------+----------------------+ CentOS Stream 9 Kernel: Depends on container host Compiler: gcc 11.5.0 20240719 (Red Hat 11.5.0-2) Fedora 40 (Clang) Kernel: Depends on container host Compiler: clang 18.1.8 (Fedora 18.1.8-1.fc40) CentOS Stream 10 Kernel: Depends on container host Compiler: gcc 14.2.1 20241104 (Red Hat 14.2.1-6) Debian 12 Kernel: Depends on container host Compiler: gcc (Debian 12.2.0-14) 12.2.0 Fedora 41 (Clang) Kernel: Depends on container host Compiler: clang 19.1.5 (Fedora 19.1.5-1.fc41) Fedora 40 Kernel: Depends on container host Compiler: gcc 14.2.1 20240912 (Red Hat 14.2.1-3) RHEL8 Kernel: Depends on container host Compiler: gcc 8.5.0 20210514 (Red Hat 8.5.0-22) Fedora 41 Kernel: Depends on container host Compiler: gcc 14.2.1 20240912 (Red Hat 14.2.1-3) openSUSE Leap 15 Kernel: Depends on container host Compiler: gcc (SUSE Linux) 7.5.0 RHEL9 Kernel: Depends on container host Compiler: gcc 11.5.0 20240719 (Red Hat 11.5.0-2) Ubuntu 20.04 Kernel: Depends on container host Compiler: gcc (Ubuntu 9.4.0-1ubuntu1~20.04.2) 9.4.0 Ubuntu 22.04 Kernel: Depends on container host Compiler: gcc (Ubuntu 11.4.0-1ubuntu1~22.04) 11.4.0 Ubuntu 24.04 Kernel: Depends on container host Compiler: gcc (Ubuntu 13.3.0-6ubuntu2~24.04) 13.3.0 Alpine Kernel: Depends on container host Compiler: gcc (Alpine 14.2.0) 14.2.0 FreeBSD 13.4 Kernel: 13.4-RELEASE-p1 Compiler: clang 18.1.6 FreeBSD 14.2 Kernel: 14.2-RELEASE Compiler: clang 18.1.6 Debian Bullseye Kernel: Depends on container host Compiler: gcc (Debian 10.2.1-6) 10.2.1 20210110 Windows Server 2022 Kernel: 10.0.20348.2031 Compiler: clang 15.0.7, gcc 14.1.0 (MinGW), and MSVC VS 19.39.33521 To view detailed results, visit: https://lab.dpdk.org/results/dashboard/patchsets/32618/ UNH-IOL DPDK Community Lab To manage your email subscriptions, visit: https://lab.dpdk.org/results/dashboard/preferences/subscriptions/