From mboxrd@z Thu Jan 1 00:00:00 1970 Return-Path: Received: from mails.dpdk.org (mails.dpdk.org [217.70.189.124]) by inbox.dpdk.org (Postfix) with ESMTP id E5BC54627D for ; Thu, 20 Feb 2025 15:56:26 +0100 (CET) Received: from mails.dpdk.org (localhost [127.0.0.1]) by mails.dpdk.org (Postfix) with ESMTP id DCC1F40041; Thu, 20 Feb 2025 15:56:26 +0100 (CET) Received: from mail-yw1-f226.google.com (mail-yw1-f226.google.com [209.85.128.226]) by mails.dpdk.org (Postfix) with ESMTP id 3C58B4003C for ; Thu, 20 Feb 2025 15:56:25 +0100 (CET) Received: by mail-yw1-f226.google.com with SMTP id 00721157ae682-6ef7c9e9592so8352017b3.1 for ; Thu, 20 Feb 2025 06:56:25 -0800 (PST) DKIM-Signature: v=1; a=rsa-sha256; c=relaxed/relaxed; d=iol.unh.edu; s=unh-iol; t=1740063384; x=1740668184; darn=dpdk.org; h=references:in-reply-to:cc:to:from:subject:message-id:date:from:to :cc:subject:date:message-id:reply-to; bh=r3tOql9v4dRu2yezfr+pHcxRW4W4wGYuYE7MKMSZTb8=; b=gA9idxBbQu9kj1ixjGc7qTQ/Sbmcw5P4cmSLmtMl/AaSKJmW2ePaxoOWXDxwitmNsk Cz1YQHgxAeQ3BQPS8Vtq4DVRmy/WNqh57k5wbNbizWZdWGB9vawl6ZkFwBsdqjGcGJ13 Gso0NxZX+3Y83UI1Ii0OexLlVLrk1o66PMcjs= X-Google-DKIM-Signature: v=1; a=rsa-sha256; c=relaxed/relaxed; d=1e100.net; s=20230601; t=1740063384; x=1740668184; h=references:in-reply-to:cc:to:from:subject:message-id:date :x-gm-message-state:from:to:cc:subject:date:message-id:reply-to; bh=r3tOql9v4dRu2yezfr+pHcxRW4W4wGYuYE7MKMSZTb8=; b=WkzJjyY15VoKlIcUaQrad7xHhAljTzPN5IY5fLdK6+tTN8cmQgXJ4iIIKVmdBtbKXD Mky0qvbrIWVgK8xo2jFGj567wftRLaaXZuo5wu8sdWaZ0PF/7TCuDhXXJcwyG1QA7nj9 2taoQoZH+poQh+cTA5xCwEhPF3Qwbtrdl4+hVvTP5cholS6RyI9qU7L+S8YOgbSSGsz9 JBCsjjeBggHlnNpNMRxQfA92gpG18xKp5587pIZ5CsKGJmwSkAT/HxXErDlR2uHCEBq2 p91BwSFKXEPkbx0/hTKQQFBGICoD8v2Je+v04iCioLJ+rSNHDOC7yQhLYJETJsawU3bB X2qQ== X-Gm-Message-State: AOJu0Yyz7IJeJK9pnHMcehc+8Os9t8BpgGJnTGRHmFxL9tB7Y7YeAEsq DXFGvQLvEE4iJDxk4CIhllrF+uhKXkCo2ZRb8e9DszTb2o4Vic7oiEELY2N1N0YSpdWLcBYdbvw HRWDNLscEUSvd9JbNmandyZYH/r3f+wdlw6Nx7Im41krwSi9Ml/xrUb+Q X-Gm-Gg: ASbGncujIAxJryZLVWGt0EDq8SeNYby6fXTWbJeUyR3owUVoemT+L621sIorgqSEa1i yygHTyhOKk5JGJEfF+NKkTXKt9ylnRj4KcQ4CmSqjtX9x1ShzU43d55GyUsjwa06vY9ejG+npsr IG5JA4RkBb93yqzVQpuyBAXFqtFDLU6cS4kNFxEes6RUcYuyKodZ4Hm/RgRZdJ9ZtZJKjngOHuH 7ro/PU800FzszU52ZeABijM3WajOURn0ZDx41XeWQI0p4TCu0bhMqPaCN0VQp50il9d4tPrVKQF iENpVzlLi4rF4H8tXEzJH51M0gCVkh9Gbg8yKsD5Fg== X-Google-Smtp-Source: AGHT+IFO33z+G93u0z1EXrPUzFDx16fxGZ5vI/0B6cWfR16/ADiwea6AIdGqM82i2lqhkX8ADKKT5ag2/tVl X-Received: by 2002:a05:690c:25ca:b0:6f9:871e:6903 with SMTP id 00721157ae682-6fb5839367bmr191633317b3.37.1740063382980; Thu, 20 Feb 2025 06:56:22 -0800 (PST) Received: from postal.iol.unh.edu (postal.iol.unh.edu. [2606:4100:3880:1234::84]) by smtp-relay.gmail.com with ESMTPS id 00721157ae682-6fb92be6e66sm2563837b3.12.2025.02.20.06.56.22 (version=TLS1_2 cipher=ECDHE-ECDSA-AES128-GCM-SHA256 bits=128/128); Thu, 20 Feb 2025 06:56:22 -0800 (PST) X-Relaying-Domain: iol.unh.edu Date: Thu, 20 Feb 2025 06:56:22 -0800 (PST) Message-ID: <67b74296.050a0220.4c74a.c8acSMTPIN_ADDED_MISSING@mx.google.com> Received: from [172.17.0.3] (unknown [172.18.0.217]) by postal.iol.unh.edu (Postfix) with ESMTP id CB4906052471; Thu, 20 Feb 2025 09:56:19 -0500 (EST) Subject: |SUCCESS| pw151684 [PATCH] bus: invoke TAILQ_REMOVE when bus cleanup From: dpdklab@iol.unh.edu To: Test Report Cc: dpdk-test-reports@iol.unh.edu In-Reply-To: <20250220080906.49705-1-fengchengwen@huawei.com> References: <20250220080906.49705-1-fengchengwen@huawei.com> Content-Type: text/plain X-BeenThere: test-report@dpdk.org X-Mailman-Version: 2.1.29 Precedence: list List-Id: automatic DPDK test reports List-Unsubscribe: , List-Archive: List-Post: List-Help: List-Subscribe: , Errors-To: test-report-bounces@dpdk.org Test-Label: iol-unit-amd64-testing Test-Status: SUCCESS http://dpdk.org/patch/151684 _Testing PASS_ Submitter: Chengwen Feng Date: Thursday, February 20 2025 08:09:06 DPDK git baseline: Repo:dpdk Branch: master CommitID:fab31a03ba98e7457284df95dd9eef2223a4ccaa 151684 --> testing pass Upstream job id: Generic-Unit-Test-DPDK#316567 Test environment and result as below: +-------------------+----------------+ | Environment | dpdk_unit_test | +===================+================+ | CentOS Stream 10 | PASS | +-------------------+----------------+ | CentOS Stream 9 | PASS | +-------------------+----------------+ | Debian Bullseye | PASS | +-------------------+----------------+ | Debian 12 | PASS | +-------------------+----------------+ | Fedora 40 | PASS | +-------------------+----------------+ | RHEL8 | PASS | +-------------------+----------------+ | Fedora 41 | PASS | +-------------------+----------------+ | Fedora 40 (Clang) | PASS | +-------------------+----------------+ | Ubuntu 20.04 | PASS | +-------------------+----------------+ | RHEL9 | PASS | +-------------------+----------------+ | Fedora 41 (Clang) | PASS | +-------------------+----------------+ | Ubuntu 22.04 | PASS | +-------------------+----------------+ | Ubuntu 24.04 | PASS | +-------------------+----------------+ CentOS Stream 10 Kernel: Depends on container host Compiler: gcc 14.2.1 20241104 (Red Hat 14.2.1-6) CentOS Stream 9 Kernel: Depends on container host Compiler: gcc 11.5.0 20240719 (Red Hat 11.5.0-2) Debian Bullseye Kernel: Depends on container host Compiler: gcc (Debian 10.2.1-6) 10.2.1 20210110 Debian 12 Kernel: Depends on container host Compiler: gcc (Debian 12.2.0-14) 12.2.0 Fedora 40 Kernel: Depends on container host Compiler: gcc 14.2.1 20240912 (Red Hat 14.2.1-3) RHEL8 Kernel: Depends on container host Compiler: gcc 8.5.0 20210514 (Red Hat 8.5.0-22) Fedora 41 Kernel: Depends on container host Compiler: gcc 14.2.1 20240912 (Red Hat 14.2.1-3) Fedora 40 (Clang) Kernel: Depends on container host Compiler: clang 18.1.8 (Fedora 18.1.8-1.fc40) Ubuntu 20.04 Kernel: Depends on container host Compiler: gcc (Ubuntu 9.4.0-1ubuntu1~20.04.2) 9.4.0 RHEL9 Kernel: Depends on container host Compiler: gcc 11.5.0 20240719 (Red Hat 11.5.0-2) Fedora 41 (Clang) Kernel: Depends on container host Compiler: clang 19.1.5 (Fedora 19.1.5-1.fc41) Ubuntu 22.04 Kernel: Depends on container host Compiler: gcc (Ubuntu 11.4.0-1ubuntu1~22.04) 11.4.0 Ubuntu 24.04 Kernel: Depends on container host Compiler: gcc (Ubuntu 13.3.0-6ubuntu2~24.04) 13.3.0 To view detailed results, visit: https://lab.dpdk.org/results/dashboard/patchsets/32619/ UNH-IOL DPDK Community Lab To manage your email subscriptions, visit: https://lab.dpdk.org/results/dashboard/preferences/subscriptions/