From mboxrd@z Thu Jan 1 00:00:00 1970 Return-Path: Received: from mails.dpdk.org (mails.dpdk.org [217.70.189.124]) by inbox.dpdk.org (Postfix) with ESMTP id 179E44627D for ; Thu, 20 Feb 2025 15:56:56 +0100 (CET) Received: from mails.dpdk.org (localhost [127.0.0.1]) by mails.dpdk.org (Postfix) with ESMTP id 0FC9D40041; Thu, 20 Feb 2025 15:56:56 +0100 (CET) Received: from mail-pj1-f98.google.com (mail-pj1-f98.google.com [209.85.216.98]) by mails.dpdk.org (Postfix) with ESMTP id 9BCE44003C for ; Thu, 20 Feb 2025 15:56:55 +0100 (CET) Received: by mail-pj1-f98.google.com with SMTP id 98e67ed59e1d1-2f441791e40so1684667a91.3 for ; Thu, 20 Feb 2025 06:56:55 -0800 (PST) DKIM-Signature: v=1; a=rsa-sha256; c=relaxed/relaxed; d=iol.unh.edu; s=unh-iol; t=1740063415; x=1740668215; darn=dpdk.org; h=references:in-reply-to:cc:to:from:subject:message-id:date:from:to :cc:subject:date:message-id:reply-to; bh=/yj1A0O65ubi/Z1ZQzpgRh9J8wfpL2HrcE0gTbDYsTo=; b=DNxhJrly8e43z4b7FpdeZ88VK37zGdmVVTL/hvy4S3T6JS8pLu3kTkXTc6A1bJjgkv JUiyrVntjcxchkVcTJQZD/XPgQuIM1O9ICHln7lmA5zBHLVDDNbgqH9o6btbSFlm+X4B LfpvuwupwpTZPxoew1Ep1l4/HTvXztffne9rc= X-Google-DKIM-Signature: v=1; a=rsa-sha256; c=relaxed/relaxed; d=1e100.net; s=20230601; t=1740063415; x=1740668215; h=references:in-reply-to:cc:to:from:subject:message-id:date :x-gm-message-state:from:to:cc:subject:date:message-id:reply-to; bh=/yj1A0O65ubi/Z1ZQzpgRh9J8wfpL2HrcE0gTbDYsTo=; b=QqlpYkFe1tWztewtbMuhnzCnjK2Dx+YJM9ttDEfC11I7GXwQRT+Jg58jwde/A89GEd wpl54TywaP7xgDXP2BLo8yblaybKFcwfL6WiM5Ugu+xl6I7QnPLqlebToxXJTa+wKiOb zsVh9Mkr3AbNx4FItlPtfbXQ4Pz18SvHH4/GdCUEPs+2b3yq5CYiCJtslswbFvDXgJvS /GrDae2gILjkTC2rZuDiDC0NPcOdbB0VxQD1qNFwe9rqL3FaRiluJRUM6O0dUI23ggNB 2ojBhdk7ae4t4h1AzVb19D44PXLUVFm1uSwYRd4D/E23k7j1tarJlp9nUC8glIgJi4UR Y+3A== X-Gm-Message-State: AOJu0YxRNfbP1qpsdyh/6cBY+AoriW8xS7K9h53zY0l4I9FInVs777Lb 9tRZVarOfU/qqMBVjmJ7R1SzlQhWeg19+Cc0L1PbygUSXSZKUmp3mG4yhiLCKQ0aZQRwcfXUJGP ATqfE8djAtvZm88WZNs1BSJv7rBFHowZKci2UwFcKJ8+3GsAftZfHnnxa X-Gm-Gg: ASbGnctzF0/HTmzLvGa4isKM3ilfThse0m8SrTbq/yTZM9HVcdafCKhlhVsyhu72KXs i0yZJZ3NFi0obSnrfYdDUoqs1xHEHo93hrRe02/WRCVun1YPNhrQ6ut7r1g3xRHMrjGhSHOaxn8 LfIxjLUgI7fTxYbBirCLuKpCZjJ+IoWJJNNIedUAeHEMPf9wcEgDOYGlwJchBbmpx2CVHKLUJzR JPbu5Vv6BQL5MeDU2/T2MDAwyixMPpnPcQ3CBXss3Fldv3g25/zuQglhGNejycMjS1uYjpmIswC kf45bvPllHxtetY3wQZBh/Z1LArP3pnoueo4xW+6VA== X-Google-Smtp-Source: AGHT+IECUMsB8/2E5Q+AfNwEOLK7weVvQo0T8/SE3Evxw3ywiatUefj68lhYkqLqkjdrsLOWucDve2cDw/be X-Received: by 2002:a17:90b:384d:b0:2ee:5edc:4b2 with SMTP id 98e67ed59e1d1-2fc40f22d33mr34602182a91.20.1740063414761; Thu, 20 Feb 2025 06:56:54 -0800 (PST) Received: from postal.iol.unh.edu (postal.iol.unh.edu. [2606:4100:3880:1234::84]) by smtp-relay.gmail.com with ESMTPS id 98e67ed59e1d1-2fbf9747610sm1020185a91.0.2025.02.20.06.56.54 (version=TLS1_2 cipher=ECDHE-ECDSA-AES128-GCM-SHA256 bits=128/128); Thu, 20 Feb 2025 06:56:54 -0800 (PST) X-Relaying-Domain: iol.unh.edu Date: Thu, 20 Feb 2025 06:56:54 -0800 (PST) Message-ID: <67b742b6.170a0220.4822d.24caSMTPIN_ADDED_MISSING@mx.google.com> Received: from [172.21.0.6] (unknown [172.18.0.240]) by postal.iol.unh.edu (Postfix) with ESMTP id A0D576052471; Thu, 20 Feb 2025 09:56:50 -0500 (EST) Subject: |SUCCESS| pw151684 [PATCH] bus: invoke TAILQ_REMOVE when bus cleanup From: dpdklab@iol.unh.edu To: Test Report Cc: dpdk-test-reports@iol.unh.edu In-Reply-To: <20250220080906.49705-1-fengchengwen@huawei.com> References: <20250220080906.49705-1-fengchengwen@huawei.com> Content-Type: text/plain X-BeenThere: test-report@dpdk.org X-Mailman-Version: 2.1.29 Precedence: list List-Id: automatic DPDK test reports List-Unsubscribe: , List-Archive: List-Post: List-Help: List-Subscribe: , Errors-To: test-report-bounces@dpdk.org Test-Label: iol-unit-amd64-testing Test-Status: SUCCESS http://dpdk.org/patch/151684 _Testing PASS_ Submitter: Chengwen Feng Date: Thursday, February 20 2025 08:09:06 DPDK git baseline: Repo:dpdk Branch: master CommitID:fab31a03ba98e7457284df95dd9eef2223a4ccaa 151684 --> testing pass Upstream job id: Generic-Unit-Test-DPDK#316574 Test environment and result as below: +-------------------+----------------+ | Environment | dpdk_unit_test | +===================+================+ | CentOS Stream 10 | PASS | +-------------------+----------------+ | CentOS Stream 9 | PASS | +-------------------+----------------+ | Debian Bullseye | PASS | +-------------------+----------------+ | Debian 12 | PASS | +-------------------+----------------+ | Fedora 40 | PASS | +-------------------+----------------+ | RHEL8 | PASS | +-------------------+----------------+ | Fedora 41 | PASS | +-------------------+----------------+ | Fedora 40 (Clang) | PASS | +-------------------+----------------+ | Ubuntu 20.04 | PASS | +-------------------+----------------+ | RHEL9 | PASS | +-------------------+----------------+ | Fedora 41 (Clang) | PASS | +-------------------+----------------+ | Ubuntu 22.04 | PASS | +-------------------+----------------+ | Ubuntu 24.04 | PASS | +-------------------+----------------+ CentOS Stream 10 Kernel: Depends on container host Compiler: gcc 14.2.1 20241104 (Red Hat 14.2.1-6) CentOS Stream 9 Kernel: Depends on container host Compiler: gcc 11.5.0 20240719 (Red Hat 11.5.0-2) Debian Bullseye Kernel: Depends on container host Compiler: gcc (Debian 10.2.1-6) 10.2.1 20210110 Debian 12 Kernel: Depends on container host Compiler: gcc (Debian 12.2.0-14) 12.2.0 Fedora 40 Kernel: Depends on container host Compiler: gcc 14.2.1 20240912 (Red Hat 14.2.1-3) RHEL8 Kernel: Depends on container host Compiler: gcc 8.5.0 20210514 (Red Hat 8.5.0-22) Fedora 41 Kernel: Depends on container host Compiler: gcc 14.2.1 20240912 (Red Hat 14.2.1-3) Fedora 40 (Clang) Kernel: Depends on container host Compiler: clang 18.1.8 (Fedora 18.1.8-1.fc40) Ubuntu 20.04 Kernel: Depends on container host Compiler: gcc (Ubuntu 9.4.0-1ubuntu1~20.04.2) 9.4.0 RHEL9 Kernel: Depends on container host Compiler: gcc 11.5.0 20240719 (Red Hat 11.5.0-2) Fedora 41 (Clang) Kernel: Depends on container host Compiler: clang 19.1.5 (Fedora 19.1.5-1.fc41) Ubuntu 22.04 Kernel: Depends on container host Compiler: gcc (Ubuntu 11.4.0-1ubuntu1~22.04) 11.4.0 Ubuntu 24.04 Kernel: Depends on container host Compiler: gcc (Ubuntu 13.3.0-6ubuntu2~24.04) 13.3.0 To view detailed results, visit: https://lab.dpdk.org/results/dashboard/patchsets/32619/ UNH-IOL DPDK Community Lab To manage your email subscriptions, visit: https://lab.dpdk.org/results/dashboard/preferences/subscriptions/