From mboxrd@z Thu Jan 1 00:00:00 1970 Return-Path: Received: from mails.dpdk.org (mails.dpdk.org [217.70.189.124]) by inbox.dpdk.org (Postfix) with ESMTP id 6E0844627E for ; Thu, 20 Feb 2025 16:11:10 +0100 (CET) Received: from mails.dpdk.org (localhost [127.0.0.1]) by mails.dpdk.org (Postfix) with ESMTP id 69C5440041; Thu, 20 Feb 2025 16:11:10 +0100 (CET) Received: from mail-qt1-f225.google.com (mail-qt1-f225.google.com [209.85.160.225]) by mails.dpdk.org (Postfix) with ESMTP id 7F0564003C for ; Thu, 20 Feb 2025 16:11:09 +0100 (CET) Received: by mail-qt1-f225.google.com with SMTP id d75a77b69052e-471fe5e0a80so9156641cf.1 for ; Thu, 20 Feb 2025 07:11:09 -0800 (PST) DKIM-Signature: v=1; a=rsa-sha256; c=relaxed/relaxed; d=iol.unh.edu; s=unh-iol; t=1740064269; x=1740669069; darn=dpdk.org; h=references:in-reply-to:cc:to:from:subject:message-id:date:from:to :cc:subject:date:message-id:reply-to; bh=cAX+1jQjdlpuoifVD63YwC9jt4ijHcSx0JDPPeHUcG0=; b=CioVrlevM6hLAzq/ooqYRLDDs0LGSj/W/1EHgyUGRo50CNy5kzd/kplfuwoq4I7jAQ 9FUNF4NPvQN5LdwLkIAGLEkO8FxUyMj32qjvPUxrVnVkFHMt6ACTgzreIcEG+351Fhx3 2pxN8kAkGWsF4Kmp9keAi2ezyYYepdgS+V3lU= X-Google-DKIM-Signature: v=1; a=rsa-sha256; c=relaxed/relaxed; d=1e100.net; s=20230601; t=1740064269; x=1740669069; h=references:in-reply-to:cc:to:from:subject:message-id:date :x-gm-message-state:from:to:cc:subject:date:message-id:reply-to; bh=cAX+1jQjdlpuoifVD63YwC9jt4ijHcSx0JDPPeHUcG0=; b=GQBkXNKHRFdlQQqdgTLdNER2acpLnm4n5jHD+mFXo0lID1GvVmVYNa6wvZv1M341DN 2Mb6ZiGJojCK92jtVcivZZwmirJuaToPbS7PDu+grw3ohy/QQM8hN1jUp61PSXR22s0+ GfsfoXVbCRvCTQzVPhJfwD8THVvnYo/NYsn6eqOxlSprkxn8A09dSQn4BVbRGYXsCt+E RQ2W8hkugNxv9D7FS1tA65s9tnwM/spOsLwgtcQUrBGjOKPfjPJbZhJ4tWn+F7ZVs0wv qUEoPVTURsSk4xGoh0tsWmIUChjX756FfemFgEtCnPqVCIyr5EjIQAvE/uc4HLSDuO5L DkEA== X-Gm-Message-State: AOJu0YwbYXWfu03pDusuR5z5L8o6ZGToHnnUvFT6Z3MHEqe2O8ga2TnF cO3L0zA2aURnVXi8kUE816coIz+0OR5HxTuDMi4r/BolHWILRsfZkuinrPLHMftPvUuTMMGNwFb Rj/zljVhgKz3doXI04Gg7ALYxzK96phqmwx3f6VADVJe5wlfJC1d+3TEP X-Gm-Gg: ASbGncvYuqmlrrTEijKJyxv9KeY1ExeHJb+3ANmg6KTWQ8A/FcAYuN0b5we+iXv/Nrh 0hjze1CMhjGv+9tRTDvz5mXxVEb3i0SyK3Sr3tqH1DSIqwInykYng2YNIVGRnlPywCNgh3Gvvhq 3cPgAzFrRnAWS3uSrAqUvgyJNWReH38T+9UixI4jiNxEQd3T6WG8HD35Yx4A45qV25XnLOhlUGk ab+fdn6hfFnE8LXwmdTZTle89I2gUHJsHH9oUeiTJkmlXTzlnswkUP4cNRwoQc3mAZrXvYPKhQh JUmYbdGAAVN04wC2aU5N2y7JWxFZghobq+sfLRHSRQ== X-Google-Smtp-Source: AGHT+IE+pDrXNBCp+NKiBisLVFn9S/hHu3BiRYD3SQwFBQelGJ6aq8bjhkk1YtOuYU6liMzVX+0WkTni/vuR X-Received: by 2002:ac8:7e94:0:b0:472:10a9:3ee3 with SMTP id d75a77b69052e-47210a943d6mr78954031cf.50.1740064268802; Thu, 20 Feb 2025 07:11:08 -0800 (PST) Received: from postal.iol.unh.edu (postal.iol.unh.edu. [2606:4100:3880:1234::84]) by smtp-relay.gmail.com with ESMTPS id d75a77b69052e-471fb635c1bsm3416521cf.13.2025.02.20.07.11.08 (version=TLS1_2 cipher=ECDHE-ECDSA-AES128-GCM-SHA256 bits=128/128); Thu, 20 Feb 2025 07:11:08 -0800 (PST) X-Relaying-Domain: iol.unh.edu Date: Thu, 20 Feb 2025 07:11:08 -0800 (PST) Message-ID: <67b7460c.c80a0220.362ba1.0a27SMTPIN_ADDED_MISSING@mx.google.com> Received: from [172.21.0.6] (unknown [172.18.0.240]) by postal.iol.unh.edu (Postfix) with ESMTP id 1BBBE6052471; Thu, 20 Feb 2025 10:11:06 -0500 (EST) Subject: |SUCCESS| pw151684 [PATCH] bus: invoke TAILQ_REMOVE when bus cleanup From: dpdklab@iol.unh.edu To: Test Report Cc: dpdk-test-reports@iol.unh.edu In-Reply-To: <20250220080906.49705-1-fengchengwen@huawei.com> References: <20250220080906.49705-1-fengchengwen@huawei.com> Content-Type: text/plain X-BeenThere: test-report@dpdk.org X-Mailman-Version: 2.1.29 Precedence: list List-Id: automatic DPDK test reports List-Unsubscribe: , List-Archive: List-Post: List-Help: List-Subscribe: , Errors-To: test-report-bounces@dpdk.org Test-Label: iol-unit-amd64-testing Test-Status: SUCCESS http://dpdk.org/patch/151684 _Testing PASS_ Submitter: Chengwen Feng Date: Thursday, February 20 2025 08:09:06 DPDK git baseline: Repo:dpdk Branch: master CommitID:fab31a03ba98e7457284df95dd9eef2223a4ccaa 151684 --> testing pass Upstream job id: Generic-VM-Unit-Test-DPDK#27292 Test environment and result as below: +---------------------+----------------+ | Environment | dpdk_unit_test | +=====================+================+ | CentOS Stream 10 | PASS | +---------------------+----------------+ | CentOS Stream 9 | PASS | +---------------------+----------------+ | Debian Bullseye | PASS | +---------------------+----------------+ | Debian 12 | PASS | +---------------------+----------------+ | Fedora 40 | PASS | +---------------------+----------------+ | RHEL8 | PASS | +---------------------+----------------+ | Fedora 41 | PASS | +---------------------+----------------+ | Fedora 40 (Clang) | PASS | +---------------------+----------------+ | Ubuntu 20.04 | PASS | +---------------------+----------------+ | RHEL9 | PASS | +---------------------+----------------+ | Fedora 41 (Clang) | PASS | +---------------------+----------------+ | Ubuntu 22.04 | PASS | +---------------------+----------------+ | Ubuntu 24.04 | PASS | +---------------------+----------------+ | Windows Server 2022 | PASS | +---------------------+----------------+ CentOS Stream 10 Kernel: Depends on container host Compiler: gcc 14.2.1 20241104 (Red Hat 14.2.1-6) CentOS Stream 9 Kernel: Depends on container host Compiler: gcc 11.5.0 20240719 (Red Hat 11.5.0-2) Debian Bullseye Kernel: Depends on container host Compiler: gcc (Debian 10.2.1-6) 10.2.1 20210110 Debian 12 Kernel: Depends on container host Compiler: gcc (Debian 12.2.0-14) 12.2.0 Fedora 40 Kernel: Depends on container host Compiler: gcc 14.2.1 20240912 (Red Hat 14.2.1-3) RHEL8 Kernel: Depends on container host Compiler: gcc 8.5.0 20210514 (Red Hat 8.5.0-22) Fedora 41 Kernel: Depends on container host Compiler: gcc 14.2.1 20240912 (Red Hat 14.2.1-3) Fedora 40 (Clang) Kernel: Depends on container host Compiler: clang 18.1.8 (Fedora 18.1.8-1.fc40) Ubuntu 20.04 Kernel: Depends on container host Compiler: gcc (Ubuntu 9.4.0-1ubuntu1~20.04.2) 9.4.0 RHEL9 Kernel: Depends on container host Compiler: gcc 11.5.0 20240719 (Red Hat 11.5.0-2) Fedora 41 (Clang) Kernel: Depends on container host Compiler: clang 19.1.5 (Fedora 19.1.5-1.fc41) Ubuntu 22.04 Kernel: Depends on container host Compiler: gcc (Ubuntu 11.4.0-1ubuntu1~22.04) 11.4.0 Ubuntu 24.04 Kernel: Depends on container host Compiler: gcc (Ubuntu 13.3.0-6ubuntu2~24.04) 13.3.0 Windows Server 2022 Kernel: 10.0.20348.2031 Compiler: clang 15.0.7, gcc 14.1.0 (MinGW), and MSVC VS 19.39.33521 To view detailed results, visit: https://lab.dpdk.org/results/dashboard/patchsets/32619/ UNH-IOL DPDK Community Lab To manage your email subscriptions, visit: https://lab.dpdk.org/results/dashboard/preferences/subscriptions/