From mboxrd@z Thu Jan 1 00:00:00 1970 Return-Path: Received: from mails.dpdk.org (mails.dpdk.org [217.70.189.124]) by inbox.dpdk.org (Postfix) with ESMTP id E91454627E for ; Thu, 20 Feb 2025 16:14:04 +0100 (CET) Received: from mails.dpdk.org (localhost [127.0.0.1]) by mails.dpdk.org (Postfix) with ESMTP id C01E040041; Thu, 20 Feb 2025 16:14:04 +0100 (CET) Received: from mail-yw1-f227.google.com (mail-yw1-f227.google.com [209.85.128.227]) by mails.dpdk.org (Postfix) with ESMTP id 02D7C4003C for ; Thu, 20 Feb 2025 16:14:03 +0100 (CET) Received: by mail-yw1-f227.google.com with SMTP id 00721157ae682-6f4434b5305so8257117b3.3 for ; Thu, 20 Feb 2025 07:14:03 -0800 (PST) DKIM-Signature: v=1; a=rsa-sha256; c=relaxed/relaxed; d=iol.unh.edu; s=unh-iol; t=1740064443; x=1740669243; darn=dpdk.org; h=references:in-reply-to:cc:to:from:subject:message-id:date:from:to :cc:subject:date:message-id:reply-to; bh=iEXbxKMre46WhAWkH7KS1grH7rc5LYWo5kPOr55FrkY=; b=a2UBOmeYW5MKW51fQJ3gOqjq4rogd3EPD8OUUz+7xFSzw/T0a5cvCmYj1ST/IaTE+T Fgl+GVPvQDobncarOnQAfGhiK0xKLwxuXdA72NhMXYd3LeIiusae57IpBBV4tekBbFmv 3OG/d8uYaz78SuSeMnyZeqboxa8CcBbaMsyVY= X-Google-DKIM-Signature: v=1; a=rsa-sha256; c=relaxed/relaxed; d=1e100.net; s=20230601; t=1740064443; x=1740669243; h=references:in-reply-to:cc:to:from:subject:message-id:date :x-gm-message-state:from:to:cc:subject:date:message-id:reply-to; bh=iEXbxKMre46WhAWkH7KS1grH7rc5LYWo5kPOr55FrkY=; b=p239mfgvcFyCwNWEYhMAqjgTooYR/1Yv5twMahmiMwEqN1hZi8m8Evo2McrgQNG5Oz tr4iRfbsf7nn/ocGh4GsjRX6leRDnF5RBXves9j+jk/zuRQB7Afl2F+nVhBHBNbvcoER TCpey2LuXADInAtqNjFWzUTWqWq8l48qG1PeufE5x9aW1IIj4lFVxENXrSOyvoxCarYe 9p/lmTPQhW0cnmL6w6qIej6x5Ub1ajwNCtxOnHXNnQKVpzrgUHtSFWNMeCfaoEYAyPqt USKxi9+/1XoyW7187BpYjPoKCXy3peLO6sYoYBLMDp2ZcqUi9bPlA9Q4wQ5PQSBAOMLw 8dxg== X-Gm-Message-State: AOJu0Yzn/76nmcz8uCHNDPgOvxkN6mXHPiHA19hhE/nJkJOoS+A05x+d V8MleYxMz0OUCgcxJUNQ08SCQNsmPPTmHWKD3WXh4p14cGjTWBLPhXarYIamuqomLyssRQ7jeCR AlRmCm65/vC2Jowzepz+F9rESRlacj5ioHFX97ddr X-Gm-Gg: ASbGncsYEpOk5fOTSBv3t97dGqq2TOPGr4xNw5QAib842L1ERCjsJI96fBZ8S/yM0bz lrh+3XVXqHbX6Er/eIh6zp2I+9qXXKDyNRLzbMjWxblGbJPFVJehgKjct8YcPjtWq8v17Q5yKdT jmjKZnP47Nu+4TqEb7nbBGPlotjQoqYtcbFSDjWyqKxAvTlrEI1k8WxNpCRkMN0VNvK9s9BfCp1 Et+dH4vDuLRhNviQHjLgYa9WZ8/en1Vp6X0wxIl3sYH+yiIwKvXVzM63oUwNn6/Z9zGLq8EcpVt 9moi/WQvNX3aFlKQdZwFVYtcPF1pRA== X-Google-Smtp-Source: AGHT+IEKlFwhL+hTMN2vilgzwoQ3YNF+VlxdFSR4XVmOf193jh7CNfpMVDo0DUbKjDQ93CnwPnduGuk5SgXx X-Received: by 2002:a05:690c:9986:b0:6fb:9fb2:5841 with SMTP id 00721157ae682-6fb9fb261c0mr88631697b3.29.1740064443293; Thu, 20 Feb 2025 07:14:03 -0800 (PST) Received: from postal.iol.unh.edu (postal.iol.unh.edu. [132.177.123.84]) by smtp-relay.gmail.com with ESMTPS id 00721157ae682-6fb35d4ef6asm4540007b3.24.2025.02.20.07.14.03 (version=TLS1_2 cipher=ECDHE-ECDSA-AES128-GCM-SHA256 bits=128/128); Thu, 20 Feb 2025 07:14:03 -0800 (PST) X-Relaying-Domain: iol.unh.edu Date: Thu, 20 Feb 2025 07:14:03 -0800 (PST) Message-ID: <67b746bb.050a0220.a5696.62a9SMTPIN_ADDED_MISSING@mx.google.com> Received: from [172.17.0.3] (unknown [172.18.0.217]) by postal.iol.unh.edu (Postfix) with ESMTP id 470706052471; Thu, 20 Feb 2025 10:14:00 -0500 (EST) Subject: |SUCCESS| pw151667-151680 [PATCH] [v2,14/14] security: remove unnece From: dpdklab@iol.unh.edu To: Test Report Cc: dpdk-test-reports@iol.unh.edu In-Reply-To: <20250220023509.630569-15-stephen@networkplumber.org> References: <20250220023509.630569-15-stephen@networkplumber.org> Content-Type: text/plain X-BeenThere: test-report@dpdk.org X-Mailman-Version: 2.1.29 Precedence: list List-Id: automatic DPDK test reports List-Unsubscribe: , List-Archive: List-Post: List-Help: List-Subscribe: , Errors-To: test-report-bounces@dpdk.org Test-Label: iol-compile-amd64-testing Test-Status: SUCCESS http://dpdk.org/patch/151680 _Testing PASS_ Submitter: Stephen Hemminger Date: Thursday, February 20 2025 02:32:18 DPDK git baseline: Repo:dpdk Branch: master CommitID:fab31a03ba98e7457284df95dd9eef2223a4ccaa 151667-151680 --> testing pass Upstream job id: Windows-Compile-DPDK-Native#26791 Test environment and result as below: +---------------------+--------------------+-------------------+------------------+-------------------+-------------------------+ | Environment | dpdk_meson_compile | dpdk_compile_spdk | dpdk_compile_ovs | dpdk_msvc_compile | dpdk_llvm_clang_compile | +=====================+====================+===================+==================+===================+=========================+ | CentOS Stream 9 | PASS | PASS | SKIPPED | SKIPPED | SKIPPED | +---------------------+--------------------+-------------------+------------------+-------------------+-------------------------+ | CentOS Stream 10 | PASS | SKIPPED | SKIPPED | SKIPPED | SKIPPED | +---------------------+--------------------+-------------------+------------------+-------------------+-------------------------+ | Debian Bullseye | PASS | PASS | SKIPPED | SKIPPED | SKIPPED | +---------------------+--------------------+-------------------+------------------+-------------------+-------------------------+ | Fedora 40 (Clang) | PASS | PASS | SKIPPED | SKIPPED | SKIPPED | +---------------------+--------------------+-------------------+------------------+-------------------+-------------------------+ | Debian 12 | PASS | PASS | SKIPPED | SKIPPED | SKIPPED | +---------------------+--------------------+-------------------+------------------+-------------------+-------------------------+ | Fedora 41 (Clang) | PASS | PASS | PASS | SKIPPED | SKIPPED | +---------------------+--------------------+-------------------+------------------+-------------------+-------------------------+ | Fedora 40 | PASS | PASS | SKIPPED | SKIPPED | SKIPPED | +---------------------+--------------------+-------------------+------------------+-------------------+-------------------------+ | Fedora 41 | PASS | PASS | PASS | SKIPPED | SKIPPED | +---------------------+--------------------+-------------------+------------------+-------------------+-------------------------+ | openSUSE Leap 15 | PASS | SKIPPED | SKIPPED | SKIPPED | SKIPPED | +---------------------+--------------------+-------------------+------------------+-------------------+-------------------------+ | RHEL8 | PASS | SKIPPED | SKIPPED | SKIPPED | SKIPPED | +---------------------+--------------------+-------------------+------------------+-------------------+-------------------------+ | RHEL9 | PASS | SKIPPED | SKIPPED | SKIPPED | SKIPPED | +---------------------+--------------------+-------------------+------------------+-------------------+-------------------------+ | Ubuntu 20.04 | PASS | SKIPPED | SKIPPED | SKIPPED | SKIPPED | +---------------------+--------------------+-------------------+------------------+-------------------+-------------------------+ | Ubuntu 24.04 | PASS | PASS | PASS | SKIPPED | SKIPPED | +---------------------+--------------------+-------------------+------------------+-------------------+-------------------------+ | Ubuntu 22.04 | PASS | PASS | SKIPPED | SKIPPED | SKIPPED | +---------------------+--------------------+-------------------+------------------+-------------------+-------------------------+ | Alpine | PASS | SKIPPED | SKIPPED | SKIPPED | SKIPPED | +---------------------+--------------------+-------------------+------------------+-------------------+-------------------------+ | FreeBSD 13.4 | PASS | SKIPPED | SKIPPED | SKIPPED | SKIPPED | +---------------------+--------------------+-------------------+------------------+-------------------+-------------------------+ | FreeBSD 14.2 | PASS | SKIPPED | SKIPPED | SKIPPED | SKIPPED | +---------------------+--------------------+-------------------+------------------+-------------------+-------------------------+ | Windows Server 2022 | SKIPPED | SKIPPED | SKIPPED | PASS | PASS | +---------------------+--------------------+-------------------+------------------+-------------------+-------------------------+ CentOS Stream 9 Kernel: Depends on container host Compiler: gcc 11.5.0 20240719 (Red Hat 11.5.0-2) CentOS Stream 10 Kernel: Depends on container host Compiler: gcc 14.2.1 20241104 (Red Hat 14.2.1-6) Debian Bullseye Kernel: Depends on container host Compiler: gcc (Debian 10.2.1-6) 10.2.1 20210110 Fedora 40 (Clang) Kernel: Depends on container host Compiler: clang 18.1.8 (Fedora 18.1.8-1.fc40) Debian 12 Kernel: Depends on container host Compiler: gcc (Debian 12.2.0-14) 12.2.0 Fedora 41 (Clang) Kernel: Depends on container host Compiler: clang 19.1.5 (Fedora 19.1.5-1.fc41) Fedora 40 Kernel: Depends on container host Compiler: gcc 14.2.1 20240912 (Red Hat 14.2.1-3) Fedora 41 Kernel: Depends on container host Compiler: gcc 14.2.1 20240912 (Red Hat 14.2.1-3) openSUSE Leap 15 Kernel: Depends on container host Compiler: gcc (SUSE Linux) 7.5.0 RHEL8 Kernel: Depends on container host Compiler: gcc 8.5.0 20210514 (Red Hat 8.5.0-22) RHEL9 Kernel: Depends on container host Compiler: gcc 11.5.0 20240719 (Red Hat 11.5.0-2) Ubuntu 20.04 Kernel: Depends on container host Compiler: gcc (Ubuntu 9.4.0-1ubuntu1~20.04.2) 9.4.0 Ubuntu 24.04 Kernel: Depends on container host Compiler: gcc (Ubuntu 13.3.0-6ubuntu2~24.04) 13.3.0 Ubuntu 22.04 Kernel: Depends on container host Compiler: gcc (Ubuntu 11.4.0-1ubuntu1~22.04) 11.4.0 Alpine Kernel: Depends on container host Compiler: gcc (Alpine 14.2.0) 14.2.0 FreeBSD 13.4 Kernel: 13.4-RELEASE-p1 Compiler: clang 18.1.6 FreeBSD 14.2 Kernel: 14.2-RELEASE Compiler: clang 18.1.6 Windows Server 2022 Kernel: 10.0.20348.2031 Compiler: clang 15.0.7, gcc 14.1.0 (MinGW), and MSVC VS 19.39.33521 To view detailed results, visit: https://lab.dpdk.org/results/dashboard/patchsets/32616/ UNH-IOL DPDK Community Lab To manage your email subscriptions, visit: https://lab.dpdk.org/results/dashboard/preferences/subscriptions/