From mboxrd@z Thu Jan 1 00:00:00 1970 Return-Path: Received: from mails.dpdk.org (mails.dpdk.org [217.70.189.124]) by inbox.dpdk.org (Postfix) with ESMTP id 1FC974627E for ; Thu, 20 Feb 2025 16:28:12 +0100 (CET) Received: from mails.dpdk.org (localhost [127.0.0.1]) by mails.dpdk.org (Postfix) with ESMTP id EF3BF40041; Thu, 20 Feb 2025 16:28:11 +0100 (CET) Received: from mail-il1-f227.google.com (mail-il1-f227.google.com [209.85.166.227]) by mails.dpdk.org (Postfix) with ESMTP id B558E4003C for ; Thu, 20 Feb 2025 16:28:10 +0100 (CET) Received: by mail-il1-f227.google.com with SMTP id e9e14a558f8ab-3ce873818a3so8934345ab.1 for ; Thu, 20 Feb 2025 07:28:10 -0800 (PST) DKIM-Signature: v=1; a=rsa-sha256; c=relaxed/relaxed; d=iol.unh.edu; s=unh-iol; t=1740065290; x=1740670090; darn=dpdk.org; h=references:in-reply-to:cc:to:from:subject:message-id:date:from:to :cc:subject:date:message-id:reply-to; bh=2QD/zOz7CtO4+fQMz0/v17InRvgfWG14p+lNYhGPfX4=; b=Z4jNsftx/TSNW1ISNIQMz36g6ABJDB5OmjsbYiAcTISyq0Xx2F+kHgZCNfwOERv9QJ gOImKz1DhdA1N2UL0FgyuyTFpm9d3YhJmvUXbUpEAsHR5aICiShyWqcvrz5IcRJkgzC+ zez2lad7anoOTPlCTjSdNN0p+MB9oTToPIhR4= X-Google-DKIM-Signature: v=1; a=rsa-sha256; c=relaxed/relaxed; d=1e100.net; s=20230601; t=1740065290; x=1740670090; h=references:in-reply-to:cc:to:from:subject:message-id:date :x-gm-message-state:from:to:cc:subject:date:message-id:reply-to; bh=2QD/zOz7CtO4+fQMz0/v17InRvgfWG14p+lNYhGPfX4=; b=tGApeT3Fj1NOb1Wtgp0TV61o547jILs407HCthd/gD2jD9Iq1afpQTotPGOyaNSEjc p4qVNOf1z3gPz8NNsHag1mUGRsAQ3mlrAX5l4yg6UKlubfYDE7nJu0Yzh2af2kZeNveM O9owes83pcW71ZieVWTeYBU77t1WZU8fAb7XikB6pouQnICP/B2lNGhpbpoWgZm19Azb tRgl7+IhhDp2ubGOfx0L/BJX/ghcE6b7GAS2QptXYSsM9EOlxmUld0T1bIxlT//lq5nK mqad5uj/2LMRAxtqYcNIM3BZ4/90LYMBlyRAkQ/hmEQCBYyVoch8xSTNWNi/LKOspXs1 J0Sg== X-Gm-Message-State: AOJu0YyNDKIdzuJZlXK74Brg0UYXMv5SzCjL2bLv1gk1oypkuPM0vjhe 2R4mhmejxFo95jaE9mnuvzr3iPXHH4JyInaYulqLgEpM3lZbmxHzOGa68LzbXoaJMEcGwZ64BG3 e9aSW/Z0oH8f4xecbnJb1OBJ+SZ8eIn8aws+4Cbcm X-Gm-Gg: ASbGnctwqlS7fMTfIRgh3p9ImoPdTycmHPOiMtgxYp5zDnfWqMURehRrKO/5tirI4hq z4fumExhntbdDiu4AMVkVSQxvY+7m3qlOFHpshVXK3F2mmNQb/QFDg6/L1PvsOEQHLlFVCrvrnW 5Y19k9FUHve/NgP4nboMlhQJ2ISnpTMD/m9LIu0pLEBXZoACjygOswidoSaAu+Inb3ydukqCiBO 6KOeoxmyKPfv+n/a86lnK8gky6qw0YQ7YpN0A0SaGU5kli7VpSRzJvDJIVKbsOaUVsZi8MHcCnT +rMbiN56C3xBawwvnaauYXVh+qxDTA== X-Google-Smtp-Source: AGHT+IG3ZcCZBv70BZDjucDTZ2wQ4tgQMSlHBStOmxWtdrDuH05Crtj5mQLE8MJjmb12aZRIJ0uuhbIRkExD X-Received: by 2002:a05:6e02:1849:b0:3ce:8ed9:ca94 with SMTP id e9e14a558f8ab-3d2c25deed3mr28901435ab.14.1740065290052; Thu, 20 Feb 2025 07:28:10 -0800 (PST) Received: from postal.iol.unh.edu (postal.iol.unh.edu. [132.177.123.84]) by smtp-relay.gmail.com with ESMTPS id e9e14a558f8ab-3d2a8e89635sm3995795ab.5.2025.02.20.07.28.09 (version=TLS1_2 cipher=ECDHE-ECDSA-AES128-GCM-SHA256 bits=128/128); Thu, 20 Feb 2025 07:28:10 -0800 (PST) X-Relaying-Domain: iol.unh.edu Date: Thu, 20 Feb 2025 07:28:10 -0800 (PST) Message-ID: <67b74a0a.920a0220.358f26.4f56SMTPIN_ADDED_MISSING@mx.google.com> Received: from [172.17.0.3] (unknown [172.18.0.217]) by postal.iol.unh.edu (Postfix) with ESMTP id 89FB06052471; Thu, 20 Feb 2025 10:28:09 -0500 (EST) Subject: |SUCCESS| pw151684 [PATCH] bus: invoke TAILQ_REMOVE when bus cleanup From: dpdklab@iol.unh.edu To: Test Report Cc: dpdk-test-reports@iol.unh.edu In-Reply-To: <20250220080906.49705-1-fengchengwen@huawei.com> References: <20250220080906.49705-1-fengchengwen@huawei.com> Content-Type: text/plain X-BeenThere: test-report@dpdk.org X-Mailman-Version: 2.1.29 Precedence: list List-Id: automatic DPDK test reports List-Unsubscribe: , List-Archive: List-Post: List-Help: List-Subscribe: , Errors-To: test-report-bounces@dpdk.org Test-Label: iol-unit-arm64-testing Test-Status: SUCCESS http://dpdk.org/patch/151684 _Testing PASS_ Submitter: Chengwen Feng Date: Thursday, February 20 2025 08:09:06 DPDK git baseline: Repo:dpdk Branch: master CommitID:fab31a03ba98e7457284df95dd9eef2223a4ccaa 151684 --> testing pass Upstream job id: Generic-Unit-Test-DPDK#316571 Test environment and result as below: +-----------------------------+----------------+---------------------------+--------------+------------------------------+ | Environment | dpdk_unit_test | cryptodev_sw_zuc_autotest | lpm_autotest | cryptodev_sw_snow3g_autotest | +=============================+================+===========================+==============+==============================+ | CentOS Stream 9 (ARM) | PASS | SKIPPED | SKIPPED | SKIPPED | +-----------------------------+----------------+---------------------------+--------------+------------------------------+ | CentOS Stream 10 (ARM) | PASS | SKIPPED | SKIPPED | SKIPPED | +-----------------------------+----------------+---------------------------+--------------+------------------------------+ | Debian 11 (Buster) (ARM) | PASS | SKIPPED | SKIPPED | SKIPPED | +-----------------------------+----------------+---------------------------+--------------+------------------------------+ | Debian 12 (arm) | PASS | PASS | SKIPPED | PASS | +-----------------------------+----------------+---------------------------+--------------+------------------------------+ | Fedora 40 (ARM) | PASS | SKIPPED | SKIPPED | SKIPPED | +-----------------------------+----------------+---------------------------+--------------+------------------------------+ | Fedora 41 (ARM) | PASS | SKIPPED | SKIPPED | SKIPPED | +-----------------------------+----------------+---------------------------+--------------+------------------------------+ | Fedora 40 (ARM Clang) | PASS | SKIPPED | SKIPPED | SKIPPED | +-----------------------------+----------------+---------------------------+--------------+------------------------------+ | Fedora 41 (ARM Clang) | PASS | SKIPPED | SKIPPED | SKIPPED | +-----------------------------+----------------+---------------------------+--------------+------------------------------+ | Ubuntu 22.04 (ARM) | PASS | SKIPPED | SKIPPED | SKIPPED | +-----------------------------+----------------+---------------------------+--------------+------------------------------+ | Ubuntu 24.04 (ARM) | PASS | SKIPPED | SKIPPED | SKIPPED | +-----------------------------+----------------+---------------------------+--------------+------------------------------+ | RHEL9 (ARM) | PASS | SKIPPED | SKIPPED | SKIPPED | +-----------------------------+----------------+---------------------------+--------------+------------------------------+ | Ubuntu 20.04 (ARM) | PASS | SKIPPED | SKIPPED | SKIPPED | +-----------------------------+----------------+---------------------------+--------------+------------------------------+ | 32-bit Ubuntu 22.04.4 (ARM) | PASS | SKIPPED | SKIPPED | SKIPPED | +-----------------------------+----------------+---------------------------+--------------+------------------------------+ | Ubuntu 20.04 ARM SVE | SKIPPED | SKIPPED | PASS | SKIPPED | +-----------------------------+----------------+---------------------------+--------------+------------------------------+ CentOS Stream 9 (ARM) Kernel: Depends on container host Compiler: gcc 11.5.0 20240719 (Red Hat 11.5.0-2) CentOS Stream 10 (ARM) Kernel: Depends on container host Compiler: gcc 14.2.1 20241104 (Red Hat 14.2.1-6) Debian 11 (Buster) (ARM) Kernel: Depends on container host Compiler: gcc (Debian 10.2.1-6) 10.2.1 20210110 Debian 12 (arm) Kernel: Depends on container host Compiler: gcc (Debian 12.2.0-14) 12.2.0 Fedora 40 (ARM) Kernel: Depends on container host Compiler: gcc 14.2.1 20240912 (Red Hat 14.2.1-3) Fedora 41 (ARM) Kernel: Depends on container host Compiler: gcc 14.2.1 20240912 (Red Hat 14.2.1-3) Fedora 40 (ARM Clang) Kernel: Depends on container host Compiler: clang 18.1.8 (Fedora 18.1.8-1.fc40) Fedora 41 (ARM Clang) Kernel: Depends on container host Compiler: clang 19.1.5 (Fedora 19.1.5-1.fc41) Ubuntu 22.04 (ARM) Kernel: Depends on container host Compiler: gcc (Ubuntu 11.4.0-1ubuntu1~22.04) 11.4.0 Ubuntu 24.04 (ARM) Kernel: Depends on container host Compiler: gcc (Ubuntu 13.3.0-6ubuntu2~24.04) 13.3.0 RHEL9 (ARM) Kernel: Depends on container host Compiler: gcc 11.5.0 20240719 (Red Hat 11.5.0-2) Ubuntu 20.04 (ARM) Kernel: Depends on container host Compiler: gcc (Ubuntu 9.4.0-1ubuntu1~20.04.2) 9.4.0 32-bit Ubuntu 22.04.4 (ARM) Kernel: 5.15.83+ aarch64 Compiler: gcc (Ubuntu 11.4.0-1ubuntu1~22.04) 11.4.0 Ubuntu 20.04 ARM SVE Kernel: Depends on container host Compiler: gcc (Ubuntu 10.5.0-1ubuntu1~20.04) 10.5.0 To view detailed results, visit: https://lab.dpdk.org/results/dashboard/patchsets/32619/ UNH-IOL DPDK Community Lab To manage your email subscriptions, visit: https://lab.dpdk.org/results/dashboard/preferences/subscriptions/