From mboxrd@z Thu Jan 1 00:00:00 1970 Return-Path: Received: from mails.dpdk.org (mails.dpdk.org [217.70.189.124]) by inbox.dpdk.org (Postfix) with ESMTP id B678B4627E for ; Thu, 20 Feb 2025 16:34:32 +0100 (CET) Received: from mails.dpdk.org (localhost [127.0.0.1]) by mails.dpdk.org (Postfix) with ESMTP id 8DDB540041; Thu, 20 Feb 2025 16:34:32 +0100 (CET) Received: from mail-io1-f98.google.com (mail-io1-f98.google.com [209.85.166.98]) by mails.dpdk.org (Postfix) with ESMTP id 37B3B4003C for ; Thu, 20 Feb 2025 16:34:31 +0100 (CET) Received: by mail-io1-f98.google.com with SMTP id ca18e2360f4ac-85592116ca4so85721039f.1 for ; Thu, 20 Feb 2025 07:34:31 -0800 (PST) DKIM-Signature: v=1; a=rsa-sha256; c=relaxed/relaxed; d=iol.unh.edu; s=unh-iol; t=1740065670; x=1740670470; darn=dpdk.org; h=references:in-reply-to:cc:to:from:subject:message-id:date:from:to :cc:subject:date:message-id:reply-to; bh=WxAczilJmiE1oKRrfmLvbQPAIl/o8kaqIcHLBa9G/XQ=; b=TVKPHFurcDGW8fLvyGwn3crhcy2GoE2mSwPOD/lG0gfJZjVKkJAIn5vblQSjMaOH5t gtOeZWgMIreBVtzqL7sq4tqszZsTO8yslLvCoYM7NqwMwRyVEFfp4bK3Ldu3Nyg7eg2C hBkH5XAbAue4jZJ+v4z3h/7qtt3izz3pyygYs= X-Google-DKIM-Signature: v=1; a=rsa-sha256; c=relaxed/relaxed; d=1e100.net; s=20230601; t=1740065670; x=1740670470; h=references:in-reply-to:cc:to:from:subject:message-id:date :x-gm-message-state:from:to:cc:subject:date:message-id:reply-to; bh=WxAczilJmiE1oKRrfmLvbQPAIl/o8kaqIcHLBa9G/XQ=; b=XuMQON/tBICvgUDiA5FrO6rIZHM1H1jsJ1jqOorDkYlc+Coj/0RCKZS8Wn9jE4pN5r Ze+lwHQCFCDoAmNU4oaoQ6rwjBshBmIW9hJk9Z2uElU9e6/zowT/KHLOyRLZv/EGI3ex /63KUE+iPO3OJxKURezzNynUdlx5RaAC0s/AoiNMCDygp18c6YNgSg5D7Zxj8MfhU8eD /Wwoop355853lTAsVuptDymJqtAHlztn+lddTy69lqs3+e35C0S7wUJ4j3XW7u3a5wfg f/pftwiuYJ2UN+4GImPClyiI8IYu9ldQM6TUlFJEsCOPzbL19ns24tVqLakYhKnHXxPQ CT+w== X-Gm-Message-State: AOJu0YzqEIznm/1IAiKD5QKs545+/80dz1esDC4wMiZ1p8c9+SQfeY2t hwWWBF3nhgFyCxYWpQ1h+lhmNbrKNwzEX4LHYmA8gUIGo2P9lyyxvkYKDCsesgJfU5xI8pP0qVY TK17JLJIvH8fJt8crT8KESAg6i2gdXc5YPYqs2how X-Gm-Gg: ASbGncteKq9WO4V/VdThYVdnG63/oMcNVQ/L8hgwfkrCWsD/bDQjz30+pm8PNjFnJ+Q +kDV8BGb9UFc5Uo36bXxbauY0HeIFD3XAMOp1HbQJ7syHo+jqaNj8Ol74hAGUCZsDoBQkaxia3i Nr4RrioqDvgbPttbwMlz6QX8e1A5k7BY6Xhx0boUuIAC5arAwDxGSVQ0iIYgTxnw0/7dbVpXgXP j83yBBLRIIpVOoVf6py6ceYJmOTquLCazwFWrXiNb038dsjDaq23CZPibjNQ5i9S8XAmOWyAF4N WKQoTj3Au8UzMcM5BJuj3TIz5wBS/w== X-Google-Smtp-Source: AGHT+IEBE7UpJr6DWI3g/Rp1gdYKTiRhfApluLQVeEfqYXIU8GLnmCU/YcdHZuqC8AgxEvjWI6wkEZdvUgyG X-Received: by 2002:a05:6602:6d11:b0:855:670a:e687 with SMTP id ca18e2360f4ac-855b396d596mr824995939f.3.1740065670504; Thu, 20 Feb 2025 07:34:30 -0800 (PST) Received: from postal.iol.unh.edu (postal.iol.unh.edu. [132.177.123.84]) by smtp-relay.gmail.com with ESMTPS id 8926c6da1cb9f-4eeadbcd6c0sm384758173.32.2025.02.20.07.34.30 (version=TLS1_2 cipher=ECDHE-ECDSA-AES128-GCM-SHA256 bits=128/128); Thu, 20 Feb 2025 07:34:30 -0800 (PST) X-Relaying-Domain: iol.unh.edu Date: Thu, 20 Feb 2025 07:34:30 -0800 (PST) Message-ID: <67b74b86.050a0220.1ed359.33dfSMTPIN_ADDED_MISSING@mx.google.com> Received: from [172.17.0.6] (unknown [172.18.0.217]) by postal.iol.unh.edu (Postfix) with ESMTP id 098F46052471; Thu, 20 Feb 2025 10:34:30 -0500 (EST) Subject: |SUCCESS| pw151684 [PATCH] bus: invoke TAILQ_REMOVE when bus cleanup From: dpdklab@iol.unh.edu To: Test Report Cc: dpdk-test-reports@iol.unh.edu In-Reply-To: <20250220080906.49705-1-fengchengwen@huawei.com> References: <20250220080906.49705-1-fengchengwen@huawei.com> Content-Type: text/plain X-BeenThere: test-report@dpdk.org X-Mailman-Version: 2.1.29 Precedence: list List-Id: automatic DPDK test reports List-Unsubscribe: , List-Archive: List-Post: List-Help: List-Subscribe: , Errors-To: test-report-bounces@dpdk.org Test-Label: iol-compile-amd64-testing Test-Status: SUCCESS http://dpdk.org/patch/151684 _Testing PASS_ Submitter: Chengwen Feng Date: Thursday, February 20 2025 08:09:06 DPDK git baseline: Repo:dpdk Branch: master CommitID:fab31a03ba98e7457284df95dd9eef2223a4ccaa 151684 --> testing pass Upstream job id: Generic-DPDK-Compile-Meson#363387 Test environment and result as below: +---------------------+--------------------+-------------------+------------------+-------------------+ | Environment | dpdk_meson_compile | dpdk_compile_spdk | dpdk_compile_ovs | dpdk_msvc_compile | +=====================+====================+===================+==================+===================+ | CentOS Stream 9 | PASS | PASS | SKIPPED | SKIPPED | +---------------------+--------------------+-------------------+------------------+-------------------+ | Debian Bullseye | PASS | PASS | SKIPPED | SKIPPED | +---------------------+--------------------+-------------------+------------------+-------------------+ | CentOS Stream 10 | PASS | SKIPPED | SKIPPED | SKIPPED | +---------------------+--------------------+-------------------+------------------+-------------------+ | Fedora 41 (Clang) | PASS | PASS | PASS | SKIPPED | +---------------------+--------------------+-------------------+------------------+-------------------+ | Fedora 40 (Clang) | PASS | PASS | SKIPPED | SKIPPED | +---------------------+--------------------+-------------------+------------------+-------------------+ | Debian 12 | PASS | PASS | SKIPPED | SKIPPED | +---------------------+--------------------+-------------------+------------------+-------------------+ | Fedora 40 | PASS | PASS | SKIPPED | SKIPPED | +---------------------+--------------------+-------------------+------------------+-------------------+ | openSUSE Leap 15 | PASS | SKIPPED | SKIPPED | SKIPPED | +---------------------+--------------------+-------------------+------------------+-------------------+ | RHEL8 | PASS | SKIPPED | SKIPPED | SKIPPED | +---------------------+--------------------+-------------------+------------------+-------------------+ | RHEL9 | PASS | SKIPPED | SKIPPED | SKIPPED | +---------------------+--------------------+-------------------+------------------+-------------------+ | Fedora 41 | PASS | PASS | PASS | SKIPPED | +---------------------+--------------------+-------------------+------------------+-------------------+ | Ubuntu 20.04 | PASS | SKIPPED | SKIPPED | SKIPPED | +---------------------+--------------------+-------------------+------------------+-------------------+ | Ubuntu 22.04 | PASS | PASS | SKIPPED | SKIPPED | +---------------------+--------------------+-------------------+------------------+-------------------+ | Ubuntu 24.04 | PASS | PASS | PASS | SKIPPED | +---------------------+--------------------+-------------------+------------------+-------------------+ | Alpine | PASS | SKIPPED | SKIPPED | SKIPPED | +---------------------+--------------------+-------------------+------------------+-------------------+ | FreeBSD 13.4 | PASS | SKIPPED | SKIPPED | SKIPPED | +---------------------+--------------------+-------------------+------------------+-------------------+ | FreeBSD 14.2 | PASS | SKIPPED | SKIPPED | SKIPPED | +---------------------+--------------------+-------------------+------------------+-------------------+ | Windows Server 2022 | SKIPPED | SKIPPED | SKIPPED | PASS | +---------------------+--------------------+-------------------+------------------+-------------------+ CentOS Stream 9 Kernel: Depends on container host Compiler: gcc 11.5.0 20240719 (Red Hat 11.5.0-2) Debian Bullseye Kernel: Depends on container host Compiler: gcc (Debian 10.2.1-6) 10.2.1 20210110 CentOS Stream 10 Kernel: Depends on container host Compiler: gcc 14.2.1 20241104 (Red Hat 14.2.1-6) Fedora 41 (Clang) Kernel: Depends on container host Compiler: clang 19.1.5 (Fedora 19.1.5-1.fc41) Fedora 40 (Clang) Kernel: Depends on container host Compiler: clang 18.1.8 (Fedora 18.1.8-1.fc40) Debian 12 Kernel: Depends on container host Compiler: gcc (Debian 12.2.0-14) 12.2.0 Fedora 40 Kernel: Depends on container host Compiler: gcc 14.2.1 20240912 (Red Hat 14.2.1-3) openSUSE Leap 15 Kernel: Depends on container host Compiler: gcc (SUSE Linux) 7.5.0 RHEL8 Kernel: Depends on container host Compiler: gcc 8.5.0 20210514 (Red Hat 8.5.0-22) RHEL9 Kernel: Depends on container host Compiler: gcc 11.5.0 20240719 (Red Hat 11.5.0-2) Fedora 41 Kernel: Depends on container host Compiler: gcc 14.2.1 20240912 (Red Hat 14.2.1-3) Ubuntu 20.04 Kernel: Depends on container host Compiler: gcc (Ubuntu 9.4.0-1ubuntu1~20.04.2) 9.4.0 Ubuntu 22.04 Kernel: Depends on container host Compiler: gcc (Ubuntu 11.4.0-1ubuntu1~22.04) 11.4.0 Ubuntu 24.04 Kernel: Depends on container host Compiler: gcc (Ubuntu 13.3.0-6ubuntu2~24.04) 13.3.0 Alpine Kernel: Depends on container host Compiler: gcc (Alpine 14.2.0) 14.2.0 FreeBSD 13.4 Kernel: 13.4-RELEASE-p1 Compiler: clang 18.1.6 FreeBSD 14.2 Kernel: 14.2-RELEASE Compiler: clang 18.1.6 Windows Server 2022 Kernel: 10.0.20348.2031 Compiler: clang 15.0.7, gcc 14.1.0 (MinGW), and MSVC VS 19.39.33521 To view detailed results, visit: https://lab.dpdk.org/results/dashboard/patchsets/32619/ UNH-IOL DPDK Community Lab To manage your email subscriptions, visit: https://lab.dpdk.org/results/dashboard/preferences/subscriptions/