From mboxrd@z Thu Jan 1 00:00:00 1970 Return-Path: Received: from mails.dpdk.org (mails.dpdk.org [217.70.189.124]) by inbox.dpdk.org (Postfix) with ESMTP id C70204627E for ; Thu, 20 Feb 2025 16:43:21 +0100 (CET) Received: from mails.dpdk.org (localhost [127.0.0.1]) by mails.dpdk.org (Postfix) with ESMTP id A60DE40041; Thu, 20 Feb 2025 16:43:21 +0100 (CET) Received: from mail-pj1-f98.google.com (mail-pj1-f98.google.com [209.85.216.98]) by mails.dpdk.org (Postfix) with ESMTP id 2B8CA4003C for ; Thu, 20 Feb 2025 16:43:20 +0100 (CET) Received: by mail-pj1-f98.google.com with SMTP id 98e67ed59e1d1-2fc20e0f0ceso1700324a91.3 for ; Thu, 20 Feb 2025 07:43:20 -0800 (PST) DKIM-Signature: v=1; a=rsa-sha256; c=relaxed/relaxed; d=iol.unh.edu; s=unh-iol; t=1740066199; x=1740670999; darn=dpdk.org; h=references:in-reply-to:cc:to:from:subject:message-id:date:from:to :cc:subject:date:message-id:reply-to; bh=X1Z4DXFiJM8Oh+4fkTOGZOQTDhK8GpnrKbdfL5uyTfQ=; b=aFmPSMKtG19Yq4kK04yjoYvNNSX2D/FnncmA+TwRcX2s5Z/vidkqYNjJj0tTBk+Z3G jZ4nQgiLN22VrT39tI1hKjBE5at0JANqm+6Q6qNDOQVjgl1jqtFoiX/232iXkmJSh49D yvbciYjNO7if6dEzrSn0iiesHiwebAFlgRShs= X-Google-DKIM-Signature: v=1; a=rsa-sha256; c=relaxed/relaxed; d=1e100.net; s=20230601; t=1740066199; x=1740670999; h=references:in-reply-to:cc:to:from:subject:message-id:date :x-gm-message-state:from:to:cc:subject:date:message-id:reply-to; bh=X1Z4DXFiJM8Oh+4fkTOGZOQTDhK8GpnrKbdfL5uyTfQ=; b=ohqe8D2lAr6YUfZTWANJ8tdFimxp/RdybtY57oyirNVwL94G13w0YAs2bpt9myU2pC ACC1Zvcavirsf17YCWmjHSHGTav0DVAm51NhbYfCZCwAIMjMSzzpOv5hSFC5VtLTmC1H hmmhEjjjPK3EUZXbyHXBye67vdxacK/nFg+qL2oA1+wB+6VS0DgncHy92N9nVnS0q/Xa HxJ8DOH+dwAbKriOT7Tl9HpwD4eJ9TTRxcoLEwg2N27TaEKb6YdIPecH8pu6uKj5Gp9E g7bB99eyLsvozsjbGSNQikm/d1BYtKHxc6Zk6jzHNtWBUlmENX//v4WeV+71ND473ytB oMkA== X-Gm-Message-State: AOJu0Yz9QOeVvpdnT8ADsnHezK3KF2ZxS/fGsXO0iHsAk813ROeDevG3 Q21o4verHh4/X3GVLXmH9BXwZPz2UV1YmrjYIKOZwFk+DWrd11E6Dezl6FY0D8FQhnDfSrXAjBs jWmtzusY5YmJMgniyqcsQPBR5kCB4xF3sysaIgpVm X-Gm-Gg: ASbGnctmwH2YyA3jCZYx9RwIuEfMmIELVbzADWIRKwQytbBHm6V7Jk9sDSmGvTzmZuF OagTHbQTXAbyMENwlQiu+T+GWr0t0fBjYUqMRzx1yBHPDGUJ5y8fm9VhGpcvgpozdZzzmH4iOll sXF4dbEs+jfiV31qgE9nvgTAq28AO05Q+og8qsnjxoXADEj36sFTODfdMVPsFQe0uiccEbGDj1C ho9+dXk6SXcLIXwu0/iSaqioLeIR1iPhKlcFCnXjhOcHD2yG4hFhwlOOaTGyqAf9LV8IO2blEPz NrDYP6Tt6p6Xf3LXI3cY1uaYSXNtUQ== X-Google-Smtp-Source: AGHT+IGFdaC+Nsg3WUXubXtxgHhJGPma3JoTAVYLoS/4A3MNj9z1s1PaF0UndEuBe5+4oOCwKVyn6aTSh9ak X-Received: by 2002:a17:90b:1d85:b0:2ee:3cc1:793a with SMTP id 98e67ed59e1d1-2fcb5abada6mr12879876a91.29.1740066199335; Thu, 20 Feb 2025 07:43:19 -0800 (PST) Received: from postal.iol.unh.edu (postal.iol.unh.edu. [132.177.123.84]) by smtp-relay.gmail.com with ESMTPS id 98e67ed59e1d1-2fc13a9c5dbsm959147a91.1.2025.02.20.07.43.19 (version=TLS1_2 cipher=ECDHE-ECDSA-AES128-GCM-SHA256 bits=128/128); Thu, 20 Feb 2025 07:43:19 -0800 (PST) X-Relaying-Domain: iol.unh.edu Date: Thu, 20 Feb 2025 07:43:19 -0800 (PST) Message-ID: <67b74d97.170a0220.135e40.261dSMTPIN_ADDED_MISSING@mx.google.com> Received: from [172.21.0.5] (unknown [172.18.0.240]) by postal.iol.unh.edu (Postfix) with ESMTP id 87BF66052471; Thu, 20 Feb 2025 10:43:18 -0500 (EST) Subject: |SUCCESS| pw151681-151682 [PATCH] [2/2] app/testpmd: fix segment fau From: dpdklab@iol.unh.edu To: Test Report Cc: dpdk-test-reports@iol.unh.edu In-Reply-To: <20250220070651.42123-3-fengchengwen@huawei.com> References: <20250220070651.42123-3-fengchengwen@huawei.com> Content-Type: text/plain X-BeenThere: test-report@dpdk.org X-Mailman-Version: 2.1.29 Precedence: list List-Id: automatic DPDK test reports List-Unsubscribe: , List-Archive: List-Post: List-Help: List-Subscribe: , Errors-To: test-report-bounces@dpdk.org Test-Label: iol-sample-apps-testing Test-Status: SUCCESS http://dpdk.org/patch/151682 _Testing PASS_ Submitter: Chengwen Feng Date: Thursday, February 20 2025 07:06:51 DPDK git baseline: Repo:dpdk Branch: master CommitID:2ada41444942b5b6562923c6250ec75c77842c2a 151681-151682 --> testing pass Upstream job id: ACVP-FIPS-testing#8971 Test environment and result as below: +--------------------+----------------------+----------------------+ | Environment | compressdev_zlib_pmd | dpdk_fips_validation | +====================+======================+======================+ | Ubuntu 22.04 (ARM) | PASS | SKIPPED | +--------------------+----------------------+----------------------+ | Ubuntu 22.04 | PASS | SKIPPED | +--------------------+----------------------+----------------------+ | Ubuntu 20.04 | SKIPPED | PASS | +--------------------+----------------------+----------------------+ Ubuntu 22.04 (ARM) Kernel: 5.15.0-97-generic Compiler: gcc gcc (Ubuntu 11.4.0-1ubuntu1~22.04) 11.4.0 Ubuntu 22.04 Kernel: 5.15.0-100-generic Compiler: gcc gcc (Ubuntu 11.4.0-1ubuntu1~22.04) 11.4.0 Ubuntu 20.04 Kernel: Depends on container host Compiler: gcc (Ubuntu 9.4.0-1ubuntu1~20.04.2) 9.4.0 To view detailed results, visit: https://lab.dpdk.org/results/dashboard/patchsets/32617/ UNH-IOL DPDK Community Lab To manage your email subscriptions, visit: https://lab.dpdk.org/results/dashboard/preferences/subscriptions/